Workbook

Sheet Inhaltsverzeichnis
A1: © Statistik Aargau
A2: www.ag.ch/statistik
A3: 062 835 13 00, statistik@ag.ch
J9: Schulstatistik 2015/16
B15: Tabellenverzeichnis
B17: Volksschule:
B18: Tabelle 1: | D18: Schülerinnen und Schüler der Volksschule und des Kindergartens (alle Schulen), 1977 – 2015
B19: Tabelle 2: | D19: Schülerinnen und Schüler der Volksschule und des Kindergartens (öff. Schulen), 1977 – 2015
B20: Tabelle 3: | D20: Schülerinnen und Schüler an Sonderschulen, 2015/16
B21: Tabelle 4: | D21: Schülerinnen und Schüler an Privatschulen mit Volksschulangebot, 2015/16
B22: Tabelle 5: | D22: Volksschülerinnen und Volksschüler nach Schulart, Geschlecht und Klasse, 2015/16
B23: Tabelle 6: | D23: Ausländische Volksschüler/innen nach Staatengruppe, 1998– 2015
B24: Tabelle 7: | D24: Ausländerinnen und Ausländer an der Volksschule nach Nationalität, 2015/16
B25: Tabelle 8: | D25: Ausländeranteil an der Volksschule, 1998–2015
B26: Tabelle 9: | D26: Volksschülerinnen und Volksschüler nach Schulart und Hauptsprache, 2015/16
B27: Tabelle 10: | D27: Lernende der Real-, Sekundar- und Bezirksschule mit Schulort = Wohnort, 1977 – 2015
B28: Tabelle 11: | D28: Verteilung auf die Oberstufenzüge nach Geschlecht und Sprache, 2015/16
B29: Tabelle 12: | D29: Repetitionen in der Oberstufe nach Geschlecht und Sprache, 2015/16
... B34: Tabelle 17: | D34: Klassengrösse in der Primarschule, 2015/16
B36: Brückenangebote:
B37: Tabelle 18: | D37: Lernende in Brückenangeboten der Kantonalen Schule für Berufsbildung, 2005 – 2015
B38: Tabelle 19: | D38: Private Brückenangebote, 2015/16
B40: Berufsfachschulen:
B41: Tabelle 20: | D41: Berufslernende nach Ausbildungsrichtung, 2015/16
B42: Tabelle 21: | D42: Lernende an Berufsfachschulen nach Geschlecht und Nationalität, 2015/16
B43: Tabelle 22: | D43: Berufslernende nach Berufsgruppe, 2015/16
B44: Tabelle 23: | D44: Meist gewählte Berufe nach Geschlecht, 2015/16
B45: Tabelle 24: | D45: Berufslernende des 1. Lehrjahres nach Vorbildung und Berufsgruppe, 2015/16
B46: Tabelle 25: | D46: Kaufmännische und Gewerblich-industrielle Berufsfachschulen und Bildungszentren, 2015/16
B47: Tabelle 26: | D47: Berufslernende im Gesundheitsbereich nach Geschlecht und Nationalität, 2015/16
B49: Mittelschulen:
B50: Tabelle 27: | D50: Lernende an Mittelschulen (ohne Aargauische Maturitätsschule für Erwachsene, AME), 1972 – 2015
B51: Tabelle 28: | D51: Lernende an Mittelschulen nach Schulort, 2015/16
B52: Tabelle 29: | D52: Schulklassen an den Mittelschulen, 1999 – 2015
B53: Tabelle 30: | D53: Lernende an Mittelschulen nach Geschlecht und Nationalität, 2015/16
B55: Techniker-, Fach- und Höhere Fachschulen:
B56: Tabelle 31: | D56: Studierende an Berufs-, Techniker-, Fach- und höhere Fachschulen, 2015/16
B58: Gemeindetabellen:
B59: Tabelle 32: | D59: Schülerinnen und Schüler an öffentlichen Volksschulen und Kindergarten nach Gemeinde, 2015/16
B60: Tabelle 33: | D60: Schulklassen an öffentlichen Volksschulen und Kindergarten nach Gemeinde, 2015/16
...

Sheet T1
A1: =Inhaltsverzeichnis!B18& " " &Inhaltsverzeichnis!D18 -> Tabelle 1: Schülerinnen und Schüler der Volksschule und des Kindergartens (alle Schulen), 1977 – 2015
B4: Jahr | C4: Kinder-garten1) | D4: Einschu-lungs-klasse | E4: Primar-schule | F4: Bezirks-schule | G4: Sekun-dar-schule | H4: Real-schule | I4: Klein-klasse | J4: Sonder-schule2) | K4: Berufs-wahljahr | L4: IBK / RIK/ KIK3) | M4: Werk-jahr | N4: Hauswirt. Jahres-kurs | O4: Total
B5: 1977 | C5: 9497 | D5: 372 | E5: 35925 | F5: 10821 | G5: 9940 | H5: 6732 | I5: 2220 | J5: 763 | K5: 606 | L5: 0 | M5: 130 | N5: 193 | O5: 77199
B6: 1980 | C6: 9754 | D6: 477 | E6: 31890 | F6: 11102 | G6: 10684 | H6: 6520 | I6: 1731 | J6: 728 | K6: 543 | L6: 0 | M6: 148 | N6: 192 | O6: 73769
B7: 1985 | C7: 10454 | D7: 679 | E7: 27426 | F7: 9193 | G7: 8889 | H7: 5691 | I7: 1409 | J7: 694 | K7: 577 | L7: 0 | M7: 148 | N7: 123 | O7: 65283
B8: 1990 | C8: 12883 | D8: 922 | E8: 31347 | F8: 8848 | G8: 7964 | H8: 5300 | I8: 1436 | J8: 714 | K8: 434 | L8: 11 | M8: 170 | N8: 47 | O8: 70076
B9: 1995 | C9: 13559 | D9: 1466 | E9: 33041 | F9: 10086 | G9: 9735 | H9: 6686 | I9: 1953 | J9: 722 | K9: 460 | L9: 50 | M9: 201 | N9: 0 | O9: 77959
B10: 2000 | C10: 12725 | D10: 1809 | E10: 33293 | F10: 10217 | G10: 10245 | H10: 6579 | I10: 2196 | J10: 1049 | K10: 382 | L10: 91 | M10: 219 | N10: 0 | O10: 78805
B11: 2005 | C11: 11800 | D11: 1900 | E11: 30948 | F11: 10537 | G11: 10925 | H11: 6728 | I11: 2132 | J11: 1152 | K11: 194 | L11: 87 | M11: 261 | N11: 0 | O11: 76664
B12: 2006 | C12: 11439 | D12: 1827 | E12: 30530 | F12: 10536 | G12: 10730 | H12: 6679 | I12: 2050 | J12: 1148 | K12: 149 | L12: 69 | M12: 156 | N12: 0 | O12: 75313
B13: 2007 | C13: 11362 | D13: 1720 | E13: 30255 | F13: 10538 | G13: 10531 | H13: 6410 | I13: 1822 | J13: 1149 | K13: 150 | L13: 94 | M13: 166 | N13: 0 | O13: 74197
B14: 2008 | C14: 11700 | D14: 1562 | E14: 30125 | F14: 10682 | G14: 10311 | H14: 6250 | I14: 1450 | J14: 1164 | K14: 136 | L14: 99 | M14: 128 | N14: 0 | O14: 73607
B15: 2009 | C15: 12050 | D15: 1458 | E15: 30020 | F15: 10829 | G15: 10277 | H15: 6187 | I15: 961 | J15: 1219 | K15: 136 | L15: 78 | M15: 110 | N15: 0 | O15: 73325
B16: 2010 | C16: 12091 | D16: 1505 | E16: 30005 | F16: 10913 | G16: 10071 | H16: 6169 | I16: 657 | J16: 1246 | K16: 118 | L16: 80 | M16: 85 | N16: 0 | O16: 72943
... B19: 2013 | C19: 13270 | D19: 1506 | E19: 30260 | F19: 10740 | G19: 9692 | H19: 5807 | I19: 513 | J19: 1441 | K19: 109 | L19: 128 | M19: 60 | N19: 0 | O19: 73526
B20: 20144) | C20: 14035 | D20: 1440 | E20: 36800 | F20: 8144 | G20: 7432 | H20: 4438 | I20: 507 | J20: 1486 | K20: 68 | L20: 127 | M20: 54 | N20: 0 | O20: 74531
B21: 2015 | C21: 14238 | D21: 1095 | E21: 38098 | F21: 8238 | G21: 7259 | H21: 4241 | I21: 554 | J21: 1567 | K21: 52 | L21: 167 | M21: 54 | N21: 0 | O21: 75563
B23: 1) Inklusive Sprachheilkindergarten
B24: 2) Heilpädagogische Sonderschule (HPS) und andere Sonderschulen
B25: 3) Integrations- und Berufsfindungsklasse (IBK), regionaler oder kommunaler Integrationskurs (RIK/KIK)
B26: 4) Ab 2014/15 neues Schulsystem 6/3 d.h. Verlängerung Primarschule auf 6 Jahre,Verkürzung Oberstufe auf 3 Jahre
Q29: Schulträger | R29: Lernende
Q30: öffentliche Volksschule | R30: 73499
Q31: Sonderschulen | R31: 1055
Q32: Privatschulen | R32: 923

Sheet T2
A1: =Inhaltsverzeichnis!B19& " " &Inhaltsverzeichnis!D19 -> Tabelle 2: Schülerinnen und Schüler der Volksschule und des Kindergartens (öff. Schulen), 1977 – 2015
B4: Jahr | C4: Total | D4: Kinder-garten1) | E4: Einschu-lungs-klasse | F4: Primar-schule | G4: Bezirks-schule | H4: Sekun-dar-schule | I4: Real-schule | J4: Klein-klasse | K4: HPS | L4: Berufs-wahljahr | M4: IBK / RIK/ KIK2) | N4: Werk-jahr
B5: 1977 | C5: 76245 | D5: 9185 | E5: 369 | F5: 35835 | G5: 10786 | H5: 9915 | I5: 6694 | J5: 2191 | K5: 349 | L5: 606 | M5: 0 | N5: 122
B6: 1980 | C6: 72820 | D6: 9624 | E6: 477 | F6: 31799 | G6: 11068 | H6: 10658 | I6: 6329 | J6: 1656 | K6: 331 | L6: 543 | M6: 0 | N6: 143
B7: 1985 | C7: 64163 | D7: 10350 | E7: 668 | F7: 27151 | G7: 9160 | H7: 8860 | I7: 5534 | J7: 1378 | K7: 277 | L7: 523 | M7: 0 | N7: 139
B8: 1990 | C8: 69052 | D8: 12762 | E8: 922 | F8: 31091 | G8: 8816 | H8: 7940 | I8: 5152 | J8: 1404 | K8: 348 | L8: 406 | M8: 11 | N8: 153
B9: 1995 | C9: 76814 | D9: 13401 | E9: 1465 | F9: 32774 | G9: 10065 | H9: 9708 | I9: 6508 | J9: 1910 | K9: 331 | L9: 401 | M9: 50 | N9: 201
B10: 2000 | C10: 77425 | D10: 12577 | E10: 1808 | F10: 32928 | G10: 10192 | H10: 10196 | I10: 6402 | J10: 2156 | K10: 480 | L10: 376 | M10: 91 | N10: 219
B11: 2005 | C11: 75124 | D11: 11702 | E11: 1899 | F11: 30562 | G11: 10505 | H11: 10812 | I11: 6501 | J11: 2068 | K11: 549 | L11: 180 | M11: 87 | N11: 259
B12: 2006 | C12: 73766 | D12: 11311 | E12: 1827 | F12: 30134 | G12: 10509 | H12: 10619 | I12: 6457 | J12: 1991 | K12: 551 | L12: 142 | M12: 69 | N12: 156
B13: 2007 | C13: 72653 | D13: 11248 | E13: 1719 | F13: 29831 | G13: 10509 | H13: 10415 | I13: 6209 | J13: 1749 | K13: 572 | L13: 141 | M13: 94 | N13: 166
B14: 2008 | C14: 72054 | D14: 11567 | E14: 1560 | F14: 29712 | G14: 10654 | H14: 10180 | I14: 6064 | J14: 1384 | K14: 577 | L14: 129 | M14: 99 | N14: 128
B15: 2009 | C15: 71713 | D15: 11899 | E15: 1458 | F15: 29573 | G15: 10803 | H15: 10144 | I15: 6006 | J15: 911 | K15: 612 | L15: 119 | M15: 78 | N15: 110
B16: 2010 | C16: 71290 | D16: 11926 | E16: 1504 | F16: 29547 | G16: 10878 | H16: 9939 | I16: 5983 | J16: 615 | K16: 642 | L16: 91 | M16: 80 | N16: 85
... B19: 2013 | C19: 71526 | D19: 12991 | E19: 1494 | F19: 29800 | G19: 10650 | H19: 9566 | I19: 5622 | J19: 475 | K19: 640 | L19: 100 | M19: 128 | N19: 60
B20: 20143) | C20: 72553 | D20: 13782 | E20: 1430 | F20: 36317 | G20: 8050 | H20: 7327 | I20: 4282 | J20: 469 | K20: 647 | L20: 68 | M20: 127 | N20: 54
B21: 2015 | C21: 73499 | D21: 14004 | E21: 1085 | F21: 37706 | G21: 8184 | H21: 7126 | I21: 4101 | J21: 515 | K21: 505 | L21: 52 | M21: 167 | N21: 54
B23: 1) Inklusive Sprachheilkindergarten
B24: 2) Integrations- und Berufsfindungsklasse (IBK), regionaler oder kommunaler Integrationskurs (RIK/KIK)
B25: 3) Ab 2014/15 neues Schulsystem 6/3 d.h. Verlängerung Primarschule auf 6 Jahre,Verkürzung Oberstufe auf 3 Jahre
P26: Jahr | Q26: Kindergarten | R26: Primarstufe | S26: Sekundarstufe I
P27: 1980 | Q27: 9624 | R27: 32281 | S27: 28055
P28: 1981 | Q28: 9742 | R28: 31200 | S28: 27639
P29: 1982 | Q29: 9901 | R29: 30082 | S29: 26929
P30: 1983 | Q30: 9637 | R30: 29109 | S30: 25924
P31: 1984 | Q31: 9907 | R31: 28334 | S31: 24622
P32: 1985 | Q32: 10350 | R32: 27829 | S32: 23554
P33: 1986 | Q33: 10966 | R33: 27718 | S33: 22656
P34: 1987 | Q34: 11412 | R34: 28153 | S34: 22204
P35: 1988 | Q35: 12175 | R35: 29144 | S35: 21922
P36: 1989 | Q36: 12478 | R36: 30290 | S36: 21639
P37: 1990 | Q37: 12762 | R37: 32022 | S37: 21908
P38: 1991 | Q38: 12607 | R38: 33363 | S38: 22353
... P62: 2015 | Q62: 14004 | R62: 38791 | S62: 19411

Sheet T3
A1: =Inhaltsverzeichnis!B20&" "&Inhaltsverzeichnis!D20 -> Tabelle 3: Schülerinnen und Schüler an Sonderschulen, 2015/16
B4: Gemeinde | C4: Schule | D4: Sprach- heil-KG | E4: Einschu-lungs-klasse | F4: Primar-schule | G4: Bezirks-schule | H4: Sekundar-schule | I4: Real- schule | J4: Klein- klasse | K4: Sonder- schule1) | L4: Berufs-bildung
B5: Kanton Aargau | D5: 79 | E5: 10 | F5: 32 | G5: 27 | H5: 20 | I5: 19 | J5: 36 | K5: 1062 | L5: 99
B6: Aarau | C6: zeka, Zentrum für körperbehinderte Kinder | D6: 0 | E6: 0 | F6: 0 | G6: 0 | H6: 0 | I6: 0 | J6: 0 | K6: 115 | L6: 0
B7: Aarau | C7: Stiftung Schürmatt | D7: 0 | E7: 0 | F7: 0 | G7: 0 | H7: 0 | I7: 0 | J7: 0 | K7: 52 | L7: 7
B8: Unterentfelden | C8: Landenhof | D8: 5 | E8: 10 | F8: 32 | G8: 27 | H8: 20 | I8: 19 | J8: 0 | K8: 0 | L8: 0
B9: Baden | C9: Zentrum für körperbehinderte Kinder | D9: 0 | E9: 0 | F9: 0 | G9: 0 | H9: 0 | I9: 0 | J9: 0 | K9: 61 | L9: 0
B10: Baden | C10: Aargauische Sprachheilschule | D10: 11 | E10: 0 | F10: 0 | G10: 0 | H10: 0 | I10: 0 | J10: 0 | K10: 0 | L10: 0
B11: Ennetbaden | C11: Kinderpsych. Therapiestation | D11: 0 | E11: 0 | F11: 0 | G11: 0 | H11: 0 | I11: 0 | J11: 0 | K11: 8 | L11: 0
B12: Turgi | C12: Aargauische Sprachheilschule | D12: 0 | E12: 0 | F12: 0 | G12: 0 | H12: 0 | I12: 0 | J12: 0 | K12: 55 | L12: 0
B13: Wettingen | C13: arwo Stiftung für Behinderte | D13: 0 | E13: 0 | F13: 0 | G13: 0 | H13: 0 | I13: 0 | J13: 0 | K13: 0 | L13: 5
B14: Bremgarten (AG) | C14: St. Josef-Stiftung | D14: 0 | E14: 0 | F14: 0 | G14: 0 | H14: 0 | I14: 0 | J14: 0 | K14: 101 | L14: 8
B15: Bremgarten (AG) | C15: Kinderheim St. Benedikt | D15: 0 | E15: 0 | F15: 0 | G15: 0 | H15: 0 | I15: 0 | J15: 36 | K15: 0 | L15: 0
B16: Wohlen (AG) | C16: Integra Freiamt | D16: 0 | E16: 0 | F16: 0 | G16: 0 | H16: 0 | I16: 0 | J16: 0 | K16: 38 | L16: 0
B17: Birr | C17: Berufsbildungsheim Neuhof | D17: 0 | E17: 0 | F17: 0 | G17: 0 | H17: 0 | I17: 0 | J17: 0 | K17: 17 | L17: 22
... B36: Koblenz | C36: Kinderpsych. Therapiestation | D36: 0 | E36: 0 | F36: 0 | G36: 0 | H36: 0 | I36: 0 | J36: 0 | K36: 10 | L36: 0
B38: 1) Ohne öffentlich-rechtlich geführte Heilpädagogische Schulen und -Sprachheilkindergärten

Sheet T4
A1: =Inhaltsverzeichnis!B21&" "&Inhaltsverzeichnis!D21 -> Tabelle 4: Schülerinnen und Schüler an Privatschulen mit Volksschulangebot, 2015/16
B4: Gemeinde | C4: Schule | D4: Total | E4: weiblich | F4: Kindergarten | G4: Primarschule | H4: Sek-Stufe I
B5: Kanton Aargau | D5: 684 | E5: 298 | F5: 125 | G5: 294 | H5: 264
B6: Aarau | C6: Tagesschule "drive" | D6: 34 | E6: 10 | F6: 0 | G6: 18 | H6: 16
B7: Gränichen | C7: salta Schulalternative AG/SO | D7: 69 | E7: 37 | F7: 5 | G7: 31 | H7: 33
B8: Suhr | C8: SIS Suhr | D8: 5 | E8: 5 | F8: 5 | G8: 0 | H8: 0
B9: Baden | C9: Merkmal!-Schule | D9: 16 | E9: 6 | F9: 0 | G9: 16 | H9: 0
B10: Baden | C10: Forum 44 Baden AG | D10: 7 | E10: 3 | F10: 0 | G10: 0 | H10: 7
B11: Baden | C11: Schule Naturspielwald | D11: 28 | E11: 12 | F11: 16 | G11: 12 | H11: 0
B12: Baden | C12: Schule im Grünen | D12: 4 | E12: 3 | F12: 0 | G12: 4 | H12: 0
B13: Ennetbaden | C13: Children's World AG | D13: 22 | E13: 7 | F13: 22 | G13: 0 | H13: 0
B14: Fislisbach | C14: Atrium | D14: 5 | E14: 2 | F14: 0 | G14: 0 | H14: 5
B15: Stetten (AG) | C15: aha! Schule | D15: 13 | E15: 2 | F15: 0 | G15: 13 | H15: 0
B16: Wettingen | C16: Stiftung Kinderhaus Montessori Lägern | D16: 18 | E16: 12 | F16: 18 | G16: 0 | H16: 0
B17: Wettingen | C17: Lernpodium | D17: 45 | E17: 18 | F17: 0 | G17: 0 | H17: 45
... B34: Brugg | C34: Tagesschule nach Maria Montessori | D34: 75 | E34: 41 | F34: 15 | G34: 60 | H34: 0

Sheet T5
A1: =Inhaltsverzeichnis!B22& " " &Inhaltsverzeichnis!D22 -> Tabelle 5: Volksschülerinnen und Volksschüler nach Schulart, Geschlecht und Klasse, 2015/16
C4: Kinder-garten1) | D4: Einschu-lungs-klasse | E4: Primar-schule | F4: Bezirks-schule2) | G4: Sekun-dar-schule2) | H4: Real-schule2) | I4: Klein-klasse | J4: HPS | K4: Berufs-wahljahr | L4: IBK / RIK/ KIK3) | M4: Werk-jahr | N4: Total
B5: Total | C5: 14004 | D5: 1085 | E5: 37706 | F5: 8184 | G5: 7126 | H5: 4101 | I5: 515 | J5: 505 | K5: 52 | L5: 167 | M5: 54 | N5: 73499
B6: weiblich absolut | C6: 6768 | D6: 407 | E6: 18383 | F6: 4311 | G6: 3386 | H6: 1797 | I6: 227 | J6: 197 | K6: 24 | L6: 72 | M6: 22 | N6: 35594
B7: weiblich in % | C7: =C6/C5 -> 0.48329049 | D7: =D6/D5 -> 0.37511521 | E7: =E6/E5 -> 0.48753514 | F7: =F6/F5 -> 0.52675953 | G7: =G6/G5 -> 0.47516138 | H7: =H6/H5 -> 0.43818581 | I7: =I6/I5 -> 0.4407767 | J7: =J6/J5 -> 0.39009901 | ... N7: =N6/N5 -> 0.4842787
B9: 1. Klasse | C9: 7083 | D9: 474 | E9: 6388 | F9: 2784 | G9: 2239 | H9: 1429 | I9: 0 | J9: 0 | K9: 0 | L9: 0 | M9: 0 | N9: 0
B10: 2. Klasse | C10: 6921 | D10: 611 | E10: 6443 | F10: 0 | G10: 0 | H10: 0 | I10: 0 | J10: 0 | K10: 0 | L10: 0 | M10: 0 | N10: 0
B11: 3. Klasse | C11: 0 | D11: 0 | E11: 6353 | F11: 2705 | G11: 2546 | H11: 1481 | I11: 0 | J11: 0 | K11: 0 | L11: 0 | M11: 0 | N11: 0
B12: 4. Klasse | C12: 0 | D12: 0 | E12: 6145 | F12: 2695 | G12: 2341 | H12: 1191 | I12: 0 | J12: 0 | K12: 0 | L12: 0 | M12: 0 | N12: 0
B13: 5. Klasse | C13: 0 | D13: 0 | E13: 6321 | F13: 0 | G13: 0 | H13: 0 | I13: 0 | J13: 0 | K13: 0 | L13: 0 | M13: 0 | N13: 0
B14: 6. Klasse | C14: 0 | D14: 0 | E14: 6056 | F14: 0 | G14: 0 | H14: 0 | I14: 0 | J14: 0 | K14: 0 | L14: 0 | M14: 0 | N14: 0
B16: 1) Inklusive Sprachheilkindergarten
B17: 2) 1. bis 4. Klasse Oberstufe entsprechen dem 6. bis 9. Schuljahr
B18: 3) Integrations- und Berufsfindungsklasse (IBK), regionaler oder kommunaler Integrationskurs (RIK/KIK)
Q21: männlich | R21: weiblich
P22: Kindergarten | Q22: 51.670951 | R22: 48.329049
P23: Einschulungsklasse | Q23: 62.488479 | R23: 37.511521
P24: Primarschule | Q24: 51.246486 | R24: 48.753514
P25: Bezirksschule | Q25: 47.324047 | R25: 52.675953
P26: Sekundarschule | Q26: 52.483862 | R26: 47.516138
P27: Realschule | Q27: 56.181419 | R27: 43.818581
P28: Kleinklasse | Q28: 55.92233 | R28: 44.07767
P29: HPS | Q29: 60.990099 | R29: 39.009901
P30: Berufswahljahr | Q30: 53.846154 | R30: 46.153846
P31: IBK /RIK/KIK | Q31: 56.886228 | R31: 43.113772
P32: Werkjahr | Q32: 59.259259 | R32: 40.740741

Sheet T6
A1: =Inhaltsverzeichnis!B23& " " &Inhaltsverzeichnis!D23 -> Tabelle 6: Ausländische Volksschüler/innen nach Staatengruppe, 1998– 2015
B4: Jahr | C4: Anzahl Schülerinnen und Schüler
C5: Zentraleuropa | D5: Südeuropa | E5: Südosteuropa | F5: Asien | G5: Afrika | H5: Andere
B6: 1998 | C6: 785 | D6: 5945 | E6: 8292 | F6: 727 | G6: 141 | H6: 1735
B7: 1999 | C7: 821 | D7: 5841 | E7: 8913 | F7: 806 | G7: 163 | H7: 1716
B8: 2000 | C8: 843 | D8: 5783 | E8: 8910 | F8: 894 | G8: 161 | H8: 1761
B9: 2001 | C9: 912 | D9: 5765 | E9: 9079 | F9: 975 | G9: 181 | H9: 1768
B10: 2002 | C10: 1008 | D10: 5713 | E10: 9233 | F10: 1101 | G10: 213 | H10: 1810
B11: 2003 | C11: 1072 | D11: 5594 | E11: 9388 | F11: 1211 | G11: 245 | H11: 1918
B12: 2004 | C12: 1119 | D12: 5503 | E12: 9298 | F12: 1339 | G12: 250 | H12: 1923
B13: 2005 | C13: 1238 | D13: 5303 | E13: 9157 | F13: 1410 | G13: 260 | H13: 1969
B14: 2006 | C14: 1370 | D14: 5126 | E14: 8863 | F14: 1464 | G14: 256 | H14: 2064
B15: 2007 | C15: 1566 | D15: 4934 | E15: 8443 | F15: 1526 | G15: 268 | H15: 2034
B16: 2008 | C16: 1842 | D16: 4742 | E16: 8102 | F16: 1606 | G16: 315 | H16: 2122
B17: 2009 | C17: 1983 | D17: 4567 | E17: 7619 | F17: 1609 | G17: 338 | H17: 2450
... B23: 2015 | C23: 3307 | D23: 4202 | E23: 7504 | F23: 1762 | G23: 739 | H23: 2864

Sheet T7
A1: =Inhaltsverzeichnis!B24& " " &Inhaltsverzeichnis!D24 -> Tabelle 7: Ausländerinnen und Ausländer an der Volksschule nach Nationalität, 2015/16
B4: Nationalität | C4: Total | D4: Kinder-garten1) | E4: Einschu-lungs-klasse | F4: Primar-schule | G4: Bezirks-schule | H4: Sekun-dar-schule | I4: Real-schule | J4: Klein-klasse | K4: Berufs-wahljahr | L4: IBK / RIK/ KIK2) | M4: Werk-jahr | N4: HPS
B5: Total | C5: 73499 | D5: 14004 | E5: 1085 | F5: 37706 | G5: 8184 | H5: 7126 | I5: 4101 | J5: 515 | K5: 52 | L5: 167 | M5: 54 | N5: 505
B6: Ausland absolut | C6: 20378 | D6: 3817 | E6: 530 | F6: 10441 | G6: 1186 | H6: 1805 | I6: 1868 | J6: 316 | K6: 17 | L6: 161 | M6: 32 | N6: 205
B7: Ausland in % | C7: 0.277 | D7: 0.273 | E7: 0.488 | F7: 0.277 | G7: 0.145 | H7: 0.253 | I7: 0.455 | J7: 0.614 | K7: 0.327 | L7: 0.964 | M7: 0.593 | N7: 0.406
B9: Italien | C9: 2577 | D9: 459 | E9: 68 | F9: 1294 | G9: 160 | H9: 253 | I9: 234 | J9: 28 | K9: 3 | L9: 47 | M9: 2 | N9: 29
B10: Spanien | C10: 392 | D10: 87 | E10: 11 | F10: 205 | G10: 21 | H10: 29 | I10: 24 | J10: 4 | K10: 0 | L10: 10 | M10: 0 | N10: 1
B11: Portugal | C11: 1255 | D11: 239 | E11: 48 | F11: 623 | G11: 35 | H11: 126 | I11: 134 | J11: 20 | K11: 1 | L11: 10 | M11: 5 | N11: 14
B12: Deutschland | C12: 2684 | D12: 582 | E12: 23 | F12: 1448 | G12: 291 | H12: 204 | I12: 107 | J12: 12 | K12: 5 | L12: 0 | M12: 0 | N12: 12
B13: Österreich | C13: 185 | D13: 42 | E13: 1 | F13: 91 | G13: 17 | H13: 24 | I13: 8 | J13: 1 | K13: 0 | L13: 0 | M13: 0 | N13: 1
B14: Niederlande | C14: 141 | D14: 31 | E14: 2 | F14: 65 | G14: 22 | H14: 15 | I14: 5 | J14: 0 | K14: 0 | L14: 0 | M14: 0 | N14: 1
B15: Grossbritannien | C15: 172 | D15: 30 | E15: 4 | F15: 100 | G15: 14 | H15: 18 | I15: 6 | J15: 0 | K15: 0 | L15: 0 | M15: 0 | N15: 0
B16: Serbien/Montenegro | C16: 1209 | D16: 172 | E16: 32 | F16: 651 | G16: 60 | H16: 121 | I16: 127 | J16: 22 | K16: 2 | L16: 1 | M16: 4 | N16: 17
B17: Kroatien | C17: 539 | D17: 88 | E17: 11 | F17: 256 | G17: 48 | H17: 76 | I17: 49 | J17: 5 | K17: 0 | L17: 0 | M17: 0 | N17: 6
... B27: andere | C27: 2967 | D27: 605 | E27: 70 | F27: 1500 | G27: 184 | H27: 220 | I27: 216 | J27: 62 | K27: 1 | L27: 78 | M27: 6 | N27: 25
B29: 1) Inklusive Sprachheilkindergarten
B30: 2) Integrations- und Berufsfindungsklasse (IBK), regionaler oder kommunaler Integrationskurs (RIK/KIK)
Q32: Ausländer/innen | R32: Schweizer/innen
P33: Kindergarten | Q33: 27.3 | R33: =100-Q33 -> 72.7
P34: Einschulungsklasse | Q34: 48.8 | R34: =100-Q34 -> 51.2
P35: Primarschule | Q35: 27.7 | R35: =100-Q35 -> 72.3
P36: Bezirksschule | Q36: 14.5 | R36: =100-Q36 -> 85.5
P37: Sekundarschule | Q37: 25.3 | R37: =100-Q37 -> 74.7
P38: Realschule | Q38: 45.5 | R38: =100-Q38 -> 54.5
P39: Kleinklasse | Q39: 61.4 | R39: =100-Q39 -> 38.6
P40: Berufswahljahr | Q40: 32.7 | R40: =100-Q40 -> 67.3
P41: IBK /RIK/KIK | Q41: 96.4 | R41: =100-Q41 -> 3.6
P42: Werkjahr | Q42: 59.3 | R42: =100-Q42 -> 40.7
P43: HPS | Q43: 40.6 | R43: =100-Q43 -> 59.4

Sheet T8
A1: =Inhaltsverzeichnis!B25& " " &Inhaltsverzeichnis!D25 -> Tabelle 8: Ausländeranteil an der Volksschule, 1998–2015
B4: Jahr | C4: Ausländeranteil in Prozent
C5: Einschulungsklasse | D5: Primarschule | E5: Bezirksschule | F5: Sekundarschule | G5: Realschule
B6: 1998 | C6: 39.46797 | D6: 21.124143 | E6: 6.9819166 | F6: 15.798594 | G6: 41.515751
B7: 1999 | C7: 41.386667 | D7: 22.160765 | E7: 7.3765731 | F7: 16.50865 | G7: 41.766329
B8: 2000 | C8: 42.841349 | D8: 22.347165 | E8: 7.5255102 | F8: 17.330326 | G8: 41.995939
B9: 2001 | C9: 42.693566 | D9: 23.003038 | E9: 8.1049449 | F9: 18.056633 | G9: 42.275016
B10: 2002 | C10: 43.184183 | D10: 23.594842 | E10: 8.5507944 | F10: 18.42408 | G10: 42.644525
B11: 2003 | C11: 45.168067 | D11: 23.638197 | E11: 9.470092 | F11: 19.036483 | G11: 43.30493
B12: 2004 | C12: 45.626976 | D12: 24.084105 | E12: 10.133157 | F12: 19.453642 | G12: 43.115886
B13: 2005 | C13: 46.947368 | D13: 24.426932 | E13: 10.603465 | F13: 19.713361 | G13: 43.516382
B14: 2006 | C14: 48.604269 | D14: 24.458451 | E14: 10.99058 | F14: 20.685435 | G14: 44.234639
B15: 2007 | C15: 49.302326 | D15: 24.85698 | E15: 11.112168 | F15: 20.49141 | G15: 43.92403
B16: 2008 | C16: 47.631242 | D16: 25.186454 | E16: 11.432326 | F16: 21.439796 | G16: 42.880686
B17: 2009 | C17: 46.4 | D17: 25.1 | E17: 11.6 | F17: 21.7 | G17: 43.6
... B23: 2015 | C23: 48.8 | D23: 27.7 | E23: 14.5 | F23: 25.3 | G23: 45.5

Sheet T9
A1: =Inhaltsverzeichnis!B26& " " &Inhaltsverzeichnis!D26 -> Tabelle 9: Volksschülerinnen und Volksschüler nach Schulart und Hauptsprache, 2015/16
B4: Hauptsprache | C4: Total | D4: Kinder-garten1) | E4: Einschu-lungs-klasse | F4: Primar-schule | G4: Bezirks-schule | H4: Sekun-dar-schule | I4: Real-schule | J4: Klein-klasse | K4: Berufs-wahljahr | L4: IBK / RIK/ KIK2) | M4: Werk-jahr | N4: HPS
B5: Total | C5: 73499 | D5: 14004 | E5: 1085 | F5: 37706 | G5: 8184 | H5: 7126 | I5: 4101 | J5: 515 | K5: 52 | L5: 167 | M5: 54 | N5: 505
B6: fremdsprachig absolut | C6: 22464 | D6: 4770 | E6: 629 | F6: 11781 | G6: 1045 | H6: 1722 | I6: 1753 | J6: 278 | K6: 9 | L6: 167 | M6: 11 | N6: 299
B7: fremdsprachig in % | C7: 30.6 | D7: 34.1 | E7: 58 | F7: 31.2 | G7: 12.8 | H7: 24.2 | I7: 42.7 | J7: 54 | K7: 17.3 | L7: 100 | M7: 20.4 | N7: 59.2
B9: französisch | C9: 475 | D9: 96 | E9: 9 | F9: 259 | G9: 51 | H9: 32 | I9: 22 | J9: 4 | K9: 0 | L9: 2 | M9: 0 | N9: 0
B10: italienisch | C10: 2608 | D10: 539 | E10: 74 | F10: 1358 | G10: 140 | H10: 201 | I10: 194 | J10: 27 | K10: 1 | L10: 47 | M10: 1 | N10: 26
B11: rätoromanisch | C11: 14 | D11: 3 | E11: 0 | F11: 9 | G11: 1 | H11: 1 | I11: 0 | J11: 0 | K11: 0 | L11: 0 | M11: 0 | N11: 0
B12: südslawisch | C12: 3742 | D12: 732 | E12: 97 | F12: 1988 | G12: 182 | H12: 366 | I12: 282 | J12: 41 | K12: 2 | L12: 11 | M12: 4 | N12: 37
B13: albanisch | C13: 5680 | D13: 1340 | E13: 172 | F13: 2949 | G13: 140 | H13: 379 | I13: 567 | J13: 96 | K13: 2 | L13: 4 | M13: 1 | N13: 30
B14: türkisch | C14: 2105 | D14: 417 | E14: 63 | F14: 1131 | G14: 68 | H14: 183 | I14: 196 | J14: 27 | K14: 2 | L14: 1 | M14: 0 | N14: 17
B15: spanisch | C15: 896 | D15: 190 | E15: 17 | F15: 475 | G15: 61 | H15: 65 | I15: 53 | J15: 12 | K15: 0 | L15: 16 | M15: 0 | N15: 7
B16: portugiesich | C16: 1461 | D16: 307 | E16: 61 | F16: 732 | G16: 46 | H16: 122 | I16: 151 | J16: 19 | K16: 0 | L16: 13 | M16: 2 | N16: 8
B17: englisch | C17: 683 | D17: 174 | E17: 13 | F17: 375 | G17: 68 | H17: 38 | I17: 12 | J17: 0 | K17: 0 | L17: 2 | M17: 0 | N17: 1
... B22: andere | C22: 2396 | D22: 590 | E22: 49 | F22: 1211 | G22: 129 | H22: 118 | I22: 100 | J22: 17 | K22: 0 | L22: 33 | M22: 1 | N22: 148
B24: 1) Inklusive Sprachheilkindergarten
B25: 2) Integrations- und Berufsfindungsklasse (IBK), regionaler oder kommunaler Integrationskurs (RIK/KIK)
Q30: fremdsprachig | R30: deutschsprachig
P31: Kindergarten | Q31: 34.1 | R31: =100-Q31 -> 65.9
P32: Einschulungsklasse | Q32: 58 | R32: =100-Q32 -> 42
P33: Primarschule | Q33: 31.2 | R33: =100-Q33 -> 68.8
P34: Bezirksschule | Q34: 12.8 | R34: =100-Q34 -> 87.2
P35: Sekundarschule | Q35: 24.2 | R35: =100-Q35 -> 75.8
P36: Realschule | Q36: 42.7 | R36: =100-Q36 -> 57.3
P37: Kleinklasse | Q37: 54 | R37: =100-Q37 -> 46
P38: Berufswahljahr | Q38: 17.3 | R38: =100-Q38 -> 82.7
P39: IBK /RIK/KIK | Q39: 100 | R39: =100-Q39 -> 0
P40: Werkjahr | Q40: 20.4 | R40: =100-Q40 -> 79.6
P41: HPS | Q41: 59.2 | R41: =100-Q41 -> 40.8

Sheet T10
A1: =Inhaltsverzeichnis!B27& " " &Inhaltsverzeichnis!D27 -> Tabelle 10: Lernende der Real-, Sekundar- und Bezirksschule mit Schulort = Wohnort, 1977 – 2015
B4: Jahr | C4: Schüler/innen in der Bezirksschule | F4: Schüler/innen in der Sekundarschule | I4: Schüler/innen in der Realschule
C5: Total | D5: mit Schulort=Wohnort | F5: Total | G5: mit Schulort=Wohnort | I5: Total | J5: mit Schulort=Wohnort
D6: absolut | E6: in % | G6: absolut | H6: in % | J6: absolut | K6: in %
B7: 1977 | C7: 10786 | D7: 5543 | E7: 51.4 | F7: 9 915 | G7: 7123 | H7: 71.8 | I7: 6694 | J7: 5586 | K7: 83.5
B8: 1980 | C8: 11068 | D8: 5633 | E8: 50.9 | F8: 10658 | G8: 7568 | H8: 71 | I8: 6329 | J8: 5110 | K8: 80.7
B9: 1985 | C9: 9160 | D9: 4294 | E9: 46.9 | F9: 8860 | G9: 6286 | H9: 70.9 | I9: 5534 | J9: 4257 | K9: 76.9
B10: 1990 | C10: 8816 | D10: 4081 | E10: 46.3 | F10: 7940 | G10: 5587 | H10: 70.4 | I10: 5152 | J10: 3872 | K10: 75.2
B11: 1995 | C11: 10065 | D11: 4520 | E11: 44.9 | F11: 9708 | G11: 6797 | H11: 70 | I11: 6508 | J11: 4904 | K11: 75.4
B12: 2000 | C12: 10192 | D12: 4529 | E12: 44.4 | F12: 10196 | G12: 7095 | H12: 69.6 | I12: 6402 | J12: 4709 | K12: 73.6
B13: 2005 | C13: 10505 | D13: 4746 | E13: 45.2 | F13: 10812 | G13: 7130 | H13: 66 | I13: 6501 | J13: 4500 | K13: 69.2
B14: 2009 | C14: 10803 | D14: 4738 | E14: 43.9 | F14: 10144 | G14: 6667 | H14: 65.7 | I14: 6006 | J14: 4259 | K14: 70.9
B15: 2010 | C15: 10878 | D15: 4802 | E15: 44.1 | F15: 9939 | G15: 6558 | H15: 66 | I15: 5983 | J15: 4236 | K15: 70.8
B16: 2011 | C16: 11002 | D16: 4820 | E16: 43.8 | F16: 9776 | G16: 6422 | H16: 65.7 | I16: 5913 | J16: 4157 | K16: 70.3
B17: 2012 | C17: 10884 | D17: 4763 | E17: 43.8 | F17: 9672 | G17: 6322 | H17: 65.4 | I17: 5698 | J17: 4074 | K17: 71.5
B18: 2013 | C18: 10650 | D18: 4740 | E18: 44.5 | F18: 9566 | G18: 6204 | H18: 64.9 | I18: 5622 | J18: 3951 | K18: 70.3
B19: 2014 | C19: 8050 | D19: 3503 | E19: 43.5 | F19: 7327 | G19: 4725 | H19: 64.5 | I19: 4282 | J19: 2968 | K19: 69.3
B20: 2015 | C20: 8184 | D20: 3641 | E20: 44.5 | F20: 7126 | G20: 4501 | H20: 63.2 | I20: 4101 | J20: 2777 | K20: 67.7

Sheet T11
A1: =Inhaltsverzeichnis!B28& " " &Inhaltsverzeichnis!D28 -> Tabelle 11: Verteilung auf die Oberstufenzüge nach Geschlecht und Sprache, 2015/16
C4: Sprache | E4: Geschlecht
C5: Deutsch- sprachige | D5: Fremd- sprachige | E5: Schülerinnen | F5: Schüler
B6: Bezirksschule | C6: 7139 | D6: 1045 | E6: 4311 | F6: 3873
B7: Sekundarschule | C7: 5404 | D7: 1722 | E7: 3386 | F7: 3740
B8: Realschule | C8: 2348 | D8: 1753 | E8: 1797 | F8: 2304

Sheet T12
A1: =Inhaltsverzeichnis!B29& " " &Inhaltsverzeichnis!D29 -> Tabelle 12: Repetitionen in der Oberstufe nach Geschlecht und Sprache, 2015/16
C4: Schülerinnen | D4: Schüler | E4: Deutsch-sprachige | F4: Fremd-sprachige
B5: im gleichen Typ | C5: 83 | D5: 135 | E5: 181 | F5: 37
B6: Mit Typaufstieg | C6: 206 | D6: 176 | E6: 257 | F6: 125
B7: Total Repetitionen | C7: =SUM(C5:C6) -> 289 | D7: =SUM(D5:D6) -> 311 | E7: =SUM(E5:E6) -> 438 | F7: =SUM(F5:F6) -> 162

Sheet T13
A1: =Inhaltsverzeichnis!B30& " " &Inhaltsverzeichnis!D30 -> Tabelle 13: Altersverteilung bei Einschulung und bei Schulabschluss, 2015/16
B5: Alter | C5: Lernende absolut | D5: Schülerinnen in Prozent | E5: Fremdsprachige in Prozent | I5: Alter | J5: Lernende absolut | K5: Schülerinnen in Prozent | L5: Fremdsprachige in Prozent
B6: 6.5 | C6: 18 | D6: 66.666667 | E6: 27.777778 | I6: 14 | J6: 12 | K6: 58.333333 | L6: 16.666667
B7: 7 | C7: 1852 | D7: 51.727862 | E7: 28.563715 | I7: 14.5 | J7: 59 | K7: 59.322034 | L7: 25.423729
B8: 7.5 | C8: 3105 | D8: 49.275362 | E8: 27.987118 | I8: 15 | J8: 1050 | K8: 54.761905 | L8: 18.190476
B9: 8 | C9: 1763 | D9: 45.547362 | E9: 26.545661 | I9: 15.5 | J9: 1999 | K9: 49.324662 | L9: 19.05953
B10: 8.5 | C10: 102 | D10: 38.235294 | E10: 38.235294 | I10: 16 | J10: 1612 | K10: 47.270471 | L10: 25.062035
B11: 9 | C11: 19 | D11: 31.578947 | E11: 52.631579 | I11: 16.5 | J11: 911 | K11: 46.212953 | L11: 32.162459
B12: 9.5 | C12: 2 | I12: 17 | J12: 501 | K12: 41.716567 | L12: 36.127745
I13: 17.5 | J13: 129 | K13: 46.511628 | L13: 47.286822
I14: 18 | J14: 51 | K14: 50.980392 | L14: 47.058824
I15: 18.5 | J15: 8 | K15: 50 | L15: 50
I16: 19 | J16: 1

Sheet T14
A1: =Inhaltsverzeichnis!B31& " " &Inhaltsverzeichnis!D31 -> Tabelle 14: Schulklassen an der Volksschule, 1977 – 2015
B4: Jahr | C4: Total | D4: Kinder-garten1) | E4: Einschu-lungs-klasse | F4: Primar-schule | G4: gem. Abtei- lungen | H4: Bezirks-schule | I4: Sekun-dar-schule | J4: Real-schule | K4: Klein-klasse | L4: HPS | M4: Berufs-wahljahr | N4: IBK / RIK/ KIK2) | O4: Werk-jahr | P4: Haus-wirt. Jahresk.
B5: 1977 | C5: 3167 | D5: 422 | E5: 24 | F5: 1255 | G5: 49 | H5: 447 | I5: 406 | J5: 294 | K5: 174 | L5: 46 | M5: 27 | N5: 0 | O5: 12 | P5: 11
B6: 1980 | C6: 3258 | D6: 456 | E6: 33 | F6: 1264 | G6: 36 | H6: 466 | I6: 458 | J6: 295 | K6: 148 | L6: 50 | M6: 29 | N6: 0 | O6: 13 | P6: 10
B7: 1985 | C7: 3355 | D7: 481 | E7: 58 | F7: 1324 | G7: 1 | H7: 454 | I7: 476 | J7: 324 | K7: 133 | L7: 46 | M7: 34 | N7: 0 | O7: 15 | P7: 9
B8: 1990 | C8: 3648 | D8: 612 | E8: 85 | F8: 1511 | G8: 0 | H8: 429 | I8: 443 | J8: 311 | K8: 152 | L8: 56 | M8: 29 | N8: 1 | O8: 15 | P8: 4
B9: 1995 | C9: 3978 | D9: 667 | E9: 127 | F9: 1576 | G9: 2 | H9: 470 | I9: 491 | J9: 360 | K9: 181 | L9: 60 | M9: 23 | N9: 4 | O9: 17 | P9: 0
B10: 2000 | C10: 4230 | D10: 666 | E10: 160 | F10: 1610 | G10: 2 | H10: 484 | I10: 554 | J10: 396 | K10: 219 | L10: 79 | M10: 28 | N10: 9 | O10: 23 | P10: 0
B11: 2005 | C11: 4190 | D11: 661 | E11: 150 | F11: 1494 | G11: 5 | H11: 504 | I11: 590 | J11: 431 | K11: 219 | L11: 87 | M11: 24 | N11: 12 | O11: 13 | P11: 0
B12: 2006 | C12: 4157 | D12: 648 | E12: 148 | F12: 1498 | G12: 4 | H12: 496 | I12: 586 | J12: 438 | K12: 216 | L12: 88 | M12: 11 | N12: 9 | O12: 15 | P12: 0
B13: 2007 | C13: 4129 | D13: 657 | E13: 144 | F13: 1501 | G13: 2 | H13: 493 | I13: 580 | J13: 436 | K13: 195 | L13: 86 | M13: 10 | N13: 8 | O13: 17 | P13: 0
B14: 2008 | C14: 4110 | D14: 668 | E14: 142 | F14: 1517 | G14: 3 | H14: 494 | I14: 572 | J14: 437 | K14: 160 | L14: 84 | M14: 10 | N14: 10 | O14: 13 | P14: 0
B15: 2009 | C15: 4083 | D15: 679 | E15: 132 | F15: 1553 | G15: 6 | H15: 497 | I15: 566 | J15: 430 | K15: 107 | L15: 86 | M15: 7 | N15: 9 | O15: 11 | P15: 0
B16: 2010 | C16: 4088 | D16: 687 | E16: 135 | F16: 1577 | G16: 2 | H16: 508 | I16: 557 | J16: 435 | K16: 69 | L16: 93 | M16: 7 | N16: 9 | O16: 9 | P16: 0
... B19: 2013 | C19: 4080 | D19: 713 | E19: 137 | F19: 1615 | G19: 0 | H19: 512 | I19: 536 | J19: 400 | K19: 53 | L19: 90 | M19: 8 | N19: 9 | O19: 7 | P19: 0
B20: 20143) | C20: 4081 | D20: 739 | E20: 128 | F20: 1959 | G20: 0 | H20: 386 | I20: 409 | J20: 303 | K20: 49 | L20: 88 | M20: 6 | N20: 8 | O20: 6 | P20: 0
B21: 2015 | C21: 4070 | D21: 755 | E21: 86 | F21: 1986 | G21: 0 | H21: 392 | I21: 403 | J21: 299 | K21: 52 | L21: 70 | M21: 4 | N21: 17 | O21: 6 | P21: 0
B23: 1) Inklusive Sprachheilkindergarten
B24: 2) Integrations- und Berufsfindungsklasse (IBK), regionaler oder kommunaler Integrationskurs (RIK/KIK)
B25: 3) Ab 2014/15 neues Schulsystem 6/3 d.h. Verlängerung Primarschule auf 6 Jahre,Verkürzung Oberstufe auf 3 Jahre

Sheet T15
A1: =Inhaltsverzeichnis!B32& " " &Inhaltsverzeichnis!D32 -> Tabelle 15: Durchschnittliche Klassengrösse an der Volksschule, 1977 –2015
B4: Jahr | C4: Kindergarten | D4: Einschulungs-klasse | E4: Primarschule | F4: Bezirks- schule | G4: Sekundar-schule | H4: Realschule | I4: Kleinklasse | J4: Berufs-wahljahr | K4: Werkjahr
B5: 1977 | C5: 21.8 | D5: 15.4 | E5: 28.6 | F5: 24.1 | G5: 24.4 | H5: 22.8 | I5: 12.6 | J5: 22.4 | K5: 10.2
B6: 1980 | C6: 21.1 | D6: 14.5 | E6: 25.2 | F6: 23.8 | G6: 23.3 | H6: 21.5 | I6: 11.2 | J6: 18.7 | K6: 11
B7: 1985 | C7: 21.5 | D7: 11.5 | E7: 20.5 | F7: 20.2 | G7: 18.6 | H7: 17.1 | I7: 10.4 | J7: 15.4 | K7: 9.3
B8: 1990 | C8: 20.9 | D8: 10.8 | E8: 20.6 | F8: 20.6 | G8: 17.9 | H8: 16.6 | I8: 9.2 | J8: 14 | K8: 10.2
B9: 1995 | C9: 20.1 | D9: 11.5 | E9: 20.8 | F9: 21.4 | G9: 19.8 | H9: 18.1 | I9: 10.6 | J9: 17.4 | K9: 11.8
B10: 2000 | C10: 18.9 | D10: 11.3 | E10: 20.5 | F10: 21.1 | G10: 18.4 | H10: 16.2 | I10: 9.8 | J10: 13.4 | K10: 9.5
B11: 2005 | C11: 17.7 | D11: 12.7 | E11: 20.5 | F11: 20.8 | G11: 18.3 | H11: 15.1 | I11: 9.4 | J11: 7.5 | K11: 19.9
B12: 2006 | C12: 17.5 | D12: 12.3 | E12: 20.1 | F12: 21.2 | G12: 18.1 | H12: 14.7 | I12: 9.2 | J12: 12.9 | K12: 10.4
B13: 2007 | C13: 17.1 | D13: 11.9 | E13: 19.9 | F13: 21.3 | G13: 18 | H13: 14.2 | I13: 9 | J13: 14.1 | K13: 9.8
B14: 2008 | C14: 17.3 | D14: 11 | E14: 19.6 | F14: 21.6 | G14: 17.8 | H14: 13.9 | I14: 8.7 | J14: 12.9 | K14: 9.8
B15: 2009 | C15: 17.5 | D15: 11.1 | E15: 19 | F15: 21.7 | G15: 17.9 | H15: 14 | I15: 8.5 | J15: 17 | K15: 10
B16: 2010 | C16: 17.4 | D16: 11.1 | E16: 18.7 | F16: 21.4 | G16: 17.9 | H16: 13.7 | I16: 8.7 | J16: 13 | K16: 9.4
... B21: 2015 | C21: 18.548344 | D21: 12.616279 | E21: 18.985901 | F21: 20.877551 | G21: 17.682382 | H21: 13.715719 | I21: 9.9038462 | J21: 13 | K21: 9
M29: Jahr | N29: Primarschule | O29: Bezirksschule | P29: Sekundarschule | Q29: Realschule
M30: 1998 | N30: 20.7 | O30: 21.3 | P30: 19 | Q30: 17.5
M31: 1999 | N31: 20.7 | O31: 21.3 | P31: 18.7 | Q31: 16.6
M32: 2000 | N32: 20.5 | O32: 21.1 | P32: 18.4 | Q32: 16.2
M33: 2001 | N33: 20.3 | O33: 21.2 | P33: 18.8 | Q33: 15.8
M34: 2002 | N34: 20.3 | O34: 21.1 | P34: 18.6 | Q34: 15.8
M35: 2003 | N35: 20.2 | O35: 21.1 | P35: 18.5 | Q35: 15.6
M36: 2004 | N36: 20.5 | O36: 21 | P36: 18.7 | Q36: 15.5
M37: 2005 | N37: 20.5 | O37: 20.8 | P37: 18.3 | Q37: 15.1
M38: 2006 | N38: 20.1 | O38: 21.2 | P38: 18.1 | Q38: 14.7
M39: 2007 | N39: 19.9 | O39: 21.3 | P39: 18 | Q39: 14.2
M40: 2008 | N40: 19.6 | O40: 21.6 | P40: 17.8 | Q40: 13.9
M41: 2009 | N41: 19 | O41: 21.7 | P41: 17.9 | Q41: 14
... M47: 2015 | N47: 18.985901 | O47: 20.877551 | P47: 17.682382 | Q47: 13.715719

Sheet T16
A1: =Inhaltsverzeichnis!B33& " " &Inhaltsverzeichnis!D33 -> Tabelle 16: Fremdsprachigenanteil in Schulklassen, 2015/16
C4: unter 25% | D4: 25 bis 50% | E4: 50 bis 75% | F4: über 75%
B5: Kleinklasse | C5: 28.85 | D5: 13.46 | E5: 28.85 | F5: 28.85
B6: Bezirksschule | C6: 88.52 | D6: 10.2 | E6: 1.28 | F6: 0
B7: Sekundarschule | C7: 60.79 | D7: 27.05 | E7: 10.42 | F7: 1.74
B8: Realschule | C8: 30.43 | D8: 30.77 | E8: 26.09 | F8: 12.71
B9: Primarschule | C9: 46.37 | D9: 34.14 | E9: 15.31 | F9: 4.18
B10: Einschulungsklasse | C10: 12.79 | D10: 22.09 | E10: 38.37 | F10: 26.74
B11: Kindergarten | C11: 41.19 | D11: 36.82 | E11: 15.89 | F11: 6.09

Sheet T17
A1: =Inhaltsverzeichnis!B34& " " &Inhaltsverzeichnis!D34 -> Tabelle 17: Klassengrösse in der Primarschule, 2015/16
B4: Anzahl Lernende pro Klasse | C4: Anzahl Klassen
C5: Total | D5: mehrklassig | E5: einklassig
B6: 8 | C6: =D6+E6 -> 1 | D6: 0 | E6: 1
B7: 9 | C7: =D7+E7 -> 0 | D7: 0 | E7: 0
B8: 10 | C8: =D8+E8 -> 3 | D8: 1 | E8: 2
B9: 11 | C9: =D9+E9 -> 8 | D9: 3 | E9: 5
B10: 12 | C10: =D10+E10 -> 23 | D10: 7 | E10: 16
B11: 13 | C11: =D11+E11 -> 41 | D11: 10 | E11: 31
B12: 14 | C12: =D12+E12 -> 76 | D12: 20 | E12: 56
B13: 15 | C13: =D13+E13 -> 126 | D13: 37 | E13: 89
B14: 16 | C14: =D14+E14 -> 150 | D14: 47 | E14: 103
B15: 17 | C15: =D15+E15 -> 172 | D15: 39 | E15: 133
B16: 18 | C16: =D16+E16 -> 259 | D16: 57 | E16: 202
B17: 19 | C17: =D17+E17 -> 263 | D17: 55 | E17: 208
... B25: 27 | C25: =D25+E25 -> 7 | D25: 2 | E25: 5

Sheet T18
A1: =Inhaltsverzeichnis!B37&" "&Inhaltsverzeichnis!D37 -> Tabelle 18: Lernende in Brückenangeboten der Kantonalen Schule für Berufsbildung, 2005 – 2015
B4: Jahr | C4: Total | D4: Schülerinnen | F4: Ausländer/innen | H4: im Erhebungsjahr ... Jahre alt
D5: absolut | E5: in % | F5: absolut | G5: in % | H5: bis 15-jährig | I5: 16-jährig | J5: 17-jährig | K5: 18-jährig +
B6: Brückenangebot Schulisch
B7: 2005 | C7: 831 | D7: 494 | E7: 59.4 | F7: 248 | G7: 29.8 | H7: 124 | I7: 459 | J7: 216 | K7: 32
B8: 2006 | C8: 771 | D8: 446 | E8: 57.8 | F8: 264 | G8: 34.2 | H8: 104 | I8: 403 | J8: 222 | K8: 42
B9: 2007 | C9: 702 | D9: 401 | E9: 57.1 | F9: 261 | G9: 37.2 | H9: 90 | I9: 362 | J9: 213 | K9: 37
B10: 2008 | C10: 695 | D10: 378 | E10: 54.4 | F10: 236 | G10: 34 | H10: 86 | I10: 339 | J10: 205 | K10: 65
B11: 2009 | C11: 688 | D11: 359 | E11: 52.2 | F11: 253 | G11: 36.5 | H11: 108 | I11: 315 | J11: 206 | K11: 59
B12: 2010 | C12: 632 | D12: 331 | E12: 52.3 | F12: 226 | G12: 35.8 | H12: 61 | I12: 318 | J12: 197 | K12: 56
B13: 2011 | C13: 619 | D13: 323 | E13: 52.2 | F13: 204 | G13: 33 | H13: 79 | I13: 316 | J13: 173 | K13: 51
B14: 2012 | C14: 588 | D14: 329 | E14: 56 | F14: 219 | G14: 37.2 | H14: 76 | I14: 317 | J14: 147 | K14: 48
B15: 2013 | C15: 573 | D15: 293 | E15: 51,1 | F15: 212 | G15: 37,0 | H15: 72 | I15: 301 | J15: 169 | K15: 31
B16: 2014 | C16: 519 | D16: 260 | E16: 50,1 | F16: 187 | G16: 36,0 | H16: 70 | I16: 282 | J16: 134 | K16: 33
B17: 2015 | C17: 478 | D17: 230 | E17: 48.1 | F17: 189 | G17: 39.5 | H17: 81 | I17: 248 | J17: 118 | K17: 31
B18: Brückenangebot Kombiniert
B19: 2005 | C19: 73 | D19: 45 | E19: 61.6 | F19: 46 | G19: 63 | H19: 8 | I19: 39 | J19: 24 | K19: 2
B20: 2006 | C20: 139 | D20: 64 | E20: 46 | F20: 81 | G20: 58.3 | H20: 6 | I20: 76 | J20: 45 | K20: 12
B21: 2007 | C21: 228 | D21: 129 | E21: 56.6 | F21: 107 | G21: 46.9 | H21: 21 | I21: 110 | J21: 82 | K21: 15
B22: 2008 | C22: 257 | D22: 146 | E22: 56.8 | F22: 112 | G22: 43.6 | H22: 22 | I22: 109 | J22: 89 | K22: 37
B23: 2009 | C23: 153 | D23: 89 | E23: 58.2 | F23: 66 | G23: 43.1 | H23: 13 | I23: 61 | J23: 57 | K23: 22
B24: 2010 | C24: 284 | D24: 138 | E24: 48.6 | F24: 171 | G24: 60.2 | H24: 16 | I24: 84 | J24: 97 | K24: 87
B25: 2011 | C25: 187 | D25: 108 | E25: 57.8 | F25: 89 | G25: 47.6 | H25: 17 | I25: 73 | J25: 64 | K25: 33
B26: 2012 | C26: 115 | D26: 65 | E26: 56.5 | F26: 46 | G26: 40 | H26: 8 | I26: 50 | J26: 46 | K26: 11
B27: 2013 | C27: 165 | D27: 92 | E27: 55,8 | F27: 73 | G27: 44,2 | H27: 8 | I27: 63 | J27: 78 | K27: 16
B28: 2014 | C28: 114 | D28: 65 | E28: 57,0 | F28: 53 | G28: 46,5 | H28: 10 | I28: 47 | J28: 41 | K28: 16
B29: 2015 | C29: 135 | D29: 82 | E29: 60.7 | F29: 71 | G29: 52.6 | H29: 13 | I29: 48 | J29: 56 | K29: 18
B30: Brückenangebot Integrationsprogramm
B31: 2010 | C31: 96 | D31: 0 | E31: 0 | F31: 0 | G31: 0 | H31: 0 | I31: 0 | J31: 0 | K31: 0
B32: 2011 | C32: 163 | D32: 64 | E32: 39.3 | F32: 156 | G32: 95.7 | H32: 1 | I32: 5 | J32: 26 | K32: 131
B33: 2012 | C33: 205 | D33: 95 | E33: 46.3 | F33: 199 | G33: 97.1 | H33: 2 | I33: 16 | J33: 29 | K33: 158
B34: 2013 | C34: 166 | D34: 92 | E34: 55,4 | F34: 158 | G34: 95,2 | H34: 0 | I34: 18 | J34: 42 | K34: 106
B35: 2014 | C35: 217 | D35: 114 | E35: 52,5 | F35: 209 | G35: 96,3 | H35: 2 | I35: 22 | J35: 40 | K35: 153
B36: 2015 | C36: 321 | D36: 133 | E36: 41.4 | F36: 318 | G36: 99.1 | H36: 2 | I36: 18 | J36: 73 | K36: 228
N40: Jahr | O40: schulisch | P40: kombiniert | Q40: Integrationsprogramm
N41: 2005 | O41: 831 | P41: 73
N42: 2006 | O42: 771 | P42: 139
N43: 2007 | O43: 702 | P43: 228
N44: 2008 | O44: 695 | P44: 257
N45: 2009 | O45: 688 | P45: 153
...

Sheet T19
A1: =Inhaltsverzeichnis!B38&" "&Inhaltsverzeichnis!D38 -> Tabelle 19: Private Brückenangebote, 2015/16
B4: Schulorte | C4: Total | D4: Schüler/ innen
B5: Total | C5: 27 | D5: 10

Sheet T20
A1: =Inhaltsverzeichnis!B41&" "&Inhaltsverzeichnis!D41 -> Tabelle 20: Berufslernende nach Ausbildungsrichtung, 2015/16
B4: Jahr | C4: Berufslehre (EFZ) | G4: Anlehre/Attest (EBA)
C5: Kaufmännisch | D5: Gewerblich- industriell | E5: Gesundheit | F5: Landwirtschaft | G5: Kaufmännisch | H5: Gewerblich- industriell | I5: Gesundheit | J5: Landwirtschaft
B6: 2012 | C6: 4357 | D6: 9944 | E6: 1346 | F6: 345 | G6: 304 | H6: 566 | I6: 140 | J6: 14
B7: 2013 | C7: 4286 | D7: 9881 | E7: 1542 | F7: 250 | G7: 337 | H7: 503 | I7: 160 | J7: 10
B8: 2014 | C8: 4193 | D8: 9787 | E8: 1655 | F8: 253 | G8: 335 | H8: 562 | I8: 175 | J8: 9
B9: 2015 | C9: 4047 | D9: 9549 | E9: 1780 | F9: 367 | G9: 305 | H9: 465 | I9: 217 | J9: 0
C41: Kaufmännisch | D41: Gewerblich-industriell | E41: Gesundheitsbereich | F41: Landwirtschaft
C42: 4352 | D42: 10014 | E42: 1997 | F42: 367

Sheet T21
A1: =Inhaltsverzeichnis!B42&" "&Inhaltsverzeichnis!D42 -> Tabelle 21: Lernende an Berufsfachschulen nach Geschlecht und Nationalität, 2015/16
B4: Geschlecht/Nationalität | C4: Berufsfachschulen
C5: Kaufmännisch | D5: Gewerblich-industriell | E5: Gesundheit | F5: Atteste/ Anlehren
B6: Total | C6: 4047 | D6: 9549 | E6: 1780 | F6: 987
B7: weiblich absolut | C7: 2589 | D7: 2241 | E7: 1581 | F7: 504
B8: weiblich in % | C8: 64 | D8: 23.5 | E8: 88.8 | F8: 51.1
B9: Ausland absolut | C9: 884 | D9: 1784 | E9: 382 | F9: 463
B10: Ausland in % | C10: 21.8 | D10: 18.7 | E10: 21.5 | F10: 46.9
B12: Italien | C12: 191 | D12: 274 | E12: 51 | F12: 64
B13: Spanien | C13: 14 | D13: 28 | E13: 5 | F13: 3
B14: Portugal | C14: 49 | D14: 93 | E14: 29 | F14: 34
B15: England | C15: 3 | D15: 9 | E15: 1 | F15: 1
B16: Deutschland | C16: 74 | D16: 208 | E16: 57 | F16: 18
B17: Österreich | C17: 7 | D17: 22 | E17: 2 | F17: 7
B18: Niederlande | C18: 1 | D18: 21 | E18: 0 | F18: 1
... B31: Andere | C31: 62 | D31: 205 | E31: 51 | F31: 79
B33: 1) Ohne BM2 und Berufe im Gesundheitsbereich und landwirtschaftlichen Berufsfachschulen (Abschnitt 4.2 und 4.3)
K38: Schweizer/innen | L38: Ausländer/innen
K39: 53.1 | L39: 46.9
K40: 77.9 | L40: 22.1
J41: EBA Anlehre/Attest | K41: 81.2 | L41: 18.8
J42: EFZ Gesundheit | K42: 77.8 | L42: 22.2
J43: EFZ Gewerblich-Industriell
J44: EFZ Kaufmännisch
K66: Männer | L66: Frauen
K67: 48.9 | L67: 51.1
K68: 10.1 | L68: 89.9
J69: EBA Anlehre/Attest | K69: 76.6 | L69: 23.4
J70: EFZ Gesundheit | K70: 35.6 | L70: 64.4
J71: EFZ Gewerblich-Industriell
J72: EFZ Kaufmännisch

Sheet T22
A1: =Inhaltsverzeichnis!B43&" "&Inhaltsverzeichnis!D43 -> Tabelle 22: Berufslernende nach Berufsgruppe, 2015/16
B4: Berufsgruppe | C4: Total | D4: Schülerinnen | F4: Ausländer/innen | H4: BM
D5: absolut | E5: in % | F5: absolut | G5: in %
B6: Natur | C6: 422 | D6: 134 | E6: 31.8 | F6: 30 | G6: 7.1 | H6: 12
B7: Nahrung | C7: 207 | D7: 122 | E7: 58.9 | F7: 26 | G7: 12.6 | H7: 5
B8: Gastgewerbe | C8: 571 | D8: 334 | E8: 58.5 | F8: 97 | G8: 17 | H8: 5
B9: Textilien | C9: 115 | D9: 83 | E9: 72.2 | F9: 13 | G9: 11.3 | H9: 15
B10: Schönheit, Sport | C10: 313 | D10: 293 | E10: 93.6 | F10: 107 | G10: 34.2 | H10: 3
B11: Bau | C11: 1045 | D11: 75 | E11: 7.2 | F11: 174 | G11: 16.7 | H11: 32
B12: Gebäudetechnik | C12: 679 | D12: 15 | E12: 2.2 | F12: 191 | G12: 28.1 | H12: 5
B13: Holz, Innenausbau | C13: 802 | D13: 80 | E13: 10 | F13: 67 | G13: 8.4 | H13: 30
B14: Fahrzeuge | C14: 1096 | D14: 116 | E14: 10.6 | F14: 245 | G14: 22.4 | H14: 24
B15: Elektrotechnik | C15: 931 | D15: 36 | E15: 3.9 | F15: 133 | G15: 14.3 | H15: 233
B16: Metall, Maschinen | C16: 1047 | D16: 27 | E16: 2.6 | F16: 256 | G16: 24.5 | H16: 95
B17: Chemie, Physik | C17: 271 | D17: 53 | E17: 19.6 | F17: 71 | G17: 26.2 | H17: 7
... B25: BM2 | C25: 382 | D25: 162 | E25: 42.4 | F25: 39 | G25: 10.2 | H25: 382
P34: Männer | Q34: Frauen
O35: Natur | P35: =C6-D6 -> 288 | Q35: =D6 -> 134
O36: Nahrung | P36: =C7-D7 -> 85 | Q36: =D7 -> 122
O37: Gastgewerbe | P37: =C8-D8 -> 237 | Q37: =D8 -> 334
O38: Textilien | P38: =C9-D9 -> 32 | Q38: =D9 -> 83
O39: Schönheit, Sport | P39: =C10-D10 -> 20 | Q39: =D10 -> 293
O40: Bau | P40: =C11-D11 -> 970 | Q40: =D11 -> 75
O41: Gebäudetechnik | P41: =C12-D12 -> 664 | Q41: =D12 -> 15
O42: Holz, Innenausbau | P42: =C13-D13 -> 722 | Q42: =D13 -> 80
O43: Fahrzeuge | P43: =C14-D14 -> 980 | Q43: =D14 -> 116
O44: Elektrotechnik | P44: =C15-D15 -> 895 | Q44: =D15 -> 36
O45: Metall, Maschinen | P45: =C16-D16 -> 1020 | Q45: =D16 -> 27
O46: Chemie, Physik | P46: =C17-D17 -> 218 | Q46: =D17 -> 53
... O53: Bildung, Soziales | P53: =C24-D24 -> 66 | Q53: =D24 -> 523

Sheet T23
A1: =Inhaltsverzeichnis!B44&" "&Inhaltsverzeichnis!D44 -> Tabelle 23: Meist gewählte Berufe nach Geschlecht, 2015/16
B4: Beruf | C4: Anzahl
B6: Kauffrau EFZ | C6: 1604
B7: Fachfrau Gesundheit EFZ | C7: 956
B8: Detailhandelsfachfrau EFZ | C8: 650
B9: Fachfrau Betreuung EFZ | C9: 523
B10: Medizinische Praxisassistentin EFZ | C10: 220
B11: Detailhandelsassistentin EBA | C11: 213
B14: Kaufmann EFZ | C14: 921
B15: Polymechaniker EFZ | C15: 640
B16: Logistiker EFZ | C16: 492
B17: Elektroinstallateur EFZ | C17: 426
B18: Detailhandelsfachmann EFZ | C18: 388
B19: Automatiker EFZ | C19: 325

Sheet T24
A1: =Inhaltsverzeichnis!B45&" "&Inhaltsverzeichnis!D45 -> Tabelle 24: Berufslernende des 1. Lehrjahres nach Vorbildung und Berufsgruppe, 2015/16
B4: Berufsgruppe | C4: Total1) | D4: Bezirksschule | F4: Sekundarschule | H4: Realschule | J4: Klein-klasse/ Werkjahr | K4: Brücken-angebot | L4: Andere
D5: absolut | E5: in % | F5: absolut | G5: in % | H5: absolut | I5: in %
B6: Natur | C6: 113 | D6: 18 | E6: 15.9 | F6: 48 | G6: 42.5 | H6: 31 | I6: 27.4 | J6: 2 | K6: 6 | L6: 8
B7: Nahrung | C7: 62 | D7: 7 | E7: 11.3 | F7: 25 | G7: 40.3 | H7: 14 | I7: 22.6 | J7: 4 | K7: 8 | L7: 4
B8: Gastgewerbe | C8: 123 | D8: 14 | E8: 11.4 | F8: 53 | G8: 43.1 | H8: 30 | I8: 24.4 | J8: 1 | K8: 17 | L8: 8
B9: Textilien | C9: 9 | D9: 0 | E9: 0 | F9: 7 | G9: 77.8 | H9: 2 | I9: 22.2 | J9: 0 | K9: 0 | L9: 0
B10: Schönheit, Sport | C10: 65 | D10: 1 | E10: 1.5 | F10: 16 | G10: 24.6 | H10: 35 | I10: 53.8 | J10: 0 | K10: 12 | L10: 1
B11: Druck | C11: 15 | D11: 3 | E11: 20 | F11: 6 | G11: 40 | H11: 1 | I11: 6.7 | J11: 0 | K11: 4 | L11: 1
B12: Bau | C12: 96 | D12: 5 | E12: 5.2 | F12: 42 | G12: 43.8 | H12: 35 | I12: 36.5 | J12: 1 | K12: 7 | L12: 6
B13: Gebäudetechnik | C13: 134 | D13: 5 | E13: 3.7 | F13: 38 | G13: 28.4 | H13: 68 | I13: 50.7 | J13: 4 | K13: 18 | L13: 1
B14: Holz, Innenausbau | C14: 138 | D14: 19 | E14: 13.8 | F14: 76 | G14: 55.1 | H14: 26 | I14: 18.8 | J14: 3 | K14: 10 | L14: 4
B15: Fahrzeuge | C15: 190 | D15: 27 | E15: 14.2 | F15: 80 | G15: 42.1 | H15: 61 | I15: 32.1 | J15: 2 | K15: 18 | L15: 2
B16: Elektrotechnik | C16: 305 | D16: 88 | E16: 28.9 | F16: 162 | G16: 53.1 | H16: 37 | I16: 12.1 | J16: 0 | K16: 16 | L16: 2
B17: Metall, Maschinen | C17: 222 | D17: 38 | E17: 17.1 | F17: 126 | G17: 56.8 | H17: 35 | I17: 15.8 | J17: 3 | K17: 16 | L17: 4
... B25: Bildung, Soziales | C25: 25 | D25: 3 | E25: 12 | F25: 7 | G25: 28 | H25: 2 | I25: 8 | J25: 0 | K25: 3 | L25: 10
B27: 1) Lernende mit vorjährigem Schulbesuch im Kanton Aargau
I30: Beruf | J30: Anzahl
I32: Kaufmann/frau EFZ | J32: 329
I33: Zeichner/in EFZ | J33: 57
I34: Informatiker/in EFZ | J34: 52
I35: Fachmann/frau Gesundheit EFZ | J35: 44
I36: Automatiker/in EFZ | J36: 41
I37: Polymechaniker/in EFZ | J37: 36
I40: Kaufmann/frau EFZ | J40: 276
I41: Detailhandelsfachmann/frau EFZ | J41: 111
I42: Fachmann/frau Gesundheit EFZ | J42: 103
I43: Elektroinstallateur/in EFZ | J43: 92
I44: Polymechaniker/in EFZ | J44: 91
I45: Automobil-Fachmann/frau EFZ | J45: 44
... I53: Fachmann/frau Gesundheit EFZ | J53: 29

Sheet T25
A1: =Inhaltsverzeichnis!B46&" "&Inhaltsverzeichnis!D46 -> Tabelle 25: Kaufmännische und Gewerblich-industrielle Berufsfachschulen und Bildungszentren, 2015/16
B4: Berufsfachschulen und Bildungszentren | C4: Total | D4: Kaufmän- nisch | E4: Gewerblich-industriell | F4: Schülerinnen | H4: Ausländer/innen
F5: absolut | G5: in % | H5: absolut | I5: in %
B6: Berufsschule Aarau | C6: 2665 | D6: 0 | E6: 2665 | F6: 1088 | G6: 40.8 | H6: 654 | I6: 24.5
B7: Schule für Gestaltung Aarau | C7: 195 | D7: 0 | E7: 195 | F7: 79 | G7: 40.5 | H7: 45 | I7: 23.1
B8: Handelsschule KV Aarau | C8: 1470 | D8: 1470 | E8: 0 | F8: 977 | G8: 66.5 | H8: 375 | I8: 25.5
B9: BBB BerufsBildungBaden | C9: 2194 | D9: 0 | E9: 2194 | F9: 360 | G9: 16.4 | H9: 442 | I9: 20.1
B10: Wirtschaftsschule KV Baden-Zurzach | C10: 1315 | D10: 1315 | E10: 0 | F10: 853 | G10: 64.9 | H10: 367 | I10: 27.9
B11: BWZ Brugg Technik/Natur, Wirtschaft (KV) | C11: 1216 | D11: 332 | E11: 884 | F11: 321 | G11: 26.4 | H11: 148 | I11: 12.2
B12: Berufsschule Lenzburg | C12: 2158 | D12: 0 | E12: 2158 | F12: 266 | G12: 12.3 | H12: 380 | I12: 17.6
B13: KV Lenzburg-Reinach Business School | C13: 458 | D13: 458 | E13: 0 | F13: 278 | G13: 60.7 | H13: 80 | I13: 17.5
B14: BBZ Freiamt | C14: 643 | D14: 324 | E14: 319 | F14: 258 | G14: 40.1 | H14: 81 | I14: 12.6
B15: BBZ Fricktal | C15: 750 | D15: 226 | E15: 524 | F15: 261 | G15: 34.8 | H15: 166 | I15: 22.1
B16: Berufsschulen Zofingen Bildungszentrum | C16: 1264 | D16: 227 | E16: 1037 | F16: 376 | G16: 29.7 | H16: 270 | I16: 21.4
B17: Schweizerische Gartenbauschule Niederlenz | C17: 38 | D17: 0 | E17: 38 | F17: 22 | G17: 57.9 | H17: 7 | I17: 18.4

Sheet T26
A1: =Inhaltsverzeichnis!B47&" "&Inhaltsverzeichnis!D47 -> Tabelle 26: Berufslernende im Gesundheitsbereich nach Geschlecht und Nationalität, 2015/16
B4: Standort | C4: Schulart | D4: Total | E4: weiblich | G4: Ausländer/innen | I4: BM
E5: absolut | F5: in % | G5: absolut | H5: in %
B6: Berufsfachschule Gesundheit und Soziales, Brugg
B7: Brugg | C7: Assistent/in Gesundheit und Soziales | D7: 217 | E7: 195 | F7: 89.9 | G7: 116 | H7: 53.5 | I7: 0
B8: Brugg | C8: Fachmann/frau Gesundheit und Betreuung | D8: 1780 | E8: 1581 | F8: 88.8 | G8: 382 | H8: 21.5 | I8: 159
B9: Höhere Schule für Gesundheit und Soziales (Tertiär)
B10: Aarau | C10: Diplomierte Pflegefachfrau/mann HF | D10: 418 | E10: 375 | F10: 89.7 | G10: 38 | H10: 9.1 | I10: 0
B11: Aarau | C11: Techn. Operationsassistent/in | D11: 120 | E11: 109 | F11: 90.8 | G11: 25 | H11: 20.8 | I11: 0
B12: Aarau | C12: Sozialpädagogik | D12: 221 | E12: 153 | F12: 69.2 | G12: 12 | H12: 5.4 | I12: 0

Sheet T27
A1: =Inhaltsverzeichnis!B50&" "&Inhaltsverzeichnis!D50 -> Tabelle 27: Lernende an Mittelschulen (ohne Aargauische Maturitätsschule für Erwachsene, AME), 1972 – 2015
B4: Jahr | C4: Gymnasium | E4: FMS1) | G4: FM2) | I4: WMS3) | K4: IMS4) | M4: Total
C5: Total | D5: weibl. | E5: Total | F5: weibl. | G5: Total | H5: weibl. | I5: Total | J5: weibl. | K5: Total | L5: weibl. | M5: Total | N5: weibl.
B6: 1972 | C6: 749 | D6: ... | E6: 77 | F6: 77 | G6: ... | H6: ... | I6: 172 | J6: 146 | K6: ... | L6: ... | M6: 2950 | N6: ...
B7: 1975 | C7: 726 | D7: ... | E7: 199 | F7: 199 | G7: ... | H7: ... | I7: 170 | J7: 115 | K7: ... | L7: ... | M7: 3017 | N7: ...
B8: 1980 | C8: 666 | D8: 536 | E8: 287 | F8: 287 | G8: ... | H8: ... | I8: 289 | J8: 211 | K8: ... | L8: ... | M8: 3552 | N8: 1809
B9: 1985 | C9: 573 | D9: 509 | E9: 278 | F9: 278 | G9: ... | H9: ... | I9: 335 | J9: 230 | K9: ... | L9: ... | M9: 3486 | N9: 1788
B10: 1990 | C10: 529 | D10: 362 | E10: 183 | F10: 173 | G10: ... | H10: ... | I10: 259 | J10: 156 | K10: ... | L10: ... | M10: 3257 | N10: 1678
B11: 1995 | C11: 696 | D11: 565 | E11: 304 | F11: 282 | G11: ... | H11: ... | I11: 164 | J11: 94 | K11: ... | L11: ... | M11: 3989 | N11: 2242
B12: 1998 | C12: 564 | D12: 724 | E12: 351 | F12: 333 | G12: ... | H12: ... | I12: 198 | J12: 86 | K12: ... | L12: ... | M12: 4212 | N12: 2494
B13: nach der Umsetzung des Maturitätsanerkennungsreglements (MAR)
B14: 1999 | C14: 3549 | D14: 2025 | E14: 335 | F14: 316 | G14: ... | H14: ... | I14: 232 | J14: 100 | K14: ... | L14: ... | M14: 4116 | N14: 2441
B15: 2000 | C15: 3392 | D15: 1967 | E15: 336 | F15: 318 | G15: ... | H15: ... | I15: 307 | J15: 156 | K15: ... | L15: ... | M15: 4035 | N15: 2441
B16: 2005 | C16: 3281 | D16: 1920 | E16: 680 | F16: 573 | G16: ... | H16: ... | I16: 453 | J16: 158 | K16: ... | L16: ... | M16: 4414 | N16: 2651
B17: 2006 | C17: 3480 | D17: 2091 | E17: 691 | F17: 576 | G17: ... | H17: ... | I17: 415 | J17: 143 | K17: ... | L17: ... | M17: 4586 | N17: 2810
B18: 2007 | C18: 3487 | D18: 2091 | E18: 690 | F18: 575 | G18: ... | H18: ... | I18: 393 | J18: 136 | K18: ... | L18: ... | M18: 4570 | N18: 2802
B19: 2008 | C19: 3579 | D19: 2130 | E19: 635 | F19: 521 | G19: ... | H19: ... | I19: 410 | J19: 150 | K19: 18 | L19: 2 | M19: 4642 | N19: 2803
B20: 2009 | C20: 3744 | D20: 2243 | E20: 599 | F20: 498 | G20: ... | H20: ... | I20: 428 | J20: 159 | K20: 48 | L20: 5 | M20: 4819 | N20: 2905
B21: 2010 | C21: 3863 | D21: 2283 | E21: 581 | F21: 462 | G21: 110 | H21: 93 | I21: 429 | J21: 155 | K21: 70 | L21: 8 | M21: 5053 | N21: 3001
B22: 2011 | C22: 4053 | D22: 2402 | E22: 556 | F22: 453 | G22: 115 | H22: 101 | I22: 413 | J22: 157 | K22: 86 | L22: 6 | M22: 5223 | N22: 3119
B23: 2012 | C23: 4189 | D23: 2435 | E23: 603 | F23: 498 | G23: 99 | H23: 88 | I23: 393 | J23: 151 | K23: 126 | L23: 12 | M23: 5410 | N23: 3184
B24: 2013 | C24: 4224 | D24: 2470 | E24: 634 | F24: 521 | G24: 141 | H24: 118 | I24: 412 | J24: 161 | K24: 128 | L24: 4 | M24: 5539 | N24: 3274
B25: 2014 | C25: 4230 | D25: 2512 | E25: 657 | F25: 532 | G25: 168 | H25: 143 | I25: 446 | J25: 171 | K25: 150 | L25: 5 | M25: 5651 | N25: 3363
B26: 2015 | C26: 4189 | D26: 2495 | E26: 634 | F26: 510 | G26: 183 | H26: 157 | I26: 406 | J26: 156 | K26: 165 | L26: 5 | M26: 5577 | N26: 3323
B28: 1) Fachmittelschule | E28: 3) Wirtschaftsmittelschule
B29: 2) Fachmaturität | E29: 4) Informatikmittelschule
S33: Jahr | T33: Männer | U33: Frauen
S34: 1999 | T34: 1524 | U34: 2025
S35: 2000 | T35: 1425 | U35: 1967
S36: 2001 | T36: 1331 | U36: 1922
S37: 2002 | T37: 1313 | U37: 1790
S38: 2003 | T38: 1310 | U38: 1833
S39: 2004 | T39: 1331 | U39: 1848
S40: 2005 | T40: 1361 | U40: 1920
S41: 2006 | T41: 1389 | U41: 2091
S42: 2007 | T42: 1396 | U42: 2091
S43: 2008 | T43: 1449 | U43: 2130
S44: 2009 | T44: 1501 | U44: 2243
S45: 2010 | T45: 1580 | U45: 2283
... S50: 2015 | T50: 1694 | U50: 2495
...

Sheet T28
A1: =Inhaltsverzeichnis!B51&" "&Inhaltsverzeichnis!D51 -> Tabelle 28: Lernende an Mittelschulen nach Schulort, 2015/16
B4: Schulart | C4: Aarau, Alte KS | E4: Aarau, Neue KS | G4: Baden | I4: Wettingen | K4: Wohlen | M4: Zofingen | O4: Aarg. Maturitäts-schule f. Erwach-sene AME
C5: Schüler/ innen | D5: Klassen | E5: Schüler/ innen | F5: Klassen | G5: Schüler/ innen | H5: Klassen | I5: Schüler/ innen | J5: Klassen | K5: Schüler/ innen | L5: Klassen | M5: Schüler/ innen | N5: Klassen
B6: Gymnasium | C6: 1033 | D6: 49 | E6: 463 | F6: 22 | G6: 941 | H6: 44 | I6: 712 | J6: 34 | K6: 670 | L6: 32 | M6: 370 | N6: 18 | O6: 66
B7: WMS | C7: 220 | D7: 13 | E7: 0 | F7: 0 | G7: 186 | H7: 13 | I7: 0 | J7: 0 | K7: 0 | L7: 0 | M7: 0 | N7: 0 | O7: 0
B8: IMS | C8: 89 | D8: 5 | E8: 0 | F8: 0 | G8: 76 | H8: 6 | I8: 0 | J8: 0 | K8: 0 | L8: 0 | M8: 0 | N8: 0 | O8: 0
B9: FMS | C9: 0 | D9: 0 | E9: 273 | F9: 13 | G9: 0 | H9: 0 | I9: 231 | J9: 12 | K9: 130 | L9: 6 | M9: 0 | N9: 0 | O9: 0
B10: FM | C10: 0 | D10: 0 | E10: 99 | F10: 6 | G10: 0 | H10: 0 | I10: 84 | J10: 6 | K10: 0 | L10: 0 | M10: 0 | N10: 0 | O10: 0
B11: Total | C11: 1342 | D11: =SUM(D6:D10) -> 67 | E11: 835 | F11: =SUM(F6:F10) -> 41 | G11: 1203 | H11: =SUM(H6:H10) -> 63 | I11: 1027 | J11: =SUM(J6:J10) -> 52 | K11: 800 | L11: =SUM(L6:L10) -> 38 | M11: 370 | N11: =SUM(N6:N10) -> 18 | O11: 66
B13: Jahr | C13: Aarau, Alte KS | E13: Aarau, Neue KS | G13: Baden | I13: Wettingen | K13: Wohlen | M13: Zofingen
B14: 2000 | C14: 871 | E14: 669 | G14: 977 | I14: 804 | K14: 404 | M14: 310
B15: 2002 | C15: 936 | E15: 551 | G15: 957 | I15: 800 | K15: 379 | M15: 300
B16: 2004 | C16: 895 | E16: 681 | G16: 989 | I16: 924 | K16: 455 | M16: 336
B17: 2006 | C17: 928 | E17: 737 | G17: 1079 | I17: 939 | K17: 552 | M17: 351
B18: 2008 | C18: 1002 | E18: 770 | G18: 1070 | I18: 941 | K18: 502 | M18: 357
B19: 2010 | C19: 1239 | E19: 800 | G19: 1104 | I19: 1020 | K19: 495 | M19: 350
B20: 2012 | C20: 1355 | E20: 841 | G20: 1179 | I20: 1058 | K20: 619 | M20: 358
B21: 2013 | C21: 1367 | E21: 880 | G21: 1192 | I21: 1056 | K21: 678 | M21: 366
B22: 2014 | C22: 1370 | E22: 873 | G22: 1231 | I22: 1043 | K22: 773 | M22: 361
B23: 2015 | C23: 1342 | E23: 835 | G23: 1203 | I23: 1027 | K23: 800 | M23: 370

Sheet T29
A1: =Inhaltsverzeichnis!B52&" "&Inhaltsverzeichnis!D52 -> Tabelle 29: Schulklassen an den Mittelschulen, 1999 – 2015
B4: Jahr | C4: Gymnasium | D4: FMS | E4: FM | F4: WMS | G4: IMS | H4: Total | I4: Lernende pro Klasse Total | J4: Lernende pro Klasse Gymnasium
B5: 1999 | C5: 161 | D5: 12 | E5: 0 | F5: 15 | G5: 0 | H5: 188 | I5: 21.9 | J5: 22.043478
B6: 2000 | C6: 156 | D6: 15 | E6: 0 | F6: 14 | G6: 0 | H6: 185 | I6: 21.8 | J6: 21.74359
B7: 2001 | C7: 149 | D7: 14 | E7: 0 | F7: 18 | G7: 0 | H7: 181 | I7: 21.8 | J7: 21.832215
B8: 2002 | C8: 141 | D8: 15 | E8: 0 | F8: 23 | G8: 0 | H8: 179 | I8: 21.9 | J8: 22.007092
B9: 2003 | C9: 143 | D9: 24 | E9: 0 | F9: 23 | G9: 0 | H9: 190 | I9: 21.9 | J9: 21.979021
B10: 2004 | C10: 143 | D10: 27 | E10: 0 | F10: 23 | G10: 0 | H10: 193 | I10: 22.2 | J10: 22.230769
B11: 2005 | C11: 144 | D11: 31 | E11: 0 | F11: 20 | G11: 0 | H11: 195 | I11: 22.6 | J11: 22.784722
B12: 2006 | C12: 154 | D12: 33 | E12: 0 | F12: 19 | G12: 0 | H12: 206 | I12: 22.3 | J12: 22.597403
B13: 2007 | C13: 156 | D13: 33 | E13: 0 | F13: 18 | G13: 0 | H13: 207 | I13: 22.1 | J13: 22.352564
B14: 2008 | C14: 159 | D14: 31 | E14: 0 | F14: 19 | G14: 0 | H14: 210 | I14: 22.1 | J14: 22.509434
B15: 2009 | C15: 168 | D15: 28 | E15: 0 | F15: 20 | G15: 3 | H15: 219 | I15: 22.3 | J15: 22.285714
B16: 2010 | C16: 174 | D16: 27 | E16: 7 | F16: 20 | G16: 5 | H16: 233 | I16: 21.7 | J16: 22.201149
... B21: 2015 | C21: 199 | D21: 31 | E21: 12 | F21: 26 | G21: 11 | H21: 279 | I21: 20 | J21: 21.1

Sheet T30
A1: =Inhaltsverzeichnis!B53&" "&Inhaltsverzeichnis!D53 -> Tabelle 30: Lernende an Mittelschulen nach Geschlecht und Nationalität, 2015/16
B4: Geschlecht/Nationalität | C4: Lernende
B5: Total | C5: 5577
B6: weiblich absolut | C6: 3323
B7: weiblich in % | C7: 0.596
B8: Ausland absolut | C8: 808
B9: Ausland in % | C9: 0.145
B11: Italien | C11: 97
B12: Spanien | C12: 11
B13: Portugal | C13: 18
B14: England | C14: 15
B15: Deutschland | C15: 242
B16: Österreich | C16: 26
B17: Niederlande | C17: 23
... B30: Andere | C30: 160

Sheet T31
A1: =Inhaltsverzeichnis!B56&" "&Inhaltsverzeichnis!D56 -> Tabelle 31: Studierende an Berufs-, Techniker-, Fach- und höhere Fachschulen, 2015/16
B4: Schule | C4: Ausbildung | D4: Total | E4: weiblich | G4: Ausländer/innen
E5: absolut | F5: in % | G5: absolut | H5: in %
B6: Theologisch-Diakon. Seminar | C6: Diakon/in | D6: 61 | E6: 35 | F6: 57.4 | G6: 4 | H6: 6.6
B8: Schule für Gestaltung | C8: Gestalterischer Vorkurs | D8: 52 | E8: 41 | F8: 78.8 | G8: 5 | H8: 9.6
C9: Betriebsfachmann/-frau (Druck) EF | D9: 21 | E9: 4 | F9: 19 | G9: 3 | H9: 14.3
C10: Techno-Polygraf/in EF | D10: 17 | E10: 12 | F10: 70.6 | G10: 0 | H10: 0
C11: Verpackungstechnolog/in EFZ | D11: 58 | E11: 9 | F11: 15.5 | G11: 22 | H11: 37.9
C12: Drucktechnologe/in EFZ | D12: 42 | E12: 9 | F12: 21.4 | G12: 15 | H12: 35.7
C13: Polygraf/in EFZ | D13: 89 | E13: 61 | F13: 68.5 | G13: 2 | H13: 2.2
C14: Printmedienpraktiker EBA | D14: 6 | E14: 0 | F14: 0 | G14: 6 | H14: 100
C15: Total | D15: =SUM(D8:D14) -> 285 | E15: =SUM(E8:E14) -> 136 | F15: 47.7 | G15: =SUM(G8:G14) -> 53 | H15: 18.6
B17: Kantonale Bauschule | C17: Baupolier/in EF | D17: 48 | E17: 0 | F17: 0 | G17: 2 | H17: 4.2
C18: Ausführung Hochbau | D18: 197 | E18: 6 | F18: 3 | G18: 12 | H18: 6.1
C19: Holzbau | D19: 67 | E19: 1 | F19: 1.5 | G19: 2 | H19: 3
C20: Projektierung Hochbau | D20: 63 | E20: 21 | F20: 33.3 | G20: 3 | H20: 4.8
C21: Projektierung Tiefbau | D21: 48 | E21: 12 | F21: 25 | G21: 3 | H21: 6.3
C22: Innenausbau | D22: 12 | E22: 5 | F22: 41.7 | G22: 0 | H22: 0
