{"text_format":"3","workbook":"xlsx","n_sheets":20,"sheets":["Änderungsübersicht","Ausgangslage","Berechnung NS","Investitionsplan","Budget","Prognosen","Schulden-Zinsen","Titelblatt","InvprogrammA","InvprogrammB","Plan-ER","EK","Schulden","Übersicht","KZ","GRAFIKEN","GDat","Kat","Hlp","Auswertungen für FA"],"not_rendered":{"charts":2,"images":2,"macros":1,"defined_names":48},"read":"whole","date_system":"1900"}

{"sheet":"Änderungsübersicht","index":0,"n_rows":5,"n_cols":1,"rows_kept":5}
["Änderungsübersicht"]
[]
[]
["Version 7.4"]
["- Umbuchung Aufwertungsreserve Grundstücke im Jahr 2023 (Ausgangslage)"]

{"sheet":"Ausgangslage","index":1,"n_rows":62,"n_cols":19,"rows_kept":62,"merged":[[2,3,2,6],[7,3,7,6],[12,3,12,4],[14,0,14,6],[17,7,17,8],[18,7,18,8],[19,7,19,8],[20,7,20,8],[21,7,21,8],[21,9,21,14],[24,0,24,1],[24,2,24,6],[24,7,24,8],[24,11,24,12],[24,15,24,16],[25,0,25,1],[25,2,25,6],[25,7,25,8],[25,15,25,16],[26,0,26,1],[26,2,26,6],[26,7,26,8],[27,0,27,1],[27,2,27,6],[27,7,27,8],[29,7,29,8],[29,9,29,10],[29,11,29,12],[30,0,30,6],[30,7,30,8],[30,9,30,10],[30,11,30,12],[31,0,31,6],[31,7,31,8],[31,9,31,10],[31,11,31,12],[32,0,32,6],[32,7,32,8],[32,9,32,10],[32,11,32,12],[33,0,33,6],[33,7,33,8],[33,9,33,10],[33,11,33,12],[34,0,34,6],[34,7,34,8],[34,9,34,10],[34,11,34,12],[35,0,35,6],[35,7,35,8],[35,9,35,10],[35,11,35,12],[36,0,36,6],[36,7,36,8],[36,9,36,10],[36,11,36,12],[37,0,37,6],[37,7,37,8],[37,9,37,10],[37,11,37,12],[38,0,38,6],[38,7,38,8],[38,9,38,10],[38,11,38,12],[39,0,39,6],[39,7,39,8],[39,9,39,10],[39,11,39,12],[40,0,40,6],[40,7,40,8],[40,9,40,10],[40,11,40,12],[41,0,41,6],[41,7,41,8],[41,9,41,10],[41,11,41,12],[42,0,42,6],[42,7,42,8],[42,9,42,10],[42,11,42,12],[43,0,43,6],[43,7,43,8],[43,9,43,10],[43,11,43,12],[44,0,44,6],[44,7,44,8],[44,9,44,10],[44,11,44,12],[45,0,45,6],[45,7,45,8],[45,9,45,10],[45,11,45,12],[46,0,46,6],[46,7,46,8],[46,9,46,10],[46,11,46,12],[47,0,47,6],[47,7,47,8],[47,9,47,10],[47,11,47,12],[48,0,48,6],[48,7,48,8],[48,9,48,10],[48,11,48,12],[49,0,49,6],[49,7,49,8],[49,9,49,10],[49,11,49,12],[52,0,52,6],[52,7,52,8],[53,0,53,6],[53,7,53,8],[54,0,54,6],[54,7,54,8],[56,7,56,8],[56,9,56,10],[56,11,56,12],[56,13,56,14],[56,15,56,16],[57,7,57,8],[57,9,57,10],[57,11,57,12],[57,13,57,14],[57,15,57,16],[58,7,58,8],[58,9,58,10],[58,11,58,12],[58,13,58,14],[58,15,58,16],[59,0,59,6],[59,7,59,8],[59,9,59,10],[59,11,59,12],[59,13,59,14],[59,15,59,16],[60,0,60,6],[60,7,60,8],[60,9,60,10],[60,11,60,12],[60,13,60,14],[60,15,60,16],[61,0,61,6],[61,7,61,8],[61,9,61,10],[61,11,61,12],[61,13,61,14],[61,15,61,16]]}
["Ausgangslage"]
[]
["Gemeinde:",null,null,"9999 Muster"]
[]
["1. Planjahr:",null,null,2024,null,"Anzahl Planjahre:",null,null,10]
[{"$nulls":3},"Budgetjahr = 1. Planjahr"]
[]
["Stand/Datum:"]
[]
["Ausgangsdaten:",{"$nulls":4},{"$f":"IF(S10=1,\">> Planung: Budget \"&D5-1&\" / Prognose \"&D5-1&\" / Budget \"&D5&\" = 1. Planjahr\",\"\")","v":">> Planung: Budget 2023 / Prognose 2023 / Budget 2024 = 1. Planjahr"},{"$nulls":12},1]
[{"$nulls":5},{"$f":"IF(S10=1,\"\",\">> Planung: Budget \"&D5-1&\" / Ist \"&D5-1&\" / Budget \"&D5&\" = 1. Planjahr\")","v":""}]
[]
[{"$f":"\"Einwohnerzahl \"&D5-2&\":\"","v":"Einwohnerzahl 2022:"}]
[]
["Alle Beträge sind in 1'000 Franken zu erfassen"]
[]
[{"$f":"\"Bilanz 31.12.\"&D5-2","v":"Bilanz 31.12.2022"}]
[100,"Flüssige Mittel"]
[102,"Kurzfristige Finanzanlagen"]
[201,"Kurzfristige Finanzverbindlichkeiten"]
["Nettobestand Flüssige Mittel",{"$nulls":6},{"$f":"H18+H19-H20","v":0}]
["Nettoschuld I (+ = Schuld / - = Vermögen)",{"$nulls":6},{"$f":"'Berechnung NS'!H77","v":0},null,"Zahlen erfassen in Berechnung NS"]
[]
["Eigenkapital"]
[29500.01,null,"Aufwertungsreserve übr. Anlagen",{"$nulls":7},"Entnahme bis:",{"$nulls":3},"Umbuchung:"]
[29500.02,null,"Aufwertungsreserve Grundstücke",{"$nulls":11},"Umbuchung:",2023]
[]
[299,null,"Bilanzüberschuss/-fehlbetrag"]
[]
[{"$f":"\"Kredite/Darlehen per 31.12.\"&D5-2","v":"Kredite/Darlehen per 31.12.2022"},{"$nulls":6},"Betrag",null,"Zinssatz",null,"Rückzahlung"]
{"$rows_empty":21}
[{"$f":"\"Erfolgsausweis \"&D5-2&\" (Einwohnergemeinde ohne Spezialfinanzierungen)\"","v":"Erfolgsausweis 2022 (Einwohnergemeinde ohne Spezialfinanzierungen)"}]
["Betrieblicher Aufwand"]
["Finanzaufwand"]
["Operativer Aufwand",{"$nulls":6},{"$f":"H53+H54","v":0}]
[]
["Vorjahreszahlen (ohne Spezialfinanzierungen)",{"$nulls":6},{"$f":"J57-1","v":2020},null,{"$f":"L57-1","v":2021},null,{"$f":"D5-2","v":2022}]
["Operatives Ergebnis"]
["Gesamtergebnis"]
["Selbstfinanzierung"]
["Nettoinvestitionen"]
["Nettoschuld I je Einwohner (in CHF)"]

{"sheet":"Berechnung NS","index":2,"n_rows":77,"n_cols":10,"rows_kept":77}
["Berechnung Nettoschuld I"]
[{"$nulls":9},"aus-"]
["Hinweis: alle Zahlen positiv in 1'000 Franken eingeben",{"$nulls":6},{"$f":"Ausgangslage!A17","v":"Bilanz 31.12.2022"},null,"blend."]
[20,"Fremdkapital"]
["+29001","Verpflichtungen (+) / Vorschüsse (-) Wasserwerk"]
["+29002","Verpflichtungen (+) / Vorschüsse (-) Abwasserbeseitigung"]
["+29003","Verpflichtungen (+) / Vorschüsse (-) Abfallwirtschaft"]
["+29004","Verpflichtungen (+) / Vorschüsse (-) Elektrizitätswerk"]
["+2900x","Verpflichtungen (+) / Vorschüsse (-) weitere Spezialfinanzierungen"]
["-2068x.01","Passivierte Investitionsbeiträge Einwohnergemeinde"]
["-14031","Tiefbauten Wasserwerk"]
["-14032","Tiefbauten Abwasserbeseitigung"]
["-14033","Tiefbauten Abfallwirtschaft"]
["-14034","Tiefbauten Elektrizitätswerk"]
["-1403x","Tiefbauten weitere Spezialfinanzierungen"]
["-14041","Hochbauten Wasserwerk"]
["-14042","Hochbauten Abwasserbeseitigung"]
["-14043","Hochbauten Abfallwirtschaft"]
["-14044","Hochbauten Elektrizitätswerk"]
["-1404x","Hochbauten weitere Spezialfinanzierungen"]
["-14061","Mobilien Wasserwerk"]
["-14062","Mobilien Abwasserbeseitigung"]
["-14063","Mobilien Abfallwirtschaft"]
["-14064","Mobilien Elektrizitätswerk"]
["-1406x","Mobilien weitere Spezialfinanzierungen"]
["-14071","Anlagen im Bau Wasserwerk"]
["-14072","Anlagen im Bau Abwasserbeseitigung"]
["-14073","Anlagen im Bau Abfallwirtschaft"]
["-14074","Anlagen im Bau Elektrizitätswerk"]
["-1407x","Anlagen im Bau weitere Spezialfinanzierungen"]
["-14201","Software Wasserwerk"]
["-14202","Software Abwasserbeseitigung"]
["-14203","Software Abfallwirtschaft"]
["-14204","Software Elektrizitätswerk"]
["-1420x","Software weitere Spezialfinanzierungen"]
["-14271","Immaterielle Anlagen in Realisierung Wasserwerk"]
["-14272","Immaterielle Anlagen in Realisierung Abwasserbeseitigung"]
["-14273","Immaterielle Anlagen in Realisierung Abfallwirtschaft"]
["-14274","Immaterielle Anlagen in Realisierung Elektrizitätswerk"]
["-1427x","Immaterielle Anlagen in Realisierung weitere Spezialfinanzierungen"]
["-14291","Übrige immaterielle Anlagen Wasserwerk"]
["-14292","Übrige immaterielle Anlagen Abwasserbeseitigung"]
["-14293","Übrige immaterielle Anlagen Abfallwirtschaft"]
["-14294","Übrige immaterielle Anlagen Abfallwirtschaft"]
["-1429x","Übrige immaterielle Anlagen weitere Spezialfinanzierungen"]
["-14621","Investitionsbeiträge an Gemeinden/Verbände Wasserwerk"]
["-14622","Investitionsbeiträge an Gemeinden/Verbände Abwasserbeseitigung"]
["-14623","Investitionsbeiträge an Gemeinden/Verbände Abfallwirtschaft"]
["-14624","Investitionsbeiträge an Gemeinden/Verbände Elektrizitätswerk"]
["-1462x","Investitionsbeiträge an Gemeinden/Verbände weitere Spezialfinanzierungen"]
["-14641","Investitionsbeiträge an öffentliche Unternehmungen Wasserwerk"]
["-14642","Investitionsbeiträge an öffentliche Unternehmungen Abwasserbeseitigung"]
["-14643","Investitionsbeiträge an öffentliche Unternehmungen Abfallwirtschaft"]
["-14644","Investitionsbeiträge an öffentliche Unternehmungen Elektrizitätswerk"]
["-1464x","Investitionsbeiträge an öffentliche Unternehmungen weitere Spezialfinanzierungen"]
["-14651","Investitionsbeiträge an private Unternehmungen Wasserwerk"]
["-14652","Investitionsbeiträge an private Unternehmungen Abwasserbeseitigung"]
["-14653","Investitionsbeiträge an private Unternehmungen Abfallwirtschaft"]
["-14654","Investitionsbeiträge an private Unternehmungen Elektrizitätswerk"]
["-1465x","Investitionsbeiträge an private Unternehmungen weitere Spezialfinanzierungen"]
["-14661","Investitionsbeiträge an private Organisationen ohne Erwerbszweck Wasserwerk"]
["-14662","Investitionsbeiträge an private Org. ohne Erwerbszweck Abwasserbeseitigung"]
["-14663","Investitionsbeiträge an private Org. ohne Erwerbszweck Abfallwirtschaft"]
["-14664","Investitionsbeiträge an private Org. ohne Erwerbszweck Elektrizitätswerk"]
["-1466x","Investitionsbeiträge an private Org. ohne Erwerbszweck weitere Spezialfinanzierungen"]
["-14671","Investitionsbeiträge an private Haushalte Wasserwerk"]
["-14672","Investitionsbeiträge an private Haushalte Abwasserbeseitigung"]
["-14673","Investitionsbeiträge an private Haushalte Abfallwirtschaft"]
["-14674","Investitionsbeiträge an private Haushalte Elektrizitätswerk"]
["-1467x","Investitionsbeiträge an private Haushalte weitere Spezialfinanzierungen"]
["-14691","Investitionsbeiträge an Anlagen im Bau Wasserwerk"]
["-14692","Investitionsbeiträge an Anlagen im Bau Abwasserbeseitigung"]
["-14693","Investitionsbeiträge an Anlagen im Bau Abfallwirtschaft"]
["-14694","Investitionsbeiträge an Anlagen im Bau Elektrizitätswerk"]
["-1469x","Investitionsbeiträge an Anlagen im Bau weitere Spezialfinanzierungen"]
["-10","Finanzvermögen"]
[{"$f":"\"Nettoschuld I per 31.12.\"&Ausgangslage!D5-2","v":"Nettoschuld I per 31.12.2022"},{"$nulls":3},"( + = Schuld / - = Vermögen)",null,null,{"$f":"ROUND(H4+SUM(H5:H9)-H10-SUM(H11:H75)-H76,0)","v":0}]

{"sheet":"Investitionsplan","index":3,"n_rows":14,"n_cols":31,"rows_kept":14,"merged":[[2,4,2,20],[2,21,2,30],[4,0,4,3],[8,17,8,20]]}
["Investitionsplan"]
["ohne Spezialfinanzierungen"]
[{"$nulls":4},"Investitionen",{"$nulls":16},"Abschreibungen"]
[{"$nulls":4},"Vorjahre",{"$f":"Ausgangslage!D5-1","v":2023},{"$f":"F4+1","v":2024},{"$f":"G4+1","v":2025},2026,2027,2028,2029,2030,2031,2032,2033,{"$f":"\"ab \"&P4+1","v":"ab 2034"},"Kate-\ngorie","ND","Inbetrieb-\nnahme","ohne\nAbschr.",{"$f":"G4","v":2024},{"$f":"G4+1","v":2025},{"$f":"H4+1","v":2026},2027,2028,2029,2030,2031,2032,2033]
[">> Abschreibungen aus Anlagebuchhaltung:",{"$nulls":4},">>",null,null,">>",null,null,">>",null,null,">>",{"$nulls":4},">>"]
["Funktion","Bezeichnung","Code","Kredit"]
[{"$nulls":21},{"$f":"ROUND(IF(AND(V$4>=$T7+1,$S7<>0,V$4<$T7+1+$S7,$U7<>\"x\"),$D7/$S7,0),0)","v":0},{"$f":"ROUND(IF(AND(W$4>=$T7+1,$S7<>0,W$4<$T7+1+$S7,$U7<>\"x\"),$D7/$S7,0),0)","v":0},0,0,0,0,0,0,0,0]
[{"$nulls":21},{"$f":"ROUND(IF(AND(V$4>=$T8+1,$S8<>0,V$4<$T8+1+$S8,$U8<>\"x\"),$D8/$S8,0),0)","v":0},0,0,0,0,0,0,0,0,0]
[null,"T o t a l",null,{"$f":"SUM(D$7:INDEX(D:D,ROW()-1))","v":0},{"$f":"SUM(E$6:INDEX(E:E,ROW()-1))","v":0},{"$f":"SUM(F$6:INDEX(F:F,ROW()-1))","v":0},{"$f":"SUM(G$6:INDEX(G:G,ROW()-1))","v":0},{"$f":"SUM(H$6:INDEX(H:H,ROW()-1))","v":0},{"$f":"SUM(I$6:INDEX(I:I,ROW()-1))","v":0},{"$f":"SUM(J$6:INDEX(J:J,ROW()-1))","v":0},{"$f":"SUM(K$6:INDEX(K:K,ROW()-1))","v":0},{"$f":"SUM(L$6:INDEX(L:L,ROW()-1))","v":0},{"$f":"SUM(M$6:INDEX(M:M,ROW()-1))","v":0},{"$f":"SUM(N$6:INDEX(N:N,ROW()-1))","v":0},{"$f":"SUM(O$6:INDEX(O:O,ROW()-1))","v":0},{"$f":"SUM(P$6:INDEX(P:P,ROW()-1))","v":0},{"$f":"SUM(Q$6:INDEX(Q:Q,ROW()-1))","v":0},{"$nulls":4},{"$f":"SUM(V$5:INDEX(V:V,ROW()-1))","v":0},{"$f":"SUM(W$5:INDEX(W:W,ROW()-1))","v":0},{"$f":"SUM(X$5:INDEX(X:X,ROW()-1))","v":0},{"$f":"SUM(Y$5:INDEX(Y:Y,ROW()-1))","v":0},{"$f":"SUM(Z$5:INDEX(Z:Z,ROW()-1))","v":0},{"$f":"SUM(AA$5:INDEX(AA:AA,ROW()-1))","v":0},{"$f":"SUM(AB$5:INDEX(AB:AB,ROW()-1))","v":0},{"$f":"SUM(AC$5:INDEX(AC:AC,ROW()-1))","v":0},{"$f":"SUM(AD$5:INDEX(AD:AD,ROW()-1))","v":0},{"$f":"SUM(AE$5:INDEX(AE:AE,ROW()-1))","v":0}]
[{"$nulls":3},{"$f":"IF(SUM(E9:Q9)=D9,\"\",\"Achtung: geplante Investitionen stimmen nicht mit Kreditbetrag überein.\")","v":""}]
["Code:"]
["1 = geplant"]
["2 = beschlossen"]
["3 = in Bau"]

{"sheet":"Budget","index":4,"n_rows":106,"n_cols":7,"rows_kept":106,"merged":[[9,0,9,1],[13,1,13,6],[19,1,19,6],[25,1,25,6],[30,1,30,6],[38,1,38,6],[40,0,40,1],[49,1,49,6],[55,1,55,6],[59,1,59,6],[63,1,63,6],[67,1,67,6],[72,1,72,6],[78,1,78,6],[80,0,80,1],[84,1,84,6],[88,1,88,6],[90,0,90,1],[92,0,92,1],[94,0,94,1],[103,1,103,6],[105,0,105,1]]}
[{"$f":"\"Budget \"&Ausgangslage!D5-1&\" / Budget \"&Ausgangslage!D5","v":"Budget 2023 / Budget 2024"}]
[]
[null,null,{"$f":"Ausgangslage!D5-1","v":2023},"Δ",{"$f":"C3","v":2023},null,{"$f":"Ausgangslage!D5","v":2024}]
[null,null,"Budget",null,{"$f":"IF(Ausgangslage!$S$10=1,\"Prognose\",\"IST\")","v":"Prognose"},null,"Budget"]
["Einwohnerzahl 31.12.",{"$nulls":3},{"$f":"C5+D5","v":0}]
["Steuerfuss",{"$nulls":3},{"$f":"C6","v":{"v":0,"d":"0%"}}]
[]
["ERFOLGSAUSWEIS EINWOHNERGEMEINDE",null,"Budget","Δ",{"$f":"E4","v":"Prognose"},null,"Budget"]
["OHNE SPEZIALFINANZIERUNGEN",null,{"$f":"C3","v":2023},null,{"$f":"E3","v":2023},null,{"$f":"G3","v":2024}]
["Betrieblicher Aufwand",null,{"$f":"ROUND(C12+C16+C22+C28+C33,0)","v":0},{"$f":"ROUND(D12+D16+D22+D28+D33,0)","v":0},{"$f":"ROUND(E12+E16+E22+E28+E33,0)","v":0},null,{"$f":"ROUND(G12+G16+G22+G28+G33,0)","v":0}]
[]
[30,"Personalaufwand",null,null,{"$f":"C12+D12","v":0}]
[null,"Bemerkung Δ:"]
[]
[]
[31,"Sach- und übriger Betriebsaufwand",null,{"$f":"SUM(D17:D18)","v":0},{"$f":"D16+C16","v":0}]
[31,"Sach-/übriger Betriebsaufwand ohne Abschr. Steuern",{"$f":"C16-C18","v":0},null,{"$f":"C17+D17","v":0},null,{"$f":"G16-G18","v":0}]
[null,"Abschreibungen Steuerforderungen",{"$f":"C46","v":0},{"$f":"D46","v":0},{"$f":"C18+D18","v":0},null,{"$f":"G46","v":0}]
[null,"Bemerkung Δ:"]
[]
[]
[33,"Abschreibungen Verwaltungsvermögen inkl. 366",{"$f":"C23+C24","v":0},{"$f":"D23+D24","v":0},{"$f":"C22+D22","v":0},null,{"$f":"G23+G24","v":0}]
["330/332","Abschreibungen Sachanlagen VV / immaterielle Anlagen, alle ohne SF",null,null,{"$f":"C23+D23","v":0}]
[366,"Abschreibungen Investitionsbeiträge ohne SF",{"$f":"C36","v":0},{"$f":"D36","v":0},{"$f":"C24+D24","v":0},null,{"$f":"G36","v":0}]
[null,"Bemerkung Δ:"]
[]
[]
[35,"Einlagen in Fonds",null,null,{"$f":"C28+D28","v":0}]
[350,"davon Einlagen in Fonds Fremdkapital",null,null,{"$f":"C29+D29","v":0}]
[null,"Bemerkung Δ:"]
[]
[]
[36,"Transferaufwand ohne 366",{"$f":"C34-C36","v":0},{"$f":"D37","v":0},{"$f":"C33+D33","v":0},null,{"$f":"G34-G36","v":0}]
[36,"Transferaufwand",null,{"$f":"D37","v":0},{"$f":"C34+D34","v":0}]
[3621,"Finanzausgleichsabgabe",0,null,{"$f":"C35","v":0},null,{"$f":"Prognosen!E29","v":0}]
[366,"Abschreibungen Investitionsbeiträge ohne SF",null,null,{"$f":"C36+D36","v":0}]
[null,"Transferaufwand, ohne Finanzausgleich und ohne Abschreibungen Investitionsbeiträge",{"$f":"C33-C35","v":0},null,{"$f":"C37+D37","v":0},null,{"$f":"G33-G35","v":0}]
[null,"Bemerkung Δ:"]
[]
[]
["Betrieblicher Ertrag",null,{"$f":"ROUND(C43+C58+C62+C66+C70+C75,0)","v":0},{"$f":"ROUND(D43+D58+D62+D66+D70+D75,0)","v":0},{"$f":"ROUND(E43+E58+E62+E66+E70+E75,0)","v":0},null,{"$f":"ROUND(G43+G58+G62+G66+G70+G75,0)","v":0}]
[]
[40,"Fiskalertrag",{"$f":"C45+C47+C48+C52+C54","v":0},{"$f":"D45+D47+D48+D52+D54","v":0},{"$f":"C43+D43","v":0},null,{"$f":"G45+G47+G48+G52+G54","v":0}]
["Funktion 9100 Allgemeine Gemeindesteuern:"]
["4000/1","Einkommens- und Vermögenssteuern nat. Pers.",null,null,0]
[31,"Abschreibungen Steuerforderungen",null,null,0]
[4002,"Quellensteuern",null,null,0]
[4010,"Gewinn- und Kapitalsteuern jur. Pers.",null,null,0]
[null,"Bemerkung Δ:"]
[]
["Funktion 9101 Sondersteuern:"]
[40,"Sondersteuern",null,null,0]
["Übrige Funktionen (z.B. 8120 Strukturverbesserungen):"]
[40,"Fiskalertrag ",null,null,{"$f":"C54+D54","v":0}]
[null,"Bemerkung Δ:"]
[]
[]
[41,"Regalien und Konzessionen",null,null,{"$f":"C58+D58","v":0}]
[null,"Bemerkung Δ:"]
[]
[]
[42,"Entgelte",null,null,{"$f":"C62+D62","v":0}]
[null,"Bemerkung Δ:"]
[]
[]
[43,"Verschiedene Erträge",null,null,{"$f":"C66+D66","v":0}]
[null,"Bemerkung Δ:"]
[]
[]
[45,"Entnahmen aus Fonds",null,null,{"$f":"C70+D70","v":0}]
[450,"davon Entnahmen aus Fonds Fremdkapital",null,null,{"$f":"C71+D71","v":0}]
[null,"Bemerkung Δ:"]
[]
[]
[46,"Transferertrag",null,{"$f":"D77","v":0},{"$f":"C75+D75","v":0}]
[4621,"Finanzausgleichsbeitrag (inkl. Ergänzungs- und  Übergangsbeiträge sowie Feinausgleich)",0,null,{"$f":"C76","v":0},null,{"$f":"SUM(Prognosen!E30:E33)","v":0}]
[null,"Transferertrag ohne Finanzausgleich",{"$f":"C75-C76","v":0},null,{"$f":"C77+D77","v":0},null,{"$f":"G75-G76","v":0}]
[null,"Bemerkung Δ:"]
[]
[]
["Ergebnis aus betrieblicher Tätigkeit",null,{"$f":"C41-C10","v":0},{"$f":"D41-D10","v":0},{"$f":"E41-E10","v":0},null,{"$f":"G41-G10","v":0}]
[]
[34,"Finanzaufwand",null,null,{"$f":"C83+D83","v":0}]
[null,"Bemerkung Δ:"]
[]
[]
[44,"Finanzertrag",null,null,{"$f":"C87+D87","v":0}]
[null,"Bemerkung Δ:"]
[]
[]
["Ergebnis aus Finanzierung",null,{"$f":"ROUND(C87-C83,0)","v":0},{"$f":"ROUND(D87-D83,0)","v":0},{"$f":"ROUND(E87-E83,0)","v":0},null,{"$f":"ROUND(G87-G83,0)","v":0}]
[]
["Operatives Ergebnis",null,{"$f":"C81+C91","v":0},{"$f":"D81+D91","v":0},{"$f":"E81+E91","v":0},null,{"$f":"G81+G91","v":0}]
[]
["Ausserordentliches Ergebnis",null,{"$f":"-C96+C100","v":0},{"$f":"-D96+D100","v":0},0,null,{"$f":"-G96+G100","v":0}]
[38,"Ausserordentlicher Aufwand",0,null,{"$f":"C96+D96","v":0},null,{"$f":"Prognosen!E43","v":0}]
[389,"davon Einlagen in das EK",0,null,{"$f":"C97+D97","v":0},null,{"$f":"Prognosen!E44","v":0}]
[3899,"davon Abtragung Bilanzfehlbetrag",null,null,{"$f":"C98+D98","v":0}]
[]
[48,"Ausserordentlicher Ertrag",0,null,{"$f":"C100+D100","v":0},null,{"$f":"Prognosen!E45","v":0}]
[489,"davon Entnahmen aus dem EK",0,null,{"$f":"C101+D101","v":0},null,{"$f":"Prognosen!E46","v":0}]
[4895,"davon Entnahme Aufwertungsreserve ohne SF",0,null,{"$f":"C102","v":0},null,{"$f":"Prognosen!E38","v":0}]
[null,"Bemerkung Δ:"]
[]
[]
["Gesamtergebnis Erfolgsrechnung",null,{"$f":"ROUND(C93+C95,0)","v":0},{"$f":"ROUND(D93+D95,0)","v":0},0,null,{"$f":"ROUND(G93+G95,0)","v":0}]

{"sheet":"Prognosen","index":5,"n_rows":101,"n_cols":14,"rows_kept":101,"merged":[[2,0,3,1],[22,0,22,1],[26,0,27,1],[26,2,27,3],[34,0,35,1],[34,2,35,2],[40,0,41,1],[40,2,41,2],[47,0,48,1]]}
["Prognosen"]
[]
["Plangrössen / Einflussfaktoren",null,{"$f":"Ausgangslage!D5-1","v":2023},{"$f":"C3","v":2023},{"$f":"Ausgangslage!D5","v":2024},{"$f":"E3+1","v":2025},{"$f":"F3+1","v":2026},2027,2028,2029,2030,2031,2032,{"$f":"M3+1","v":2033}]
[null,null,"Budget",{"$f":"Budget!E4","v":"Prognose"},"1. Planjahr","2. Planjahr","3. Planjahr","4. Planjahr","5. Planjahr","6. Planjahr","7. Planjahr","8. Planjahr","9. Planjahr","10. Planjahr"]
["Einwohnerzahl",null,{"$f":"Budget!C5","v":0},{"$f":"Budget!E5","v":0},{"$f":"Budget!G5","v":0}]
["Steuerfuss",null,{"$f":"Budget!C6","v":{"v":0,"d":"0%"}},{"$f":"Budget!E6","v":{"v":0,"d":"0%"}},{"$f":"Budget!G6","v":{"v":0,"d":"0%"}}]
["Zuwachsrate Personalaufwand"]
["Zuwachsrate Sach- und übriger Betriebsaufwand"]
["Zuwachsrate Transferaufwand (ohne FLA)"]
["Zuwachsrate Entgelte"]
["Zuwachsrate Transferertrag (ohne FLA)"]
["Zinssatz für Neukredite"]
["Zinssatz flüssige Mittel"]
[]
["Prognosen Steuerertrag",null,{"$f":"C3","v":2023},{"$f":"D3","v":2023},{"$f":"E3","v":2024},{"$f":"F3","v":2025},2026,2027,2028,2029,2030,2031,2032,{"$f":"N3","v":2033}]
["4000/1","Einkommens- und Vermögenssteuern nat. Pers.",{"$f":"Budget!C45","v":0},{"$f":"Budget!E45","v":0},{"$f":"Budget!G45","v":0},{"$f":"IF(OR(E16=0,E19=0),0,ROUND((E16/100*(100+F18+F17)/E19*F19),0))","v":0},{"$f":"IF(OR(F16=0,F19=0),0,ROUND((F16/100*(100+G18+G17)/F19*G19),0))","v":0},0,0,0,0,0,0,0]
[null,"Wachstumsrate"]
[null,"Bevölkerungswachstum in %",{"$nulls":3},{"$f":"IF(OR(E5=0,F5=0,F5=\"\"),0,ROUND(100/E5*(F5-E5),1))","v":{"v":0,"d":"0.0%"}},{"$f":"IF(OR(F5=0,G5=0,G5=\"\"),0,ROUND(100/F5*(G5-F5),1))","v":{"v":0,"d":"0.0%"}},{"v":0,"d":"0.0%"},{"v":0,"d":"0.0%"},{"v":0,"d":"0.0%"},{"v":0,"d":"0.0%"},{"v":0,"d":"0.0%"},{"v":0,"d":"0.0%"},{"v":0,"d":"0.0%"}]
[null,"Steuerfuss",{"$f":"C6","v":{"v":0,"d":"0%"}},{"v":0,"d":"0%"},{"v":0,"d":"0%"},{"v":0,"d":"0%"},{"v":0,"d":"0%"},{"v":0,"d":"0%"},{"v":0,"d":"0%"},{"v":0,"d":"0%"},{"v":0,"d":"0%"},{"v":0,"d":"0%"},{"v":0,"d":"0%"},{"$f":"N6","v":{"v":0,"d":"0%"}}]
[31,"Abschreibungen Steuerforderungen",{"$f":"Budget!C46","v":0},{"$f":"Budget!E46","v":0},{"$f":"Budget!G46","v":0}]
[4002,"Quellensteuern",{"$f":"Budget!C47","v":0},{"$f":"Budget!E47","v":0},{"$f":"Budget!G47","v":0}]
[4010,"Gewinn- und Kapitalsteuern juristische Personen",{"$f":"Budget!C48","v":0},{"$f":"Budget!E48","v":0},{"$f":"Budget!G48","v":0}]
["Total Gemeindesteuern",null,{"$f":"C16-C20+C21+C22","v":0},{"$f":"D16-D20+D21+D22","v":0},0,0,0,0,0,0,0,0,0,0]
[40,"Sondersteuern Funktion 9101",{"$f":"Budget!C52","v":0},{"$f":"Budget!E52","v":0},{"$f":"Budget!G52","v":0}]
[40,"Fiskalertrag übrige Funktionen",{"$f":"Budget!C54","v":0},{"$f":"Budget!E54","v":0},{"$f":"Budget!G54","v":0}]
[]
["Finanzausgleich",{"$nulls":3},{"$f":"E3","v":2024},2025,2026,2027,2028,2029,2030,2031,2032,2033]
[{"$nulls":4},"1. Planjahr","2. Planjahr","3. Planjahr","4. Planjahr","5. Planjahr","6. Planjahr","7. Planjahr","8. Planjahr","9. Planjahr","10. Planjahr"]
[{"v":3621.5,"d":"3621.50"},"Abgabe Finanzausgleich"]
[{"v":4621.5,"d":"4621.50"},"Beitrag Finanzausgleich"]
[4621.51,"Ordentl. Ergänzungsbeiträge (ab 2020 möglich)"]
[4621.52,"Übergangsbeiträge (2018 - 2021 möglich)"]
[{"v":4621.6,"d":"4621.60"},"Feinausgleich Aufgabenverschiebungsbilanz"]
[]
["Entnahme Aufwertungsreserve (Details in Tabellenblatt EK)",null,null,{"$f":"D3","v":2023},2024,2025,2026,2027,2028,2029,2030,2031,2032,2033]
[{"$nulls":3},"Prognose","1. Planjahr","2. Planjahr","3. Planjahr","4. Planjahr","5. Planjahr","6. Planjahr","7. Planjahr","8. Planjahr","9. Planjahr","10. Planjahr"]
[29500.01,"Saldo Aufwertungsreserve übr. Anlagen per 01.01.",null,{"$f":"EK!C4","v":0},{"$f":"EK!D4","v":0},{"$f":"EK!E4","v":0},{"$f":"EK!F4","v":0},{"$f":"EK!G4","v":0},{"$f":"EK!H4","v":0},{"$f":"EK!I4","v":0},{"$f":"EK!J4","v":0},{"$f":"EK!K4","v":0},{"$f":"EK!L4","v":0},{"$f":"EK!M4","v":0}]
[4895,"Entnahme Aufwertungsreserve",null,{"$f":"Budget!E102","v":0},0,0,0,0,0,0,0]
[29500.01,"Saldo Aufwertungsreserve übr. Anlagen per 31.12.",null,{"$f":"EK!C9-EK!C5","v":0},{"$f":"EK!D9-EK!D5","v":0},{"$f":"EK!E9-EK!E5","v":0},{"$f":"EK!F9-EK!F5","v":0},{"$f":"EK!G9-EK!G5","v":0},{"$f":"EK!H9-EK!H5","v":0},{"$f":"EK!I9-EK!I5","v":0},{"$f":"EK!J9-EK!J5","v":0},{"$f":"EK!K9-EK!K5","v":0},{"$f":"EK!L9-EK!L5","v":0},{"$f":"EK!M9-EK!M5","v":0}]
[]
["Ausserordentliches Ergebnis",null,null,{"$f":"D3","v":2023},{"$f":"E3","v":2024},2025,2026,2027,2028,2029,2030,2031,2032,2033]
[{"$nulls":3},"Prognose","1. Planjahr","2. Planjahr","3. Planjahr","4. Planjahr","5. Planjahr","6. Planjahr","7. Planjahr","8. Planjahr","9. Planjahr","10. Planjahr"]
[38,"Ausserordentlicher Aufwand",null,{"$f":"Budget!E96","v":0}]
[389,"davon Einlagen in das EK",null,{"$f":"Budget!E97","v":0}]
[48,"Ausserordentlicher Ertrag",null,{"$f":"Budget!E100","v":0}]
[489,"davon Entnahmen aus dem EK",null,{"$f":"Budget!E101","v":0}]
[]
["Veränderungen Erfolgsrechnung",{"$nulls":4},{"$f":"F3","v":2025},2026,2027,2028,2029,2030,2031,2032,2033]
[{"$nulls":5},"2. Planjahr","3. Planjahr","4. Planjahr","5. Planjahr","6. Planjahr","7. Planjahr","8. Planjahr","9. Planjahr","10. Planjahr"]
["+ = Belastung / - = Entlastung"]
["0 Allgemeine Verwaltung",{"$nulls":4},{"$f":"SUM(F52:F55)","v":0},{"$f":"SUM(G52:G55)","v":0},0,0,0,0,0,0,0]
[]
[]
[]
[]
["1 Öffentliche Ordnung und Sicherheit, Verteidigung",{"$nulls":4},{"$f":"SUM(F57:F60)","v":0},{"$f":"SUM(G57:G60)","v":0},0,0,0,0,0,0,{"$f":"SUM(N57:N60)","v":0}]
[]
[]
[]
[]
["2 Bildung",{"$nulls":4},{"$f":"SUM(F62:F65)","v":0},0,0,0,0,0,0,0,{"$f":"SUM(N62:N65)","v":0}]
[]
[]
[]
[]
["3 Kultur, Sport und Freizeit",{"$nulls":4},{"$f":"SUM(F67:F70)","v":0},0,0,0,0,0,0,0,{"$f":"SUM(N67:N70)","v":0}]
[]
[]
[]
[]
["4 Gesundheit",{"$nulls":4},{"$f":"SUM(F72:F75)","v":0},0,0,0,0,0,0,0,{"$f":"SUM(N72:N75)","v":0}]
[]
[]
[]
[]
["5 Soziale Sicherheit",{"$nulls":4},{"$f":"SUM(F77:F80)","v":0},0,0,0,0,0,0,0,{"$f":"SUM(N77:N80)","v":0}]
[]
[]
[]
[]
["6 Verkehr und Nachrichtenübermittlung",{"$nulls":4},{"$f":"SUM(F82:F85)","v":0},0,0,0,0,0,0,0,{"$f":"SUM(N82:N85)","v":0}]
[]
[]
[]
[]
["7 Umweltschutz und Raumordnung",{"$nulls":4},{"$f":"SUM(F87:F90)","v":0},0,0,0,0,0,0,0,{"$f":"SUM(N87:N90)","v":0}]
[]
[]
[]
[]
["8 Volkswirtschaft",{"$nulls":4},{"$f":"SUM(F92:F95)","v":0},0,0,0,0,0,0,0,{"$f":"SUM(N92:N95)","v":0}]
[]
[]
[]
[]
["9 Finanzen und Steuern",{"$nulls":4},{"$f":"SUM(F97:F100)","v":0},0,0,0,0,0,0,0,{"$f":"SUM(N97:N100)","v":0}]
[]
[]
[]
[]
["Total Veränderung Erfolgsrechnung (+ = Belastung / - = Entlastung)",{"$nulls":4},{"$f":"F51+F56+F61+F66+F71+F76+F81+F86+F91+F96","v":0},{"$f":"G51+G56+G61+G66+G71+G76+G81+G86+G91+G96","v":0},0,{"$f":"I51+I56+I61+I66+I71+I76+I81+I86+I91+I96","v":0},0,0,0,0,{"$f":"N51+N56+N61+N66+N71+N76+N81+N86+N91+N96","v":0}]

{"sheet":"Schulden-Zinsen","index":6,"n_rows":81,"n_cols":15,"rows_kept":81,"merged":[[2,0,3,1],[4,0,4,1],[5,0,5,1],[6,0,6,1],[7,0,7,1],[8,0,8,1],[9,0,9,1],[10,0,10,1],[11,0,11,1],[13,0,14,1],[15,0,15,1],[16,0,16,1],[17,0,17,1],[18,0,18,1],[19,0,19,1],[20,0,20,1],[21,0,21,1],[22,0,22,1],[23,0,23,1],[24,0,24,1],[25,0,25,1],[26,0,26,1],[27,0,27,1],[28,0,28,1],[29,0,29,1],[30,0,30,1],[31,0,31,1],[32,0,32,1],[33,0,33,1],[34,0,34,1],[35,0,35,1],[36,0,36,1],[37,0,37,1],[38,0,38,1],[39,0,39,1],[40,0,40,1],[41,0,41,1],[42,0,42,1],[43,0,43,1],[44,0,44,1],[45,0,45,1],[46,0,46,1],[47,0,47,1],[48,0,48,1],[49,0,49,1],[50,0,50,1],[51,0,51,1],[52,0,52,1],[53,0,53,1],[54,0,54,1],[55,0,55,1],[57,0,57,1],[58,0,58,1],[59,0,59,1],[60,0,60,1],[61,0,61,1],[62,0,62,1],[63,0,63,1],[64,0,64,1],[64,14,65,14],[65,0,65,1],[66,0,66,1],[67,0,67,1],[69,0,69,1],[70,0,70,1],[71,0,71,1],[72,5,73,5],[72,6,73,6],[72,7,73,7],[72,8,73,8],[72,9,73,9],[72,10,73,10],[72,11,73,11],[72,12,73,12],[72,13,73,13],[75,0,76,1],[77,0,77,1],[78,0,78,1],[79,0,79,1],[80,0,80,1]]}
["Schulden / Mittelbedarf / Zinsen"]
[]
["Berechnung Finanzierungsergebnis",null,{"$f":"D3-1","v":2022},{"$f":"E3-1","v":2023},{"$f":"Ausgangslage!D5","v":2024},{"$f":"E3+1","v":2025},2026,2027,2028,2029,2030,2031,2032,{"$f":"M3+1","v":2033}]
[null,null,"Rechnung",{"$f":"Budget!E4","v":"Prognose"},"1. Planjahr","2. Planjahr","3. Planjahr","4. Planjahr","5. Planjahr","6. Planjahr","7. Planjahr","8. Planjahr","9. Planjahr","10. Planjahr"]
["Nettoinvestitionszunahme/-abnahme (- = Zunahme)",null,null,{"$f":"-Investitionsplan!F9","v":0},{"$f":"-Investitionsplan!G9","v":0},{"$f":"-Investitionsplan!H9","v":0},{"$f":"-Investitionsplan!I9","v":0},{"$f":"-Investitionsplan!J9","v":0},{"$f":"-Investitionsplan!K9","v":0},{"$f":"-Investitionsplan!L9","v":0},{"$f":"-Investitionsplan!M9","v":0},{"$f":"-Investitionsplan!N9","v":0},{"$f":"-Investitionsplan!O9","v":0},{"$f":"-Investitionsplan!P9","v":0}]
["Gesamtergebnis Erfolgsrechnung",null,null,{"$f":"'Plan-ER'!D53","v":0},{"$f":"'Plan-ER'!E53","v":0},{"$f":"'Plan-ER'!F53","v":0},{"$f":"'Plan-ER'!G53","v":0},{"$f":"'Plan-ER'!H53","v":0},{"$f":"'Plan-ER'!I53","v":0},{"$f":"'Plan-ER'!J53","v":0},{"$f":"'Plan-ER'!K53","v":0},{"$f":"'Plan-ER'!L53","v":0},{"$f":"'Plan-ER'!M53","v":0},{"$f":"'Plan-ER'!N53","v":0}]
["Abschreibungen Verwaltungsvermögen",null,null,{"$f":"'Plan-ER'!D13","v":0},{"$f":"'Plan-ER'!E13","v":0},{"$f":"'Plan-ER'!F13","v":0},{"$f":"'Plan-ER'!G13","v":0},{"$f":"'Plan-ER'!H13","v":0},{"$f":"'Plan-ER'!I13","v":0},{"$f":"'Plan-ER'!J13","v":0},{"$f":"'Plan-ER'!K13","v":0},{"$f":"'Plan-ER'!L13","v":0},{"$f":"'Plan-ER'!M13","v":0},{"$f":"'Plan-ER'!N13","v":0}]
["Einlagen / Entnahmen Fonds",null,null,{"$f":"'Plan-ER'!D15-'Plan-ER'!D35","v":0},{"$f":"'Plan-ER'!E15-'Plan-ER'!E35","v":0},{"$f":"'Plan-ER'!F15-'Plan-ER'!F35","v":0},{"$f":"'Plan-ER'!G15-'Plan-ER'!G35","v":0},{"$f":"'Plan-ER'!H15-'Plan-ER'!H35","v":0},{"$f":"'Plan-ER'!I15-'Plan-ER'!I35","v":0},{"$f":"'Plan-ER'!J15-'Plan-ER'!J35","v":0},{"$f":"'Plan-ER'!K15-'Plan-ER'!K35","v":0},{"$f":"'Plan-ER'!L15-'Plan-ER'!L35","v":0},{"$f":"'Plan-ER'!M15-'Plan-ER'!M35","v":0},{"$f":"'Plan-ER'!N15-'Plan-ER'!N35","v":0}]
["Einlagen in das Eigenkapital",null,null,{"$f":"Prognosen!D44","v":0},{"$f":"Prognosen!E44","v":0},{"$f":"Prognosen!F44","v":0},{"$f":"Prognosen!G44","v":0},{"$f":"Prognosen!H44","v":0},{"$f":"Prognosen!I44","v":0},{"$f":"Prognosen!J44","v":0},{"$f":"Prognosen!K44","v":0},{"$f":"Prognosen!L44","v":0},{"$f":"Prognosen!M44","v":0},{"$f":"Prognosen!N44","v":0}]
["Entnahmen aus dem Eigenkapital",null,null,{"$f":"-Prognosen!D46+Prognosen!D38+EK!C6","v":0},{"$f":"-Prognosen!E46+Prognosen!E38+EK!D6","v":0},{"$f":"-Prognosen!F46+Prognosen!F38+EK!E6","v":0},{"$f":"-Prognosen!G46+Prognosen!G38+EK!F6","v":0},{"$f":"-Prognosen!H46+Prognosen!H38+EK!G6","v":0},{"$f":"-Prognosen!I46+Prognosen!I38+EK!H6","v":0},{"$f":"-Prognosen!J46+Prognosen!J38+EK!I6","v":0},{"$f":"-Prognosen!K46+Prognosen!K38+EK!J6","v":0},{"$f":"-Prognosen!L46+Prognosen!L38+EK!K6","v":0},{"$f":"-Prognosen!M46+Prognosen!M38+EK!L6","v":0},{"$f":"-Prognosen!N46+Prognosen!N38+EK!M6","v":0}]
["Selbstfinanzierung",null,null,{"$f":"D6+D7+D8+D9+D10","v":0},{"$f":"E6+E7+E8+E9+E10","v":0},0,0,0,0,0,0,0,0,0]
["Finanzierungsergebnis ( + = Überschuss / - = Fehlbetrag)",null,null,{"$f":"D5+D11","v":0},{"$f":"E5+E11","v":0},0,0,0,0,0,0,0,0,0]
[]
["Berechnung des Mittelbedarfs\n(+ = Bedarf / - = Überschuss)",null,{"$f":"C3","v":2022},{"$f":"D3","v":2023},{"$f":"E3","v":2024},{"$f":"F3","v":2025},{"$f":"G3","v":2026},{"$f":"H3","v":2027},2028,2029,2030,2031,2032,{"$f":"N3","v":2033}]
[null,null,"Rechnung",{"$f":"D4","v":"Prognose"},"1. Planjahr","2. Planjahr","3. Planjahr","4. Planjahr","5. Planjahr","6. Planjahr","7. Planjahr","8. Planjahr","9. Planjahr","10. Planjahr"]
["Mittelbedarf aus Finanzierungsergebnis",null,null,{"$f":"-D12","v":0},0,{"$f":"-F12","v":0},0,0,0,0,0,0,0,{"$f":"-N12","v":0}]
["Rückzahlung Darlehen/Kredite",null,null,{"$f":"SUM(D18:D40)","v":0},{"$f":"SUM(E18:E40)","v":0},0,0,0,0,0,0,0,0,0,"Zinssatz:"]
[{"$f":"IF(Ausgangslage!A31=\"\",\"\",Ausgangslage!A31)","v":""},null,null,{"$f":"IF(Ausgangslage!$L31=D$3,Ausgangslage!$H31,0)","v":0},{"$f":"IF(Ausgangslage!$L31=E$3,Ausgangslage!$H31,0)","v":0},{"$f":"IF(Ausgangslage!$L31=F$3,Ausgangslage!$H31,0)","v":0},{"$f":"IF(Ausgangslage!$L31=G$3,Ausgangslage!$H31,0)","v":0},{"$f":"IF(Ausgangslage!$L31=H$3,Ausgangslage!$H31,0)","v":0},{"$f":"IF(Ausgangslage!$L31=I$3,Ausgangslage!$H31,0)","v":0},{"$f":"IF(Ausgangslage!$L31=J$3,Ausgangslage!$H31,0)","v":0},{"$f":"IF(Ausgangslage!$L31=K$3,Ausgangslage!$H31,0)","v":0},{"$f":"IF(Ausgangslage!$L31=L$3,Ausgangslage!$H31,0)","v":0},{"$f":"IF(Ausgangslage!$L31=M$3,Ausgangslage!$H31,0)","v":0},{"$f":"IF(Ausgangslage!$L31=N$3,Ausgangslage!$H31,0)","v":0},{"$f":"IF(Ausgangslage!J31=\"\",0,Ausgangslage!J31)","v":0}]
[{"$f":"IF(Ausgangslage!A32=\"\",\"\",Ausgangslage!A32)","v":""},null,null,{"$f":"IF(Ausgangslage!$L32=D$3,Ausgangslage!$H32,0)","v":0},{"$f":"IF(Ausgangslage!$L32=E$3,Ausgangslage!$H32,0)","v":0},{"$f":"IF(Ausgangslage!$L32=F$3,Ausgangslage!$H32,0)","v":0},{"$f":"IF(Ausgangslage!$L32=G$3,Ausgangslage!$H32,0)","v":0},{"$f":"IF(Ausgangslage!$L32=H$3,Ausgangslage!$H32,0)","v":0},{"$f":"IF(Ausgangslage!$L32=I$3,Ausgangslage!$H32,0)","v":0},{"$f":"IF(Ausgangslage!$L32=J$3,Ausgangslage!$H32,0)","v":0},{"$f":"IF(Ausgangslage!$L32=K$3,Ausgangslage!$H32,0)","v":0},{"$f":"IF(Ausgangslage!$L32=L$3,Ausgangslage!$H32,0)","v":0},{"$f":"IF(Ausgangslage!$L32=M$3,Ausgangslage!$H32,0)","v":0},{"$f":"IF(Ausgangslage!$L32=N$3,Ausgangslage!$H32,0)","v":0},{"$f":"IF(Ausgangslage!J32=\"\",0,Ausgangslage!J32)","v":0}]
[{"$f":"IF(Ausgangslage!A33=\"\",\"\",Ausgangslage!A33)","v":""},null,null,{"$f":"IF(Ausgangslage!$L33=D$3,Ausgangslage!$H33,0)","v":0},{"$f":"IF(Ausgangslage!$L33=E$3,Ausgangslage!$H33,0)","v":0},{"$f":"IF(Ausgangslage!$L33=F$3,Ausgangslage!$H33,0)","v":0},{"$f":"IF(Ausgangslage!$L33=G$3,Ausgangslage!$H33,0)","v":0},{"$f":"IF(Ausgangslage!$L33=H$3,Ausgangslage!$H33,0)","v":0},{"$f":"IF(Ausgangslage!$L33=I$3,Ausgangslage!$H33,0)","v":0},{"$f":"IF(Ausgangslage!$L33=J$3,Ausgangslage!$H33,0)","v":0},{"$f":"IF(Ausgangslage!$L33=K$3,Ausgangslage!$H33,0)","v":0},{"$f":"IF(Ausgangslage!$L33=L$3,Ausgangslage!$H33,0)","v":0},{"$f":"IF(Ausgangslage!$L33=M$3,Ausgangslage!$H33,0)","v":0},{"$f":"IF(Ausgangslage!$L33=N$3,Ausgangslage!$H33,0)","v":0},{"$f":"IF(Ausgangslage!J33=\"\",0,Ausgangslage!J33)","v":0}]
[{"$f":"IF(Ausgangslage!A34=\"\",\"\",Ausgangslage!A34)","v":""},null,null,{"$f":"IF(Ausgangslage!$L34=D$3,Ausgangslage!$H34,0)","v":0},{"$f":"IF(Ausgangslage!$L34=E$3,Ausgangslage!$H34,0)","v":0},{"$f":"IF(Ausgangslage!$L34=F$3,Ausgangslage!$H34,0)","v":0},{"$f":"IF(Ausgangslage!$L34=G$3,Ausgangslage!$H34,0)","v":0},{"$f":"IF(Ausgangslage!$L34=H$3,Ausgangslage!$H34,0)","v":0},{"$f":"IF(Ausgangslage!$L34=I$3,Ausgangslage!$H34,0)","v":0},{"$f":"IF(Ausgangslage!$L34=J$3,Ausgangslage!$H34,0)","v":0},{"$f":"IF(Ausgangslage!$L34=K$3,Ausgangslage!$H34,0)","v":0},{"$f":"IF(Ausgangslage!$L34=L$3,Ausgangslage!$H34,0)","v":0},{"$f":"IF(Ausgangslage!$L34=M$3,Ausgangslage!$H34,0)","v":0},{"$f":"IF(Ausgangslage!$L34=N$3,Ausgangslage!$H34,0)","v":0},{"$f":"IF(Ausgangslage!J34=\"\",0,Ausgangslage!J34)","v":0}]
[{"$f":"IF(Ausgangslage!A35=\"\",\"\",Ausgangslage!A35)","v":""},null,null,{"$f":"IF(Ausgangslage!$L35=D$3,Ausgangslage!$H35,0)","v":0},{"$f":"IF(Ausgangslage!$L35=E$3,Ausgangslage!$H35,0)","v":0},{"$f":"IF(Ausgangslage!$L35=F$3,Ausgangslage!$H35,0)","v":0},{"$f":"IF(Ausgangslage!$L35=G$3,Ausgangslage!$H35,0)","v":0},{"$f":"IF(Ausgangslage!$L35=H$3,Ausgangslage!$H35,0)","v":0},{"$f":"IF(Ausgangslage!$L35=I$3,Ausgangslage!$H35,0)","v":0},{"$f":"IF(Ausgangslage!$L35=J$3,Ausgangslage!$H35,0)","v":0},{"$f":"IF(Ausgangslage!$L35=K$3,Ausgangslage!$H35,0)","v":0},{"$f":"IF(Ausgangslage!$L35=L$3,Ausgangslage!$H35,0)","v":0},{"$f":"IF(Ausgangslage!$L35=M$3,Ausgangslage!$H35,0)","v":0},{"$f":"IF(Ausgangslage!$L35=N$3,Ausgangslage!$H35,0)","v":0},{"$f":"IF(Ausgangslage!J35=\"\",0,Ausgangslage!J35)","v":0}]
[{"$f":"IF(Ausgangslage!A36=\"\",\"\",Ausgangslage!A36)","v":""},null,null,{"$f":"IF(Ausgangslage!$L36=D$3,Ausgangslage!$H36,0)","v":0},{"$f":"IF(Ausgangslage!$L36=E$3,Ausgangslage!$H36,0)","v":0},{"$f":"IF(Ausgangslage!$L36=F$3,Ausgangslage!$H36,0)","v":0},{"$f":"IF(Ausgangslage!$L36=G$3,Ausgangslage!$H36,0)","v":0},{"$f":"IF(Ausgangslage!$L36=H$3,Ausgangslage!$H36,0)","v":0},{"$f":"IF(Ausgangslage!$L36=I$3,Ausgangslage!$H36,0)","v":0},{"$f":"IF(Ausgangslage!$L36=J$3,Ausgangslage!$H36,0)","v":0},{"$f":"IF(Ausgangslage!$L36=K$3,Ausgangslage!$H36,0)","v":0},{"$f":"IF(Ausgangslage!$L36=L$3,Ausgangslage!$H36,0)","v":0},{"$f":"IF(Ausgangslage!$L36=M$3,Ausgangslage!$H36,0)","v":0},{"$f":"IF(Ausgangslage!$L36=N$3,Ausgangslage!$H36,0)","v":0},{"$f":"IF(Ausgangslage!J36=\"\",0,Ausgangslage!J36)","v":0}]
[{"$f":"IF(Ausgangslage!A37=\"\",\"\",Ausgangslage!A37)","v":""},null,null,{"$f":"IF(Ausgangslage!$L37=D$3,Ausgangslage!$H37,0)","v":0},{"$f":"IF(Ausgangslage!$L37=E$3,Ausgangslage!$H37,0)","v":0},{"$f":"IF(Ausgangslage!$L37=F$3,Ausgangslage!$H37,0)","v":0},{"$f":"IF(Ausgangslage!$L37=G$3,Ausgangslage!$H37,0)","v":0},{"$f":"IF(Ausgangslage!$L37=H$3,Ausgangslage!$H37,0)","v":0},{"$f":"IF(Ausgangslage!$L37=I$3,Ausgangslage!$H37,0)","v":0},{"$f":"IF(Ausgangslage!$L37=J$3,Ausgangslage!$H37,0)","v":0},{"$f":"IF(Ausgangslage!$L37=K$3,Ausgangslage!$H37,0)","v":0},{"$f":"IF(Ausgangslage!$L37=L$3,Ausgangslage!$H37,0)","v":0},{"$f":"IF(Ausgangslage!$L37=M$3,Ausgangslage!$H37,0)","v":0},{"$f":"IF(Ausgangslage!$L37=N$3,Ausgangslage!$H37,0)","v":0},{"$f":"IF(Ausgangslage!J37=\"\",0,Ausgangslage!J37)","v":0}]
[{"$f":"IF(Ausgangslage!A38=\"\",\"\",Ausgangslage!A38)","v":""},null,null,{"$f":"IF(Ausgangslage!$L38=D$3,Ausgangslage!$H38,0)","v":0},{"$f":"IF(Ausgangslage!$L38=E$3,Ausgangslage!$H38,0)","v":0},{"$f":"IF(Ausgangslage!$L38=F$3,Ausgangslage!$H38,0)","v":0},{"$f":"IF(Ausgangslage!$L38=G$3,Ausgangslage!$H38,0)","v":0},{"$f":"IF(Ausgangslage!$L38=H$3,Ausgangslage!$H38,0)","v":0},{"$f":"IF(Ausgangslage!$L38=I$3,Ausgangslage!$H38,0)","v":0},{"$f":"IF(Ausgangslage!$L38=J$3,Ausgangslage!$H38,0)","v":0},{"$f":"IF(Ausgangslage!$L38=K$3,Ausgangslage!$H38,0)","v":0},{"$f":"IF(Ausgangslage!$L38=L$3,Ausgangslage!$H38,0)","v":0},{"$f":"IF(Ausgangslage!$L38=M$3,Ausgangslage!$H38,0)","v":0},{"$f":"IF(Ausgangslage!$L38=N$3,Ausgangslage!$H38,0)","v":0},{"$f":"IF(Ausgangslage!J38=\"\",0,Ausgangslage!J38)","v":0}]
[{"$f":"IF(Ausgangslage!A39=\"\",\"\",Ausgangslage!A39)","v":""},null,null,{"$f":"IF(Ausgangslage!$L39=D$3,Ausgangslage!$H39,0)","v":0},{"$f":"IF(Ausgangslage!$L39=E$3,Ausgangslage!$H39,0)","v":0},{"$f":"IF(Ausgangslage!$L39=F$3,Ausgangslage!$H39,0)","v":0},{"$f":"IF(Ausgangslage!$L39=G$3,Ausgangslage!$H39,0)","v":0},{"$f":"IF(Ausgangslage!$L39=H$3,Ausgangslage!$H39,0)","v":0},{"$f":"IF(Ausgangslage!$L39=I$3,Ausgangslage!$H39,0)","v":0},{"$f":"IF(Ausgangslage!$L39=J$3,Ausgangslage!$H39,0)","v":0},{"$f":"IF(Ausgangslage!$L39=K$3,Ausgangslage!$H39,0)","v":0},{"$f":"IF(Ausgangslage!$L39=L$3,Ausgangslage!$H39,0)","v":0},{"$f":"IF(Ausgangslage!$L39=M$3,Ausgangslage!$H39,0)","v":0},{"$f":"IF(Ausgangslage!$L39=N$3,Ausgangslage!$H39,0)","v":0},{"$f":"IF(Ausgangslage!J39=\"\",0,Ausgangslage!J39)","v":0}]
[{"$f":"IF(Ausgangslage!A40=\"\",\"\",Ausgangslage!A40)","v":""},null,null,{"$f":"IF(Ausgangslage!$L40=D$3,Ausgangslage!$H40,0)","v":0},{"$f":"IF(Ausgangslage!$L40=E$3,Ausgangslage!$H40,0)","v":0},{"$f":"IF(Ausgangslage!$L40=F$3,Ausgangslage!$H40,0)","v":0},{"$f":"IF(Ausgangslage!$L40=G$3,Ausgangslage!$H40,0)","v":0},{"$f":"IF(Ausgangslage!$L40=H$3,Ausgangslage!$H40,0)","v":0},{"$f":"IF(Ausgangslage!$L40=I$3,Ausgangslage!$H40,0)","v":0},{"$f":"IF(Ausgangslage!$L40=J$3,Ausgangslage!$H40,0)","v":0},{"$f":"IF(Ausgangslage!$L40=K$3,Ausgangslage!$H40,0)","v":0},{"$f":"IF(Ausgangslage!$L40=L$3,Ausgangslage!$H40,0)","v":0},{"$f":"IF(Ausgangslage!$L40=M$3,Ausgangslage!$H40,0)","v":0},{"$f":"IF(Ausgangslage!$L40=N$3,Ausgangslage!$H40,0)","v":0},{"$f":"IF(Ausgangslage!J40=\"\",0,Ausgangslage!J40)","v":0}]
[{"$f":"IF(Ausgangslage!A41=\"\",\"\",Ausgangslage!A41)","v":""},null,null,{"$f":"IF(Ausgangslage!$L41=D$3,Ausgangslage!$H41,0)","v":0},{"$f":"IF(Ausgangslage!$L41=E$3,Ausgangslage!$H41,0)","v":0},{"$f":"IF(Ausgangslage!$L41=F$3,Ausgangslage!$H41,0)","v":0},{"$f":"IF(Ausgangslage!$L41=G$3,Ausgangslage!$H41,0)","v":0},{"$f":"IF(Ausgangslage!$L41=H$3,Ausgangslage!$H41,0)","v":0},{"$f":"IF(Ausgangslage!$L41=I$3,Ausgangslage!$H41,0)","v":0},{"$f":"IF(Ausgangslage!$L41=J$3,Ausgangslage!$H41,0)","v":0},{"$f":"IF(Ausgangslage!$L41=K$3,Ausgangslage!$H41,0)","v":0},{"$f":"IF(Ausgangslage!$L41=L$3,Ausgangslage!$H41,0)","v":0},{"$f":"IF(Ausgangslage!$L41=M$3,Ausgangslage!$H41,0)","v":0},{"$f":"IF(Ausgangslage!$L41=N$3,Ausgangslage!$H41,0)","v":0},{"$f":"IF(Ausgangslage!J41=\"\",0,Ausgangslage!J41)","v":0}]
[{"$f":"IF(Ausgangslage!A42=\"\",\"\",Ausgangslage!A42)","v":""},null,null,{"$f":"IF(Ausgangslage!$L42=D$3,Ausgangslage!$H42,0)","v":0},{"$f":"IF(Ausgangslage!$L42=E$3,Ausgangslage!$H42,0)","v":0},{"$f":"IF(Ausgangslage!$L42=F$3,Ausgangslage!$H42,0)","v":0},{"$f":"IF(Ausgangslage!$L42=G$3,Ausgangslage!$H42,0)","v":0},{"$f":"IF(Ausgangslage!$L42=H$3,Ausgangslage!$H42,0)","v":0},{"$f":"IF(Ausgangslage!$L42=I$3,Ausgangslage!$H42,0)","v":0},{"$f":"IF(Ausgangslage!$L42=J$3,Ausgangslage!$H42,0)","v":0},{"$f":"IF(Ausgangslage!$L42=K$3,Ausgangslage!$H42,0)","v":0},{"$f":"IF(Ausgangslage!$L42=L$3,Ausgangslage!$H42,0)","v":0},{"$f":"IF(Ausgangslage!$L42=M$3,Ausgangslage!$H42,0)","v":0},{"$f":"IF(Ausgangslage!$L42=N$3,Ausgangslage!$H42,0)","v":0},{"$f":"IF(Ausgangslage!J42=\"\",0,Ausgangslage!J42)","v":0}]
[{"$f":"IF(Ausgangslage!A43=\"\",\"\",Ausgangslage!A43)","v":""},null,null,{"$f":"IF(Ausgangslage!$L43=D$3,Ausgangslage!$H43,0)","v":0},{"$f":"IF(Ausgangslage!$L43=E$3,Ausgangslage!$H43,0)","v":0},{"$f":"IF(Ausgangslage!$L43=F$3,Ausgangslage!$H43,0)","v":0},{"$f":"IF(Ausgangslage!$L43=G$3,Ausgangslage!$H43,0)","v":0},{"$f":"IF(Ausgangslage!$L43=H$3,Ausgangslage!$H43,0)","v":0},{"$f":"IF(Ausgangslage!$L43=I$3,Ausgangslage!$H43,0)","v":0},{"$f":"IF(Ausgangslage!$L43=J$3,Ausgangslage!$H43,0)","v":0},{"$f":"IF(Ausgangslage!$L43=K$3,Ausgangslage!$H43,0)","v":0},{"$f":"IF(Ausgangslage!$L43=L$3,Ausgangslage!$H43,0)","v":0},{"$f":"IF(Ausgangslage!$L43=M$3,Ausgangslage!$H43,0)","v":0},{"$f":"IF(Ausgangslage!$L43=N$3,Ausgangslage!$H43,0)","v":0},{"$f":"IF(Ausgangslage!J43=\"\",0,Ausgangslage!J43)","v":0}]
[{"$f":"IF(Ausgangslage!A44=\"\",\"\",Ausgangslage!A44)","v":""},null,null,{"$f":"IF(Ausgangslage!$L44=D$3,Ausgangslage!$H44,0)","v":0},{"$f":"IF(Ausgangslage!$L44=E$3,Ausgangslage!$H44,0)","v":0},{"$f":"IF(Ausgangslage!$L44=F$3,Ausgangslage!$H44,0)","v":0},{"$f":"IF(Ausgangslage!$L44=G$3,Ausgangslage!$H44,0)","v":0},{"$f":"IF(Ausgangslage!$L44=H$3,Ausgangslage!$H44,0)","v":0},{"$f":"IF(Ausgangslage!$L44=I$3,Ausgangslage!$H44,0)","v":0},{"$f":"IF(Ausgangslage!$L44=J$3,Ausgangslage!$H44,0)","v":0},{"$f":"IF(Ausgangslage!$L44=K$3,Ausgangslage!$H44,0)","v":0},{"$f":"IF(Ausgangslage!$L44=L$3,Ausgangslage!$H44,0)","v":0},{"$f":"IF(Ausgangslage!$L44=M$3,Ausgangslage!$H44,0)","v":0},{"$f":"IF(Ausgangslage!$L44=N$3,Ausgangslage!$H44,0)","v":0},{"$f":"IF(Ausgangslage!J44=\"\",0,Ausgangslage!J44)","v":0}]
[{"$f":"IF(Ausgangslage!A45=\"\",\"\",Ausgangslage!A45)","v":""},null,null,{"$f":"IF(Ausgangslage!$L45=D$3,Ausgangslage!$H45,0)","v":0},{"$f":"IF(Ausgangslage!$L45=E$3,Ausgangslage!$H45,0)","v":0},{"$f":"IF(Ausgangslage!$L45=F$3,Ausgangslage!$H45,0)","v":0},{"$f":"IF(Ausgangslage!$L45=G$3,Ausgangslage!$H45,0)","v":0},{"$f":"IF(Ausgangslage!$L45=H$3,Ausgangslage!$H45,0)","v":0},{"$f":"IF(Ausgangslage!$L45=I$3,Ausgangslage!$H45,0)","v":0},{"$f":"IF(Ausgangslage!$L45=J$3,Ausgangslage!$H45,0)","v":0},{"$f":"IF(Ausgangslage!$L45=K$3,Ausgangslage!$H45,0)","v":0},{"$f":"IF(Ausgangslage!$L45=L$3,Ausgangslage!$H45,0)","v":0},{"$f":"IF(Ausgangslage!$L45=M$3,Ausgangslage!$H45,0)","v":0},{"$f":"IF(Ausgangslage!$L45=N$3,Ausgangslage!$H45,0)","v":0},{"$f":"IF(Ausgangslage!J45=\"\",0,Ausgangslage!J45)","v":0}]
[{"$f":"IF(Ausgangslage!A46=\"\",\"\",Ausgangslage!A46)","v":""},null,null,{"$f":"IF(Ausgangslage!$L46=D$3,Ausgangslage!$H46,0)","v":0},{"$f":"IF(Ausgangslage!$L46=E$3,Ausgangslage!$H46,0)","v":0},{"$f":"IF(Ausgangslage!$L46=F$3,Ausgangslage!$H46,0)","v":0},{"$f":"IF(Ausgangslage!$L46=G$3,Ausgangslage!$H46,0)","v":0},{"$f":"IF(Ausgangslage!$L46=H$3,Ausgangslage!$H46,0)","v":0},{"$f":"IF(Ausgangslage!$L46=I$3,Ausgangslage!$H46,0)","v":0},{"$f":"IF(Ausgangslage!$L46=J$3,Ausgangslage!$H46,0)","v":0},{"$f":"IF(Ausgangslage!$L46=K$3,Ausgangslage!$H46,0)","v":0},{"$f":"IF(Ausgangslage!$L46=L$3,Ausgangslage!$H46,0)","v":0},{"$f":"IF(Ausgangslage!$L46=M$3,Ausgangslage!$H46,0)","v":0},{"$f":"IF(Ausgangslage!$L46=N$3,Ausgangslage!$H46,0)","v":0},{"$f":"IF(Ausgangslage!J46=\"\",0,Ausgangslage!J46)","v":0}]
[{"$f":"IF(Ausgangslage!A47=\"\",\"\",Ausgangslage!A47)","v":""},null,null,{"$f":"IF(Ausgangslage!$L47=D$3,Ausgangslage!$H47,0)","v":0},{"$f":"IF(Ausgangslage!$L47=E$3,Ausgangslage!$H47,0)","v":0},{"$f":"IF(Ausgangslage!$L47=F$3,Ausgangslage!$H47,0)","v":0},{"$f":"IF(Ausgangslage!$L47=G$3,Ausgangslage!$H47,0)","v":0},{"$f":"IF(Ausgangslage!$L47=H$3,Ausgangslage!$H47,0)","v":0},{"$f":"IF(Ausgangslage!$L47=I$3,Ausgangslage!$H47,0)","v":0},{"$f":"IF(Ausgangslage!$L47=J$3,Ausgangslage!$H47,0)","v":0},{"$f":"IF(Ausgangslage!$L47=K$3,Ausgangslage!$H47,0)","v":0},{"$f":"IF(Ausgangslage!$L47=L$3,Ausgangslage!$H47,0)","v":0},{"$f":"IF(Ausgangslage!$L47=M$3,Ausgangslage!$H47,0)","v":0},{"$f":"IF(Ausgangslage!$L47=N$3,Ausgangslage!$H47,0)","v":0},{"$f":"IF(Ausgangslage!J47=\"\",0,Ausgangslage!J47)","v":0}]
[{"$f":"IF(Ausgangslage!A48=\"\",\"\",Ausgangslage!A48)","v":""},null,null,{"$f":"IF(Ausgangslage!$L48=D$3,Ausgangslage!$H48,0)","v":0},{"$f":"IF(Ausgangslage!$L48=E$3,Ausgangslage!$H48,0)","v":0},{"$f":"IF(Ausgangslage!$L48=F$3,Ausgangslage!$H48,0)","v":0},{"$f":"IF(Ausgangslage!$L48=G$3,Ausgangslage!$H48,0)","v":0},{"$f":"IF(Ausgangslage!$L48=H$3,Ausgangslage!$H48,0)","v":0},{"$f":"IF(Ausgangslage!$L48=I$3,Ausgangslage!$H48,0)","v":0},{"$f":"IF(Ausgangslage!$L48=J$3,Ausgangslage!$H48,0)","v":0},{"$f":"IF(Ausgangslage!$L48=K$3,Ausgangslage!$H48,0)","v":0},{"$f":"IF(Ausgangslage!$L48=L$3,Ausgangslage!$H48,0)","v":0},{"$f":"IF(Ausgangslage!$L48=M$3,Ausgangslage!$H48,0)","v":0},{"$f":"IF(Ausgangslage!$L48=N$3,Ausgangslage!$H48,0)","v":0},{"$f":"IF(Ausgangslage!J48=\"\",0,Ausgangslage!J48)","v":0}]
[{"$f":"IF(Ausgangslage!A49=\"\",\"\",Ausgangslage!A49)","v":""},null,null,{"$f":"IF(Ausgangslage!$L49=D$3,Ausgangslage!$H49,0)","v":0},{"$f":"IF(Ausgangslage!$L49=E$3,Ausgangslage!$H49,0)","v":0},{"$f":"IF(Ausgangslage!$L49=F$3,Ausgangslage!$H49,0)","v":0},{"$f":"IF(Ausgangslage!$L49=G$3,Ausgangslage!$H49,0)","v":0},{"$f":"IF(Ausgangslage!$L49=H$3,Ausgangslage!$H49,0)","v":0},{"$f":"IF(Ausgangslage!$L49=I$3,Ausgangslage!$H49,0)","v":0},{"$f":"IF(Ausgangslage!$L49=J$3,Ausgangslage!$H49,0)","v":0},{"$f":"IF(Ausgangslage!$L49=K$3,Ausgangslage!$H49,0)","v":0},{"$f":"IF(Ausgangslage!$L49=L$3,Ausgangslage!$H49,0)","v":0},{"$f":"IF(Ausgangslage!$L49=M$3,Ausgangslage!$H49,0)","v":0},{"$f":"IF(Ausgangslage!$L49=N$3,Ausgangslage!$H49,0)","v":0},{"$f":"IF(Ausgangslage!J49=\"\",0,Ausgangslage!J49)","v":0}]
[{"$f":"IF(Ausgangslage!A50=\"\",\"\",Ausgangslage!A50)","v":""},null,null,{"$f":"IF(Ausgangslage!$L50=D$3,Ausgangslage!$H50,0)","v":0},{"$f":"IF(Ausgangslage!$L50=E$3,Ausgangslage!$H50,0)","v":0},{"$f":"IF(Ausgangslage!$L50=F$3,Ausgangslage!$H50,0)","v":0},{"$f":"IF(Ausgangslage!$L50=G$3,Ausgangslage!$H50,0)","v":0},{"$f":"IF(Ausgangslage!$L50=H$3,Ausgangslage!$H50,0)","v":0},{"$f":"IF(Ausgangslage!$L50=I$3,Ausgangslage!$H50,0)","v":0},{"$f":"IF(Ausgangslage!$L50=J$3,Ausgangslage!$H50,0)","v":0},{"$f":"IF(Ausgangslage!$L50=K$3,Ausgangslage!$H50,0)","v":0},{"$f":"IF(Ausgangslage!$L50=L$3,Ausgangslage!$H50,0)","v":0},{"$f":"IF(Ausgangslage!$L50=M$3,Ausgangslage!$H50,0)","v":0},{"$f":"IF(Ausgangslage!$L50=N$3,Ausgangslage!$H50,0)","v":0},{"$f":"IF(Ausgangslage!J50=\"\",0,Ausgangslage!J50)","v":0}]
[]
[]
[]
["Veränderung Finanzaufwand durch Rückzahlung",{"$nulls":4},{"$f":"ROUND(-SUM(E18:E40*$O18:$O40),0)","v":0},{"$f":"ROUND(-SUM(F18:F40*$O18:$O40),0)","v":0},{"$f":"ROUND(-SUM(G18:G40*$O18:$O40),0)","v":0},{"$f":"ROUND(-SUM(H18:H40*$O18:$O40),0)","v":0},{"$f":"ROUND(-SUM(I18:I40*$O18:$O40),0)","v":0},{"$f":"ROUND(-SUM(J18:J40*$O18:$O40),0)","v":0},{"$f":"ROUND(-SUM(K18:K40*$O18:$O40),0)","v":0},{"$f":"ROUND(-SUM(L18:L40*$O18:$O40),0)","v":0},{"$f":"ROUND(-SUM(M18:M40*$O18:$O40),0)","v":0}]
["Abgang Finanz-/Sachanlagen Finanzvermögen"]
["(Buchwert einsetzen, Buchgewinn/-verlust in Prognosen eintragen)",null,null,{"$f":"SUM(D44:D48)","v":0},0,0,0,0,0,0,0,0,0,{"$f":"SUM(N44:N48)","v":0},"Nettorendite:"]
[]
[]
[]
[]
[]
["Veränderung Finanzertrag durch Abgang Anlagen FV",{"$nulls":4},{"$f":"ROUND(SUM(E44:E48*$O44:$O48),0)","v":0},{"$f":"ROUND(SUM(F44:F48*$O44:$O48),0)","v":0},{"$f":"ROUND(SUM(G44:G48*$O44:$O48),0)","v":0},{"$f":"ROUND(SUM(H44:H48*$O44:$O48),0)","v":0},{"$f":"ROUND(SUM(I44:I48*$O44:$O48),0)","v":0},{"$f":"ROUND(SUM(J44:J48*$O44:$O48),0)","v":0},{"$f":"ROUND(SUM(K44:K48*$O44:$O48),0)","v":0},{"$f":"ROUND(SUM(L44:L48*$O44:$O48),0)","v":0},{"$f":"ROUND(SUM(M44:M48*$O44:$O48),0)","v":0}]
["Zugang Finanz-/Sachanlagen Finanzvermögen",null,null,{"$f":"SUM(D51:D55)","v":0},0,0,0,0,0,0,0,0,0,{"$f":"SUM(N51:N55)","v":0},"Nettorendite:"]
[]
[]
[]
[]
[]
["Veränderung Finanzertrag durch Zugang Anlagen FV",{"$nulls":4},{"$f":"ROUND(SUM(E51:E55*$O51:$O55),0)","v":0},{"$f":"ROUND(SUM(F51:F55*$O51:$O55),0)","v":0},{"$f":"ROUND(SUM(G51:G55*$O51:$O55),0)","v":0},{"$f":"ROUND(SUM(H51:H55*$O51:$O55),0)","v":0},{"$f":"ROUND(SUM(I51:I55*$O51:$O55),0)","v":0},{"$f":"ROUND(SUM(J51:J55*$O51:$O55),0)","v":0},{"$f":"ROUND(SUM(K51:K55*$O51:$O55),0)","v":0},{"$f":"ROUND(SUM(L51:L55*$O51:$O55),0)","v":0},{"$f":"ROUND(SUM(M51:M55*$O51:$O55),0)","v":0}]
["Finanzierungsbedarf/-überschuss Spezialfinanzierungen",null,null,{"$f":"SUM(D58:D62)","v":0},0,0,0,0,0,0,0,0,0,{"$f":"SUM(N58:N62)","v":0},"Zinssatz:"]
[]
[]
[]
[]
[]
["Veränderung Zinsbelastung durch Spezialfinanzierungen",{"$nulls":4},{"$f":"ROUND(-SUM(E58:E62*$O58:$O62),0)","v":0},{"$f":"ROUND(-SUM(F58:F62*$O58:$O62),0)","v":0},{"$f":"ROUND(-SUM(G58:G62*$O58:$O62),0)","v":0},{"$f":"ROUND(-SUM(H58:H62*$O58:$O62),0)","v":0},{"$f":"ROUND(-SUM(I58:I62*$O58:$O62),0)","v":0},{"$f":"ROUND(-SUM(J58:J62*$O58:$O62),0)","v":0},{"$f":"ROUND(-SUM(K58:K62*$O58:$O62),0)","v":0},{"$f":"ROUND(-SUM(L58:L62*$O58:$O62),0)","v":0},{"$f":"ROUND(-SUM(M58:M62*$O58:$O62),0)","v":0}]
["Mittelbedarf (+ = Bedarf / - = Überschuss)",null,null,{"$f":"ROUND(D16+D17+D43+D50+D57,0)","v":0},{"$f":"ROUND(E16+E17+E43+E50+E57,0)","v":0},{"$f":"ROUND(F16+F17+F43+F50+F57,0)","v":0},{"$f":"ROUND(G16+G17+G43+G50+G57,0)","v":0},0,0,0,0,0,0,{"$f":"ROUND(N16+N17+N43+N50+N57,0)","v":0}]
["Neuaufnahme verzinsliche Darlehen (+  = Zunahme)",{"$nulls":13},"Jahr für Jahr \neinsetzen"]
["Veränderung flüssige Mittel (  -  = Deckung Mittelbedarf)"]
["Bestand flüssige Mittel Ende Jahr",null,{"$f":"Ausgangslage!H21","v":0},{"$f":"C67+D66","v":0},{"$f":"D67+E66","v":0},{"$f":"E67+F66","v":0},{"$f":"F67+G66","v":0},0,0,0,0,0,0,0]
["Differenz",null,null,{"$f":"D64-D65+D66","v":0},0,0,0,0,0,0,0,0,0,{"$f":"N64-N65+N66","v":0},"muss 0 sein!"]
[{"$nulls":3},{"$f":"IF(D68<>0,\"prüfen!\",\"\")","v":""},"","","","","","","","","",""]
["Veränderung Zinsaufwand durch Neuverschuldung",{"$nulls":4},{"$f":"ROUND(E65*Prognosen!E12,0)","v":0},{"$f":"ROUND(F65*Prognosen!F12,0)","v":0},{"$f":"ROUND(G65*Prognosen!G12,0)","v":0},{"$f":"ROUND(H65*Prognosen!I12,0)","v":0},{"$f":"ROUND(I65*Prognosen!I12,0)","v":0},{"$f":"ROUND(J65*Prognosen!J12,0)","v":0},{"$f":"ROUND(K65*Prognosen!K12,0)","v":0},{"$f":"ROUND(L65*Prognosen!L12,0)","v":0},{"$f":"ROUND(M65*Prognosen!M12,0)","v":0}]
["Veränderung Zinsertrag durch flüssige Mittel",{"$nulls":4},{"$f":"ROUND(E66*Prognosen!F13,0)","v":0},{"$f":"ROUND(F66*Prognosen!G13,0)","v":0},{"$f":"ROUND(G66*Prognosen!H13,0)","v":0},{"$f":"ROUND(H66*Prognosen!I13,0)","v":0},{"$f":"ROUND(I66*Prognosen!J13,0)","v":0},{"$f":"ROUND(J66*Prognosen!K13,0)","v":0},{"$f":"ROUND(K66*Prognosen!L13,0)","v":0},{"$f":"ROUND(L66*Prognosen!M13,0)","v":0},{"$f":"ROUND(M66*Prognosen!N13,0)","v":0}]
["Veränderung Zinsbelastung im Jahr\n(+ = Belastung / - = Entlastung)",{"$nulls":4},{"$f":"F41-F49-F56+F63+F70-F71","v":0},{"$f":"G41-G49-G56+G63+G70-G71","v":0},0,0,0,0,0,0,0]
[{"$f":"\"Veränderung Zinsbelastung zu Budget \"&Ausgangslage!D5","v":"Veränderung Zinsbelastung zu Budget 2024"},{"$nulls":4},{"$f":"F72","v":0},{"$f":"F73+G72","v":0},{"$f":"G73+H72","v":0},0,0,0,0,0,0]
["(+ = Belastung / - = Entlastung)"]
[]
["Berechnung Nettoschuld I",null,{"$f":"C3","v":2022},2023,2024,2025,2026,2027,2028,2029,2030,2031,2032,{"$f":"N3","v":2033}]
[null,null,"Rechnung",{"$f":"D4","v":"Prognose"},"1. Planjahr","2. Planjahr","3. Planjahr","4. Planjahr","5. Planjahr","6. Planjahr","7. Planjahr","8. Planjahr","9. Planjahr","10. Planjahr"]
["Nettoschuld I anfangs Jahr (+ = Schuld / - = Vermögen)",null,null,{"$f":"Ausgangslage!H22","v":0},{"$f":"D81","v":0},{"$f":"E81","v":0},0,0,0,0,0,0,0,0]
["Finanzierungsergebnis (+ = Überschuss / - = Fehlbetrag)",null,null,{"$f":"D12","v":0},0,0,0,0,0,0,0,0,0,{"$f":"N12","v":0}]
["Einlagen/Entnahmen Fonds FK (+ = Entnahme / - = Einlage)",null,null,{"$f":"-Budget!E29+Budget!E71","v":0},{"$f":"-Budget!G29+Budget!G71","v":0},{"$f":"$E$80","v":0},{"$f":"$E$80","v":0},0,0,0,0,0,0,0]
["Nettoschuld I Ende Jahr (+ = Schuld / - = Vermögen)",null,{"$f":"Ausgangslage!H22","v":0},{"$f":"D78-D79-D80","v":0},{"$f":"E78-E79-E80","v":0},0,0,0,0,0,0,0,0,0]

{"sheet":"Titelblatt","index":7,"n_rows":10,"n_cols":1,"rows_kept":10}
[{"$f":"\"Gemeinde \"&Ausgangslage!D3","v":"Gemeinde 9999 Muster"}]
[]
[]
[]
[]
[]
["Aufgaben- und Finanzplanung"]
[{"$f":"Ausgangslage!D5&\" bis \"&Ausgangslage!D5+Ausgangslage!I5-1","v":"2024 bis 2033"}]
[]
[{"$f":"\"Stand \"&TEXT(Ausgangslage!D8,\"TT.MM.JjjJ\")","v":"Stand 00.01.1900"}]

{"sheet":"InvprogrammA","index":8,"n_rows":14,"n_cols":16,"rows_kept":14}
["Investitionsplan Aufgaben- und Finanzplanung"]
[]
["Funktion","Bezeichnung","Betrag",{"$f":"Investitionsplan!F4","v":2023},{"$f":"D3+1","v":2024},{"$f":"E3+1","v":2025},2026,2027,2028,2029,2030,2031,2032,2033,{"$f":"\"ab \"&N3+1","v":"ab 2034"},"jährliche Abschreibung"]
[]
["Projekte in Bau",null,{"$f":"SUM(INDEX(C:C,ROW()+1):INDEX(C:C,MATCH(\"Projekte beschlossen\",$A:$A,0)-1))","v":0},{"$f":"SUM(INDEX(D:D,ROW()+1):INDEX(D:D,MATCH(\"Projekte beschlossen\",$A:$A,0)-1))","v":0},{"$f":"SUM(INDEX(E:E,ROW()+1):INDEX(E:E,MATCH(\"Projekte beschlossen\",$A:$A,0)-1))","v":0},{"$f":"SUM(INDEX(F:F,ROW()+1):INDEX(F:F,MATCH(\"Projekte beschlossen\",$A:$A,0)-1))","v":0},{"$f":"SUM(INDEX(G:G,ROW()+1):INDEX(G:G,MATCH(\"Projekte beschlossen\",$A:$A,0)-1))","v":0},{"$f":"SUM(INDEX(H:H,ROW()+1):INDEX(H:H,MATCH(\"Projekte beschlossen\",$A:$A,0)-1))","v":0},{"$f":"SUM(INDEX(I:I,ROW()+1):INDEX(I:I,MATCH(\"Projekte beschlossen\",$A:$A,0)-1))","v":0},{"$f":"SUM(INDEX(J:J,ROW()+1):INDEX(J:J,MATCH(\"Projekte beschlossen\",$A:$A,0)-1))","v":0},{"$f":"SUM(INDEX(K:K,ROW()+1):INDEX(K:K,MATCH(\"Projekte beschlossen\",$A:$A,0)-1))","v":0},{"$f":"SUM(INDEX(L:L,ROW()+1):INDEX(L:L,MATCH(\"Projekte beschlossen\",$A:$A,0)-1))","v":0},{"$f":"SUM(INDEX(M:M,ROW()+1):INDEX(M:M,MATCH(\"Projekte beschlossen\",$A:$A,0)-1))","v":0},{"$f":"SUM(INDEX(N:N,ROW()+1):INDEX(N:N,MATCH(\"Projekte beschlossen\",$A:$A,0)-1))","v":0},{"$f":"SUM(INDEX(O:O,ROW()+1):INDEX(O:O,MATCH(\"Projekte beschlossen\",$A:$A,0)-1))","v":0},{"$f":"SUM(INDEX(P:P,ROW()+1):INDEX(P:P,MATCH(\"Projekte beschlossen\",$A:$A,0)-1))","v":0}]
[]
[]
["Projekte beschlossen",null,{"$f":"SUM(INDEX(C:C,ROW()+1):INDEX(C:C,MATCH(\"Projekte geplant\",$A:$A,0)-1))","v":0},{"$f":"SUM(INDEX(D:D,ROW()+1):INDEX(D:D,MATCH(\"Projekte geplant\",$A:$A,0)-1))","v":0},{"$f":"SUM(INDEX(E:E,ROW()+1):INDEX(E:E,MATCH(\"Projekte geplant\",$A:$A,0)-1))","v":0},{"$f":"SUM(INDEX(F:F,ROW()+1):INDEX(F:F,MATCH(\"Projekte geplant\",$A:$A,0)-1))","v":0},{"$f":"SUM(INDEX(G:G,ROW()+1):INDEX(G:G,MATCH(\"Projekte geplant\",$A:$A,0)-1))","v":0},{"$f":"SUM(INDEX(H:H,ROW()+1):INDEX(H:H,MATCH(\"Projekte geplant\",$A:$A,0)-1))","v":0},{"$f":"SUM(INDEX(I:I,ROW()+1):INDEX(I:I,MATCH(\"Projekte geplant\",$A:$A,0)-1))","v":0},{"$f":"SUM(INDEX(J:J,ROW()+1):INDEX(J:J,MATCH(\"Projekte geplant\",$A:$A,0)-1))","v":0},{"$f":"SUM(INDEX(K:K,ROW()+1):INDEX(K:K,MATCH(\"Projekte geplant\",$A:$A,0)-1))","v":0},{"$f":"SUM(INDEX(L:L,ROW()+1):INDEX(L:L,MATCH(\"Projekte geplant\",$A:$A,0)-1))","v":0},{"$f":"SUM(INDEX(M:M,ROW()+1):INDEX(M:M,MATCH(\"Projekte geplant\",$A:$A,0)-1))","v":0},{"$f":"SUM(INDEX(N:N,ROW()+1):INDEX(N:N,MATCH(\"Projekte geplant\",$A:$A,0)-1))","v":0},{"$f":"SUM(INDEX(O:O,ROW()+1):INDEX(O:O,MATCH(\"Projekte geplant\",$A:$A,0)-1))","v":0},{"$f":"SUM(INDEX(P:P,ROW()+1):INDEX(P:P,MATCH(\"Projekte geplant\",$A:$A,0)-1))","v":0}]
[]
[]
["Projekte geplant",null,{"$f":"SUM(INDEX(C:C,ROW()+1):INDEX(C:C,MATCH(\"Total Investitionsprojekte\",$A:$A,0)-1))","v":0},{"$f":"SUM(INDEX(D:D,ROW()+1):INDEX(D:D,MATCH(\"Total Investitionsprojekte\",$A:$A,0)-1))","v":0},{"$f":"SUM(INDEX(E:E,ROW()+1):INDEX(E:E,MATCH(\"Total Investitionsprojekte\",$A:$A,0)-1))","v":0},{"$f":"SUM(INDEX(F:F,ROW()+1):INDEX(F:F,MATCH(\"Total Investitionsprojekte\",$A:$A,0)-1))","v":0},{"$f":"SUM(INDEX(G:G,ROW()+1):INDEX(G:G,MATCH(\"Total Investitionsprojekte\",$A:$A,0)-1))","v":0},{"$f":"SUM(INDEX(H:H,ROW()+1):INDEX(H:H,MATCH(\"Total Investitionsprojekte\",$A:$A,0)-1))","v":0},{"$f":"SUM(INDEX(I:I,ROW()+1):INDEX(I:I,MATCH(\"Total Investitionsprojekte\",$A:$A,0)-1))","v":0},{"$f":"SUM(INDEX(J:J,ROW()+1):INDEX(J:J,MATCH(\"Total Investitionsprojekte\",$A:$A,0)-1))","v":0},{"$f":"SUM(INDEX(K:K,ROW()+1):INDEX(K:K,MATCH(\"Total Investitionsprojekte\",$A:$A,0)-1))","v":0},{"$f":"SUM(INDEX(L:L,ROW()+1):INDEX(L:L,MATCH(\"Total Investitionsprojekte\",$A:$A,0)-1))","v":0},{"$f":"SUM(INDEX(M:M,ROW()+1):INDEX(M:M,MATCH(\"Total Investitionsprojekte\",$A:$A,0)-1))","v":0},{"$f":"SUM(INDEX(N:N,ROW()+1):INDEX(N:N,MATCH(\"Total Investitionsprojekte\",$A:$A,0)-1))","v":0},{"$f":"SUM(INDEX(O:O,ROW()+1):INDEX(O:O,MATCH(\"Total Investitionsprojekte\",$A:$A,0)-1))","v":0},{"$f":"SUM(INDEX(P:P,ROW()+1):INDEX(P:P,MATCH(\"Total Investitionsprojekte\",$A:$A,0)-1))","v":0}]
[]
[]
["Total Investitionsprojekte",null,{"$f":"SUM(C$4:INDEX(C:C,ROW()-1))/2","v":0},{"$f":"SUM(D$4:INDEX(D:D,ROW()-1))/2","v":0},{"$f":"SUM(E$4:INDEX(E:E,ROW()-1))/2","v":0},{"$f":"SUM(F$4:INDEX(F:F,ROW()-1))/2","v":0},{"$f":"SUM(G$4:INDEX(G:G,ROW()-1))/2","v":0},{"$f":"SUM(H$4:INDEX(H:H,ROW()-1))/2","v":0},{"$f":"SUM(I$4:INDEX(I:I,ROW()-1))/2","v":0},{"$f":"SUM(J$4:INDEX(J:J,ROW()-1))/2","v":0},{"$f":"SUM(K$4:INDEX(K:K,ROW()-1))/2","v":0},{"$f":"SUM(L$4:INDEX(L:L,ROW()-1))/2","v":0},{"$f":"SUM(M$4:INDEX(M:M,ROW()-1))/2","v":0},{"$f":"SUM(N$4:INDEX(N:N,ROW()-1))/2","v":0},{"$f":"SUM(O$4:INDEX(O:O,ROW()-1))/2","v":0},{"$f":"SUM(P$4:INDEX(P:P,ROW()-1))/2","v":0}]

{"sheet":"InvprogrammB","index":9,"n_rows":6,"n_cols":16,"rows_kept":6}
["Investitionsplan Aufgaben- und Finanzplanung"]
[]
["Funktion","Bezeichnung","Betrag",{"$f":"Investitionsplan!F4","v":2023},{"$f":"D3+1","v":2024},2025,2026,2027,2028,2029,2030,2031,2032,2033,{"$f":"\"ab \"&N3+1","v":"ab 2034"},"jährliche Abschreibung"]
[]
[]
["Total Investitionsprojekte",null,{"$f":"SUM(C$4:INDEX(C:C,ROW()-1))","v":0},{"$f":"SUM(D$4:INDEX(D:D,ROW()-1))","v":0},{"$f":"SUM(E$4:INDEX(E:E,ROW()-1))","v":0},{"$f":"SUM(F$4:INDEX(F:F,ROW()-1))","v":0},{"$f":"SUM(G$4:INDEX(G:G,ROW()-1))","v":0},{"$f":"SUM(H$4:INDEX(H:H,ROW()-1))","v":0},{"$f":"SUM(I$4:INDEX(I:I,ROW()-1))","v":0},{"$f":"SUM(J$4:INDEX(J:J,ROW()-1))","v":0},{"$f":"SUM(K$4:INDEX(K:K,ROW()-1))","v":0},{"$f":"SUM(L$4:INDEX(L:L,ROW()-1))","v":0},{"$f":"SUM(M$4:INDEX(M:M,ROW()-1))","v":0},{"$f":"SUM(N$4:INDEX(N:N,ROW()-1))","v":0},{"$f":"SUM(O$4:INDEX(O:O,ROW()-1))","v":0},{"$f":"SUM(P$4:INDEX(P:P,ROW()-1))","v":0}]

{"sheet":"Plan-ER","index":10,"n_rows":57,"n_cols":14,"rows_kept":57,"merged":[[6,0,6,1],[19,0,19,1],[39,0,39,1],[45,0,45,1],[47,0,47,1],[52,0,52,1],[54,0,54,1]]}
["Plan-Erfolgsrechnung"]
[null,null,"Budget",{"$f":"Budget!E4","v":"Prognose"}]
[null,null,{"$f":"Ausgangslage!D5-1","v":2023},{"$f":"C3","v":2023},{"$f":"D3+1","v":2024},2025,2026,2027,2028,2029,2030,2031,2032,{"$f":"M3+1","v":2033}]
["Einwohnerzahl",null,{"$f":"Prognosen!C5","v":0},{"$f":"Prognosen!D5","v":0},{"$f":"Prognosen!E5","v":0},{"$f":"Prognosen!F5","v":0},{"$f":"Prognosen!G5","v":0},{"$f":"Prognosen!H5","v":0},{"$f":"Prognosen!I5","v":0},{"$f":"Prognosen!J5","v":0},{"$f":"Prognosen!K5","v":0},{"$f":"Prognosen!L5","v":0},{"$f":"Prognosen!M5","v":0},{"$f":"Prognosen!N5","v":0}]
["Steuerfuss",null,{"$f":"Prognosen!C6","v":{"v":0,"d":"0%"}},{"$f":"Prognosen!D6","v":{"v":0,"d":"0%"}},{"$f":"Prognosen!E6","v":{"v":0,"d":"0%"}},{"$f":"Prognosen!F6","v":{"v":0,"d":"0%"}},{"$f":"Prognosen!G6","v":{"v":0,"d":"0%"}},{"$f":"Prognosen!H6","v":{"v":0,"d":"0%"}},{"$f":"Prognosen!I6","v":{"v":0,"d":"0%"}},{"$f":"Prognosen!J6","v":{"v":0,"d":"0%"}},{"$f":"Prognosen!K6","v":{"v":0,"d":"0%"}},{"$f":"Prognosen!L6","v":{"v":0,"d":"0%"}},{"$f":"Prognosen!M6","v":{"v":0,"d":"0%"}},{"$f":"Prognosen!N6","v":{"v":0,"d":"0%"}}]
[]
["Betrieblicher Aufwand",null,{"$f":"ROUND(C9+C11+C13+C15+C17,0)","v":0},0,0,0,0,0,0,0,0,0,0,0]
[]
[30,"Personalaufwand",{"$f":"Budget!C12","v":0},{"$f":"Budget!E12","v":0},{"$f":"Budget!G12","v":0},{"$f":"ROUND($E9*ZZFaktor(Prognosen!$F7:F7)+SUM(IF(Prognosen!$A$51:$A$101=$A9,Prognosen!F$51:F$101)),0)","v":0},{"$f":"ROUND($E9*ZZFaktor(Prognosen!$F7:G7)+SUM(IF(Prognosen!$A$51:$A$101=$A9,Prognosen!G$51:G$101)),0)","v":0},{"$f":"ROUND($E9*ZZFaktor(Prognosen!$F7:H7)+SUM(IF(Prognosen!$A$51:$A$101=$A9,Prognosen!H$51:H$101)),0)","v":0},{"$f":"ROUND($E9*ZZFaktor(Prognosen!$F7:I7)+SUM(IF(Prognosen!$A$51:$A$101=$A9,Prognosen!I$51:I$101)),0)","v":0},{"$f":"ROUND($E9*ZZFaktor(Prognosen!$F7:J7)+SUM(IF(Prognosen!$A$51:$A$101=$A9,Prognosen!J$51:J$101)),0)","v":0},{"$f":"ROUND($E9*ZZFaktor(Prognosen!$F7:K7)+SUM(IF(Prognosen!$A$51:$A$101=$A9,Prognosen!K$51:K$101)),0)","v":0},{"$f":"ROUND($E9*ZZFaktor(Prognosen!$F7:L7)+SUM(IF(Prognosen!$A$51:$A$101=$A9,Prognosen!L$51:L$101)),0)","v":0},{"$f":"ROUND($E9*ZZFaktor(Prognosen!$F7:M7)+SUM(IF(Prognosen!$A$51:$A$101=$A9,Prognosen!M$51:M$101)),0)","v":0},{"$f":"ROUND($E9*ZZFaktor(Prognosen!$F7:N7)+SUM(IF(Prognosen!$A$51:$A$101=$A9,Prognosen!N$51:N$101)),0)","v":0}]
[]
[31,"Sach- und übriger Betriebsaufwand",{"$f":"Budget!C16","v":0},{"$f":"Budget!E16","v":0},{"$f":"Budget!G16","v":0},{"$f":"ROUND((Budget!$G$17)*ZZFaktor(Prognosen!$F8:F8)+F24+SUM(IF(Prognosen!$A$51:$A$101=$A11,Prognosen!F$51:F$101)),0)","v":0},{"$f":"ROUND((Budget!$G$17)*ZZFaktor(Prognosen!$F8:G8)+G24+SUM(IF(Prognosen!$A$51:$A$101=$A11,Prognosen!G$51:G$101)),0)","v":0},{"$f":"ROUND((Budget!$G$17)*ZZFaktor(Prognosen!$F8:H8)+H24+SUM(IF(Prognosen!$A$51:$A$101=$A11,Prognosen!H$51:H$101)),0)","v":0},{"$f":"ROUND((Budget!$G$17)*ZZFaktor(Prognosen!$F8:I8)+I24+SUM(IF(Prognosen!$A$51:$A$101=$A11,Prognosen!I$51:I$101)),0)","v":0},{"$f":"ROUND((Budget!$G$17)*ZZFaktor(Prognosen!$F8:J8)+J24+SUM(IF(Prognosen!$A$51:$A$101=$A11,Prognosen!J$51:J$101)),0)","v":0},{"$f":"ROUND((Budget!$G$17)*ZZFaktor(Prognosen!$F8:K8)+K24+SUM(IF(Prognosen!$A$51:$A$101=$A11,Prognosen!K$51:K$101)),0)","v":0},{"$f":"ROUND((Budget!$G$17)*ZZFaktor(Prognosen!$F8:L8)+L24+SUM(IF(Prognosen!$A$51:$A$101=$A11,Prognosen!L$51:L$101)),0)","v":0},{"$f":"ROUND((Budget!$G$17)*ZZFaktor(Prognosen!$F8:M8)+M24+SUM(IF(Prognosen!$A$51:$A$101=$A11,Prognosen!M$51:M$101)),0)","v":0},{"$f":"ROUND((Budget!$G$17)*ZZFaktor(Prognosen!$F8:N8)+N24+SUM(IF(Prognosen!$A$51:$A$101=$A11,Prognosen!N$51:N$101)),0)","v":0}]
[]
[33,"Abschreibungen Verwaltungsvermögen inkl. 366",{"$f":"Budget!C23+Budget!C24","v":0},{"$f":"Budget!E23+Budget!E24","v":0},{"$f":"Budget!G23+Budget!G24","v":0},{"$f":"Investitionsplan!W9","v":0},{"$f":"Investitionsplan!X9","v":0},{"$f":"Investitionsplan!Y9","v":0},{"$f":"Investitionsplan!Z9","v":0},{"$f":"Investitionsplan!AA9","v":0},{"$f":"Investitionsplan!AB9","v":0},{"$f":"Investitionsplan!AC9","v":0},{"$f":"Investitionsplan!AD9","v":0},{"$f":"Investitionsplan!AE9","v":0}]
[]
[35,"Einlagen in Fonds",{"$f":"Budget!C28","v":0},{"$f":"Budget!E28","v":0},{"$f":"Budget!G28","v":0},{"$f":"$E15+SUM(IF(Prognosen!$A$51:$A$101=$A15,Prognosen!F$51:F$101))","v":0},{"$f":"$E15+SUM(IF(Prognosen!$A$51:$A$101=$A15,Prognosen!G$51:G$101))","v":0},{"$f":"$E15+SUM(IF(Prognosen!$A$51:$A$101=$A15,Prognosen!H$51:H$101))","v":0},{"$f":"$E15+SUM(IF(Prognosen!$A$51:$A$101=$A15,Prognosen!I$51:I$101))","v":0},{"$f":"$E15+SUM(IF(Prognosen!$A$51:$A$101=$A15,Prognosen!J$51:J$101))","v":0},{"$f":"$E15+SUM(IF(Prognosen!$A$51:$A$101=$A15,Prognosen!K$51:K$101))","v":0},{"$f":"$E15+SUM(IF(Prognosen!$A$51:$A$101=$A15,Prognosen!L$51:L$101))","v":0},{"$f":"$E15+SUM(IF(Prognosen!$A$51:$A$101=$A15,Prognosen!M$51:M$101))","v":0},{"$f":"$E15+SUM(IF(Prognosen!$A$51:$A$101=$A15,Prognosen!N$51:N$101))","v":0}]
[]
[36,"Transferaufwand ohne 366",{"$f":"Budget!C33","v":0},{"$f":"Budget!E33","v":0},{"$f":"Budget!G33","v":0},{"$f":"ROUND(Budget!$G37*ZZFaktor(Prognosen!$F9:F9)+SUM(IF(Prognosen!$A$51:$A$101=$A17,Prognosen!F$51:F$101)),0)+F18","v":0},{"$f":"ROUND(Budget!$G37*ZZFaktor(Prognosen!$F9:G9)+SUM(IF(Prognosen!$A$51:$A$101=$A17,Prognosen!G$51:G$101)),0)+G18","v":0},{"$f":"ROUND(Budget!$G37*ZZFaktor(Prognosen!$F9:H9)+SUM(IF(Prognosen!$A$51:$A$101=$A17,Prognosen!H$51:H$101)),0)+H18","v":0},{"$f":"ROUND(Budget!$G37*ZZFaktor(Prognosen!$F9:I9)+SUM(IF(Prognosen!$A$51:$A$101=$A17,Prognosen!I$51:I$101)),0)+I18","v":0},{"$f":"ROUND(Budget!$G37*ZZFaktor(Prognosen!$F9:J9)+SUM(IF(Prognosen!$A$51:$A$101=$A17,Prognosen!J$51:J$101)),0)+J18","v":0},{"$f":"ROUND(Budget!$G37*ZZFaktor(Prognosen!$F9:K9)+SUM(IF(Prognosen!$A$51:$A$101=$A17,Prognosen!K$51:K$101)),0)+K18","v":0},{"$f":"ROUND(Budget!$G37*ZZFaktor(Prognosen!$F9:L9)+SUM(IF(Prognosen!$A$51:$A$101=$A17,Prognosen!L$51:L$101)),0)+L18","v":0},{"$f":"ROUND(Budget!$G37*ZZFaktor(Prognosen!$F9:M9)+SUM(IF(Prognosen!$A$51:$A$101=$A17,Prognosen!M$51:M$101)),0)+M18","v":0},{"$f":"ROUND(Budget!$G37*ZZFaktor(Prognosen!$F9:N9)+SUM(IF(Prognosen!$A$51:$A$101=$A17,Prognosen!N$51:N$101)),0)+N18","v":0}]
[null,"davon Finanzausgleichsabgaben",{"$f":"Budget!C35","v":0},{"$f":"Budget!E35","v":0},{"$f":"Prognosen!E29","v":0},{"$f":"Prognosen!F29","v":0},{"$f":"Prognosen!G29","v":0},{"$f":"Prognosen!H29","v":0},{"$f":"Prognosen!I29","v":0},{"$f":"Prognosen!J29","v":0},{"$f":"Prognosen!K29","v":0},{"$f":"Prognosen!L29","v":0},{"$f":"Prognosen!M29","v":0},{"$f":"Prognosen!N29","v":0}]
[]
["Betrieblicher Ertrag",null,{"$f":"ROUND(C22+C29+C31+C33+C35+C37,0)","v":0},{"$f":"ROUND(D22+D29+D31+D33+D35+D37,0)","v":0},0,0,0,0,0,0,0,0,0,{"$f":"ROUND(N22+N29+N31+N33+N35+N37,0)","v":0}]
[]
[40,"Fiskalertrag",{"$f":"C23+C25+C26+C27","v":0},{"$f":"D23+D25+D26+D27","v":0},0,0,0,0,0,0,0,0,0,{"$f":"N23+N25+N26+N27","v":0}]
["4000/1","Einkommens- und Vermögenssteuern natürliche Pers.",{"$f":"Budget!C45","v":0},{"$f":"Budget!E45","v":0},{"$f":"Budget!G45","v":0},{"$f":"Prognosen!F16","v":0},{"$f":"Prognosen!G16","v":0},{"$f":"Prognosen!H16","v":0},{"$f":"Prognosen!I16","v":0},{"$f":"Prognosen!J16","v":0},{"$f":"Prognosen!K16","v":0},{"$f":"Prognosen!L16","v":0},{"$f":"Prognosen!M16","v":0},{"$f":"Prognosen!N16","v":0}]
[31,"Abschreibungen Steuerforderungen",{"$f":"Budget!C46","v":0},{"$f":"Budget!E46","v":0},{"$f":"Budget!G46","v":0},{"$f":"Prognosen!F20","v":0},{"$f":"Prognosen!G20","v":0},{"$f":"Prognosen!H20","v":0},{"$f":"Prognosen!I20","v":0},{"$f":"Prognosen!J20","v":0},{"$f":"Prognosen!K20","v":0},{"$f":"Prognosen!L20","v":0},{"$f":"Prognosen!M20","v":0},{"$f":"Prognosen!N20","v":0}]
[4002,"Quellensteuern",{"$f":"Budget!C47","v":0},{"$f":"Budget!E47","v":0},{"$f":"Budget!G47","v":0},{"$f":"Prognosen!F21","v":0},{"$f":"Prognosen!G21","v":0},{"$f":"Prognosen!H21","v":0},{"$f":"Prognosen!I21","v":0},{"$f":"Prognosen!J21","v":0},{"$f":"Prognosen!K21","v":0},{"$f":"Prognosen!L21","v":0},{"$f":"Prognosen!M21","v":0},{"$f":"Prognosen!N21","v":0}]
[4010,"Gewinn- und Kapitalsteuern juristische Pers.",{"$f":"Budget!C48","v":0},{"$f":"Budget!E48","v":0},{"$f":"Budget!G48","v":0},{"$f":"Prognosen!F22","v":0},{"$f":"Prognosen!G22","v":0},{"$f":"Prognosen!H22","v":0},{"$f":"Prognosen!I22","v":0},{"$f":"Prognosen!J22","v":0},{"$f":"Prognosen!K22","v":0},{"$f":"Prognosen!L22","v":0},{"$f":"Prognosen!M22","v":0},{"$f":"Prognosen!N22","v":0}]
[40,"Sondersteuern und übriger Fiskalertrag",{"$f":"Budget!C52+Budget!C54","v":0},{"$f":"Budget!E52+Budget!E54","v":0},{"$f":"Budget!G52+Budget!G54","v":0},{"$f":"Prognosen!F24+Prognosen!F25","v":0},{"$f":"Prognosen!G24+Prognosen!G25","v":0},{"$f":"Prognosen!H24+Prognosen!H25","v":0},{"$f":"Prognosen!I24+Prognosen!I25","v":0},{"$f":"Prognosen!J24+Prognosen!J25","v":0},{"$f":"Prognosen!K24+Prognosen!K25","v":0},{"$f":"Prognosen!L24+Prognosen!L25","v":0},{"$f":"Prognosen!M24+Prognosen!M25","v":0},{"$f":"Prognosen!N24+Prognosen!N25","v":0}]
[]
[41,"Regalien und Konzessionen",{"$f":"Budget!C58","v":0},{"$f":"Budget!E58","v":0},{"$f":"Budget!G58","v":0},{"$f":"$E29-SUM(IF(Prognosen!$A$51:$A$101=$A29,Prognosen!F$51:F$101))","v":0},{"$f":"$E29-SUM(IF(Prognosen!$A$51:$A$101=$A29,Prognosen!G$51:G$101))","v":0},{"$f":"$E29-SUM(IF(Prognosen!$A$51:$A$101=$A29,Prognosen!H$51:H$101))","v":0},{"$f":"$E29-SUM(IF(Prognosen!$A$51:$A$101=$A29,Prognosen!I$51:I$101))","v":0},{"$f":"$E29-SUM(IF(Prognosen!$A$51:$A$101=$A29,Prognosen!J$51:J$101))","v":0},{"$f":"$E29-SUM(IF(Prognosen!$A$51:$A$101=$A29,Prognosen!K$51:K$101))","v":0},{"$f":"$E29-SUM(IF(Prognosen!$A$51:$A$101=$A29,Prognosen!L$51:L$101))","v":0},{"$f":"$E29-SUM(IF(Prognosen!$A$51:$A$101=$A29,Prognosen!M$51:M$101))","v":0},{"$f":"$E29-SUM(IF(Prognosen!$A$51:$A$101=$A29,Prognosen!N$51:N$101))","v":0}]
[]
[42,"Entgelte",{"$f":"Budget!C62","v":0},{"$f":"Budget!E62","v":0},{"$f":"Budget!G62","v":0},{"$f":"ROUND(Budget!$G$62*ZZFaktor(Prognosen!$F10:F10)-SUM(IF(Prognosen!$A$51:$A$101=$A31,Prognosen!F$51:F$101)),0)","v":0},{"$f":"ROUND(Budget!$G$62*ZZFaktor(Prognosen!$F10:G10)-SUM(IF(Prognosen!$A$51:$A$101=$A31,Prognosen!G$51:G$101)),0)","v":0},{"$f":"ROUND(Budget!$G$62*ZZFaktor(Prognosen!$F10:H10)-SUM(IF(Prognosen!$A$51:$A$101=$A31,Prognosen!H$51:H$101)),0)","v":0},{"$f":"ROUND(Budget!$G$62*ZZFaktor(Prognosen!$F10:I10)-SUM(IF(Prognosen!$A$51:$A$101=$A31,Prognosen!I$51:I$101)),0)","v":0},{"$f":"ROUND(Budget!$G$62*ZZFaktor(Prognosen!$F10:J10)-SUM(IF(Prognosen!$A$51:$A$101=$A31,Prognosen!J$51:J$101)),0)","v":0},{"$f":"ROUND(Budget!$G$62*ZZFaktor(Prognosen!$F10:K10)-SUM(IF(Prognosen!$A$51:$A$101=$A31,Prognosen!K$51:K$101)),0)","v":0},{"$f":"ROUND(Budget!$G$62*ZZFaktor(Prognosen!$F10:L10)-SUM(IF(Prognosen!$A$51:$A$101=$A31,Prognosen!L$51:L$101)),0)","v":0},{"$f":"ROUND(Budget!$G$62*ZZFaktor(Prognosen!$F10:M10)-SUM(IF(Prognosen!$A$51:$A$101=$A31,Prognosen!M$51:M$101)),0)","v":0},{"$f":"ROUND(Budget!$G$62*ZZFaktor(Prognosen!$F10:N10)-SUM(IF(Prognosen!$A$51:$A$101=$A31,Prognosen!N$51:N$101)),0)","v":0}]
[]
[43,"Verschiedene Erträge",{"$f":"Budget!C66","v":0},{"$f":"Budget!E66","v":0},{"$f":"Budget!G66","v":0},{"$f":"$E33-SUM(IF(Prognosen!$A$51:$A$101=$A33,Prognosen!F$51:F$101))","v":0},{"$f":"$E33-SUM(IF(Prognosen!$A$51:$A$101=$A33,Prognosen!G$51:G$101))","v":0},{"$f":"$E33-SUM(IF(Prognosen!$A$51:$A$101=$A33,Prognosen!H$51:H$101))","v":0},{"$f":"$E33-SUM(IF(Prognosen!$A$51:$A$101=$A33,Prognosen!I$51:I$101))","v":0},{"$f":"$E33-SUM(IF(Prognosen!$A$51:$A$101=$A33,Prognosen!J$51:J$101))","v":0},{"$f":"$E33-SUM(IF(Prognosen!$A$51:$A$101=$A33,Prognosen!K$51:K$101))","v":0},{"$f":"$E33-SUM(IF(Prognosen!$A$51:$A$101=$A33,Prognosen!L$51:L$101))","v":0},{"$f":"$E33-SUM(IF(Prognosen!$A$51:$A$101=$A33,Prognosen!M$51:M$101))","v":0},{"$f":"$E33-SUM(IF(Prognosen!$A$51:$A$101=$A33,Prognosen!N$51:N$101))","v":0}]
[]
[45,"Entnahmen aus Fonds",{"$f":"Budget!C70","v":0},{"$f":"Budget!E70","v":0},{"$f":"Budget!G70","v":0},{"$f":"$E35-SUM(IF(Prognosen!$A$51:$A$101=$A35,Prognosen!F$51:F$101))","v":0},{"$f":"$E35-SUM(IF(Prognosen!$A$51:$A$101=$A35,Prognosen!G$51:G$101))","v":0},{"$f":"$E35-SUM(IF(Prognosen!$A$51:$A$101=$A35,Prognosen!H$51:H$101))","v":0},{"$f":"$E35-SUM(IF(Prognosen!$A$51:$A$101=$A35,Prognosen!I$51:I$101))","v":0},{"$f":"$E35-SUM(IF(Prognosen!$A$51:$A$101=$A35,Prognosen!J$51:J$101))","v":0},{"$f":"$E35-SUM(IF(Prognosen!$A$51:$A$101=$A35,Prognosen!K$51:K$101))","v":0},{"$f":"$E35-SUM(IF(Prognosen!$A$51:$A$101=$A35,Prognosen!L$51:L$101))","v":0},{"$f":"$E35-SUM(IF(Prognosen!$A$51:$A$101=$A35,Prognosen!M$51:M$101))","v":0},{"$f":"$E35-SUM(IF(Prognosen!$A$51:$A$101=$A35,Prognosen!N$51:N$101))","v":0}]
[]
[46,"Transferertrag",{"$f":"Budget!C75","v":0},{"$f":"Budget!E75","v":0},{"$f":"Budget!G75","v":0},{"$f":"ROUND(Budget!$G77*ZZFaktor(Prognosen!$F11:F11)-SUM(IF(Prognosen!$A$51:$A$101=$A37,Prognosen!F$51:F$101)),0)+F38","v":0},{"$f":"ROUND(Budget!$G77*ZZFaktor(Prognosen!$F11:G11)-SUM(IF(Prognosen!$A$51:$A$101=$A37,Prognosen!G$51:G$101)),0)+G38","v":0},{"$f":"ROUND(Budget!$G77*ZZFaktor(Prognosen!$F11:H11)-SUM(IF(Prognosen!$A$51:$A$101=$A37,Prognosen!H$51:H$101)),0)+H38","v":0},{"$f":"ROUND(Budget!$G77*ZZFaktor(Prognosen!$F11:I11)-SUM(IF(Prognosen!$A$51:$A$101=$A37,Prognosen!I$51:I$101)),0)+I38","v":0},{"$f":"ROUND(Budget!$G77*ZZFaktor(Prognosen!$F11:J11)-SUM(IF(Prognosen!$A$51:$A$101=$A37,Prognosen!J$51:J$101)),0)+J38","v":0},{"$f":"ROUND(Budget!$G77*ZZFaktor(Prognosen!$F11:K11)-SUM(IF(Prognosen!$A$51:$A$101=$A37,Prognosen!K$51:K$101)),0)+K38","v":0},{"$f":"ROUND(Budget!$G77*ZZFaktor(Prognosen!$F11:L11)-SUM(IF(Prognosen!$A$51:$A$101=$A37,Prognosen!L$51:L$101)),0)+L38","v":0},{"$f":"ROUND(Budget!$G77*ZZFaktor(Prognosen!$F11:M11)-SUM(IF(Prognosen!$A$51:$A$101=$A37,Prognosen!M$51:M$101)),0)+M38","v":0},{"$f":"ROUND(Budget!$G77*ZZFaktor(Prognosen!$F11:N11)-SUM(IF(Prognosen!$A$51:$A$101=$A37,Prognosen!N$51:N$101)),0)+N38","v":0}]
[null,"davon Finanzausgleichsbeiträge",{"$f":"Budget!C76","v":0},{"$f":"Budget!E76","v":0},{"$f":"SUM(Prognosen!E30:E33)","v":0},{"$f":"SUM(Prognosen!F30:F33)","v":0},{"$f":"SUM(Prognosen!G30:G33)","v":0},{"$f":"SUM(Prognosen!H30:H33)","v":0},{"$f":"SUM(Prognosen!I30:I33)","v":0},{"$f":"SUM(Prognosen!J30:J33)","v":0},{"$f":"SUM(Prognosen!K30:K33)","v":0},{"$f":"SUM(Prognosen!L30:L33)","v":0},{"$f":"SUM(Prognosen!M30:M33)","v":0},{"$f":"SUM(Prognosen!N30:N33)","v":0}]
[]
["Ergebnis aus betrieblicher Tätigkeit",null,{"$f":"C20-C7","v":0},0,0,0,0,0,0,0,0,0,0,0]
[]
[34,"Finanzaufwand",{"$f":"Budget!C83","v":0},{"$f":"Budget!E83","v":0},{"$f":"Budget!G83","v":0},{"$f":"E42+'Schulden-Zinsen'!F41+'Schulden-Zinsen'!F63+'Schulden-Zinsen'!F70+SUM(IF(Prognosen!$A$51:$A$101=$A42,Prognosen!F$51:F$101))","v":0},{"$f":"F42+'Schulden-Zinsen'!G41+'Schulden-Zinsen'!G63+'Schulden-Zinsen'!G70+SUM(IF(Prognosen!$A$51:$A$101=$A42,Prognosen!G$51:G$101))-SUM(IF(Prognosen!$A$51:$A$101=$A42,Prognosen!F$51:F$101))","v":0},{"$f":"G42+'Schulden-Zinsen'!H41+'Schulden-Zinsen'!H63+'Schulden-Zinsen'!H70+SUM(IF(Prognosen!$A$51:$A$101=$A42,Prognosen!H$51:H$101))-SUM(IF(Prognosen!$A$51:$A$101=$A42,Prognosen!G$51:G$101))","v":0},{"$f":"H42+'Schulden-Zinsen'!I41+'Schulden-Zinsen'!I63+'Schulden-Zinsen'!I70+SUM(IF(Prognosen!$A$51:$A$101=$A42,Prognosen!I$51:I$101))-SUM(IF(Prognosen!$A$51:$A$101=$A42,Prognosen!H$51:H$101))","v":0},{"$f":"I42+'Schulden-Zinsen'!J41+'Schulden-Zinsen'!J63+'Schulden-Zinsen'!J70+SUM(IF(Prognosen!$A$51:$A$101=$A42,Prognosen!J$51:J$101))-SUM(IF(Prognosen!$A$51:$A$101=$A42,Prognosen!I$51:I$101))","v":0},{"$f":"J42+'Schulden-Zinsen'!K41+'Schulden-Zinsen'!K63+'Schulden-Zinsen'!K70+SUM(IF(Prognosen!$A$51:$A$101=$A42,Prognosen!K$51:K$101))-SUM(IF(Prognosen!$A$51:$A$101=$A42,Prognosen!J$51:J$101))","v":0},{"$f":"K42+'Schulden-Zinsen'!L41+'Schulden-Zinsen'!L63+'Schulden-Zinsen'!L70+SUM(IF(Prognosen!$A$51:$A$101=$A42,Prognosen!L$51:L$101))-SUM(IF(Prognosen!$A$51:$A$101=$A42,Prognosen!K$51:K$101))","v":0},{"$f":"L42+'Schulden-Zinsen'!M41+'Schulden-Zinsen'!M63+'Schulden-Zinsen'!M70+SUM(IF(Prognosen!$A$51:$A$101=$A42,Prognosen!M$51:M$101))-SUM(IF(Prognosen!$A$51:$A$101=$A42,Prognosen!L$51:L$101))","v":0},{"$f":"M42+'Schulden-Zinsen'!N41+'Schulden-Zinsen'!N63+'Schulden-Zinsen'!N70+SUM(IF(Prognosen!$A$51:$A$101=$A42,Prognosen!N$51:N$101))-SUM(IF(Prognosen!$A$51:$A$101=$A42,Prognosen!M$51:M$101))","v":0}]
[]
[44,"Finanzertrag",{"$f":"Budget!C87","v":0},{"$f":"Budget!E87","v":0},{"$f":"Budget!G87","v":0},{"$f":"E44+'Schulden-Zinsen'!F49+'Schulden-Zinsen'!F56+'Schulden-Zinsen'!F71-SUM(IF(Prognosen!$A$51:$A$101=$A44,Prognosen!F$51:F$101))","v":0},{"$f":"F44+'Schulden-Zinsen'!G49+'Schulden-Zinsen'!G56+'Schulden-Zinsen'!G71-SUM(IF(Prognosen!$A$51:$A$101=$A44,Prognosen!G$51:G$101))+SUM(IF(Prognosen!$A$51:$A$101=$A44,Prognosen!F$51:F$101))","v":0},{"$f":"G44+'Schulden-Zinsen'!H49+'Schulden-Zinsen'!H56+'Schulden-Zinsen'!H71-SUM(IF(Prognosen!$A$51:$A$101=$A44,Prognosen!H$51:H$101))+SUM(IF(Prognosen!$A$51:$A$101=$A44,Prognosen!G$51:G$101))","v":0},{"$f":"H44+'Schulden-Zinsen'!I49+'Schulden-Zinsen'!I56+'Schulden-Zinsen'!I71-SUM(IF(Prognosen!$A$51:$A$101=$A44,Prognosen!I$51:I$101))+SUM(IF(Prognosen!$A$51:$A$101=$A44,Prognosen!H$51:H$101))","v":0},{"$f":"I44+'Schulden-Zinsen'!J49+'Schulden-Zinsen'!J56+'Schulden-Zinsen'!J71-SUM(IF(Prognosen!$A$51:$A$101=$A44,Prognosen!J$51:J$101))+SUM(IF(Prognosen!$A$51:$A$101=$A44,Prognosen!I$51:I$101))","v":0},{"$f":"J44+'Schulden-Zinsen'!K49+'Schulden-Zinsen'!K56+'Schulden-Zinsen'!K71-SUM(IF(Prognosen!$A$51:$A$101=$A44,Prognosen!K$51:K$101))+SUM(IF(Prognosen!$A$51:$A$101=$A44,Prognosen!J$51:J$101))","v":0},{"$f":"K44+'Schulden-Zinsen'!L49+'Schulden-Zinsen'!L56+'Schulden-Zinsen'!L71-SUM(IF(Prognosen!$A$51:$A$101=$A44,Prognosen!L$51:L$101))+SUM(IF(Prognosen!$A$51:$A$101=$A44,Prognosen!K$51:K$101))","v":0},{"$f":"L44+'Schulden-Zinsen'!M49+'Schulden-Zinsen'!M56+'Schulden-Zinsen'!M71-SUM(IF(Prognosen!$A$51:$A$101=$A44,Prognosen!M$51:M$101))+SUM(IF(Prognosen!$A$51:$A$101=$A44,Prognosen!L$51:L$101))","v":0},{"$f":"M44+'Schulden-Zinsen'!N49+'Schulden-Zinsen'!N56+'Schulden-Zinsen'!N71-SUM(IF(Prognosen!$A$51:$A$101=$A44,Prognosen!N$51:N$101))+SUM(IF(Prognosen!$A$51:$A$101=$A44,Prognosen!M$51:M$101))","v":0}]
[]
["Ergebnis aus Finanzierung",null,{"$f":"ROUND(C44-C42,0)","v":0},{"$f":"ROUND(D44-D42,0)","v":0},0,0,0,0,0,0,0,0,0,{"$f":"ROUND(N44-N42,0)","v":0}]
[]
["Operatives Ergebnis",null,{"$f":"C40+C46","v":0},{"$f":"D40+D46","v":0},0,0,0,0,0,0,0,0,0,{"$f":"N40+N46","v":0}]
[]
["38/48","Ausserordentliches Ergebnis",{"$f":"-Budget!C96+(Budget!C100-Budget!C102)+(-EK!C6)","v":0},{"$f":"-Budget!E96+(Budget!E100-Budget!E102)+(-EK!C6)","v":0},{"$f":"-Prognosen!E43+(Prognosen!E45-Prognosen!E38)+(-EK!D6)","v":0},{"$f":"-Prognosen!F43+(Prognosen!F45-Prognosen!F38)+(-EK!E6)","v":0},{"$f":"-Prognosen!G43+(Prognosen!G45-Prognosen!G38)+(-EK!F6)","v":0},{"$f":"-Prognosen!H43+(Prognosen!H45-Prognosen!H38)+(-EK!G6)","v":0},{"$f":"-Prognosen!I43+(Prognosen!I45-Prognosen!I38)+(-EK!H6)","v":0},{"$f":"-Prognosen!J43+(Prognosen!J45-Prognosen!J38)+(-EK!I6)","v":0},{"$f":"-Prognosen!K43+(Prognosen!K45-Prognosen!K38)+(-EK!J6)","v":0},{"$f":"-Prognosen!L43+(Prognosen!L45-Prognosen!L38)+(-EK!K6)","v":0},{"$f":"-Prognosen!M43+(Prognosen!M45-Prognosen!M38)+(-EK!L6)","v":0},{"$f":"-Prognosen!N43+(Prognosen!N45-Prognosen!N38)+(-EK!M6)","v":0}]
[3899,"davon Abtragung Bilanzfehlbetrag",{"$f":"Budget!C98","v":0},{"$f":"Budget!E98","v":0},{"$f":"Budget!G98","v":0},{"$f":"EK!E12","v":0},{"$f":"EK!F12","v":0},{"$f":"EK!G12","v":0},{"$f":"EK!H12","v":0},{"$f":"EK!I12","v":0},{"$f":"EK!J12","v":0},{"$f":"EK!K12","v":0},{"$f":"EK!L12","v":0},{"$f":"EK!M12","v":0}]
[]
["Gesamtergebnis",null,{"$f":"ROUND(C48+C50,0)","v":0},{"$f":"ROUND(D48+D50,0)","v":0},0,0,0,0,0,0,0,0,0,0]
[]
[{"$f":"\"Mittelfristiges Haushaltsgleichgewicht \"&Ausgangslage!D5","v":"Mittelfristiges Haushaltsgleichgewicht 2024"},{"$f":"\"Bilanz 31.12.\"&E41-2","v":"Bilanz 31.12.-2"}]
["mit operativem Ergebnis gerechnet",{"$nulls":3},{"$f":"Ausgangslage!J58+Ausgangslage!L58+D48+E48+F48+G48+H48","v":0}]
["mit Gesamtergebnis gerechnet",{"$nulls":3},{"$f":"Ausgangslage!J59+Ausgangslage!L59+D53+E53+F53+G53+H53","v":0}]

{"sheet":"EK","index":11,"n_rows":15,"n_cols":13,"rows_kept":15,"merged":[[2,0,2,1]]}
[{"$f":"\"Eigenkapital Aufgaben- und Finanzplanung \"&Ausgangslage!D5-1&\" - \"&Ausgangslage!D5+Ausgangslage!I5-1","v":"Eigenkapital Aufgaben- und Finanzplanung 2023 - 2033"}]
[]
[null,null,{"$f":"Ausgangslage!D5-1","v":2023},{"$f":"C3+1","v":2024},{"$f":"D3+1","v":2025},2026,2027,2028,2029,2030,2031,2032,{"$f":"L3+1","v":2033}]
[29500.01,"Aufwertungsreserve übr. Anlagen\nAnfang Jahr",{"$f":"Ausgangslage!H25","v":0},{"$f":"C4+C6+C7","v":0},{"$f":"D4+D6+D7","v":0},0,0,0,0,0,0,0,0]
[29500.02,"Aufwertungsreserve Grundstücke Anfang Jahr",{"$f":"Ausgangslage!H26","v":0},{"$f":"C5+C8","v":0},{"$f":"D5+D8","v":0},0,0,0,0,0,0,0,0]
[4895,"Entnahme Aufwertungsreserve",{"$f":"-IF(OR(Ausgangslage!$H$25=0,Ausgangslage!$H$25=\"\"),\n0,\n\nIF(Ausgangslage!$L$25=\"\",\n0,\n\nIF(Ausgangslage!$L$25<C3,\n0,\n\nMIN(MAX(0,Ausgangslage!$H$25),Budget!E102))))","v":0},{"$f":"-IF(OR(Ausgangslage!$H$25=0,Ausgangslage!$H$25=\"\"),\n0,\n\nIF(Ausgangslage!$L$25=\"\",\n0,\n\nIF(Ausgangslage!$L$25<D$3,\n0,\n\nMIN(MAX(0,D$4),Prognosen!E$38))))","v":0},{"$f":"-IF(OR(Ausgangslage!$H$25=0,Ausgangslage!$H$25=\"\"),\n0,\n\nIF(Ausgangslage!$L$25=\"\",\n0,\n\nIF(Ausgangslage!$L$25<E$3,\n0,\n\nMIN(MAX(0,E$4),Prognosen!F$38))))","v":0},{"$f":"-IF(OR(Ausgangslage!$H$25=0,Ausgangslage!$H$25=\"\"),\n0,\n\nIF(Ausgangslage!$L$25=\"\",\n0,\n\nIF(Ausgangslage!$L$25<F$3,\n0,\n\nMIN(MAX(0,F$4),Prognosen!G$38))))","v":0},{"$f":"-IF(OR(Ausgangslage!$H$25=0,Ausgangslage!$H$25=\"\"),\n0,\n\nIF(Ausgangslage!$L$25=\"\",\n0,\n\nIF(Ausgangslage!$L$25<G$3,\n0,\n\nMIN(MAX(0,G$4),Prognosen!H$38))))","v":0},{"$f":"-IF(OR(Ausgangslage!$H$25=0,Ausgangslage!$H$25=\"\"),\n0,\n\nIF(Ausgangslage!$L$25=\"\",\n0,\n\nIF(Ausgangslage!$L$25<H$3,\n0,\n\nMIN(MAX(0,H$4),Prognosen!I$38))))","v":0},{"$f":"-IF(OR(Ausgangslage!$H$25=0,Ausgangslage!$H$25=\"\"),\n0,\n\nIF(Ausgangslage!$L$25=\"\",\n0,\n\nIF(Ausgangslage!$L$25<I$3,\n0,\n\nMIN(MAX(0,I$4),Prognosen!J$38))))","v":0},{"$f":"-IF(OR(Ausgangslage!$H$25=0,Ausgangslage!$H$25=\"\"),\n0,\n\nIF(Ausgangslage!$L$25=\"\",\n0,\n\nIF(Ausgangslage!$L$25<J$3,\n0,\n\nMIN(MAX(0,J$4),Prognosen!K$38))))","v":0},{"$f":"-IF(OR(Ausgangslage!$H$25=0,Ausgangslage!$H$25=\"\"),\n0,\n\nIF(Ausgangslage!$L$25=\"\",\n0,\n\nIF(Ausgangslage!$L$25<K$3,\n0,\n\nMIN(MAX(0,K$4),Prognosen!L$38))))","v":0},{"$f":"-IF(OR(Ausgangslage!$H$25=0,Ausgangslage!$H$25=\"\"),\n0,\n\nIF(Ausgangslage!$L$25=\"\",\n0,\n\nIF(Ausgangslage!$L$25<L$3,\n0,\n\nMIN(MAX(0,L$4),Prognosen!M$38))))","v":0},{"$f":"-IF(OR(Ausgangslage!$H$25=0,Ausgangslage!$H$25=\"\"),\n0,\n\nIF(Ausgangslage!$L$25=\"\",\n0,\n\nIF(Ausgangslage!$L$25<M$3,\n0,\n\nMIN(MAX(0,M$4),Prognosen!N$38))))","v":0}]
[null,"Umbuchung Aufwertungsreserve übrige Anlagen",{"$f":"\n-IF(OR(Ausgangslage!$H$25=0,Ausgangslage!$H$25=\"\"),0,\n\nIF(Ausgangslage!$P$25=\"\",\n\nIF(Ausgangslage!$L$25=\"\",\nC3,\n\nIF(Ausgangslage!$L$25<=C3,\nC4,0)),\n\nIF(Ausgangslage!$P$25<=C3,\nC4,0)))","v":0},{"$f":"\n-IF(OR(Ausgangslage!$H$25=0,Ausgangslage!$H$25=\"\"),0,\n\nIF(Ausgangslage!$P$25=\"\",\n\nIF(Ausgangslage!$L$25=\"\",\nD3,\n\nIF(Ausgangslage!$L$25<=D3,\nD4,0)),\n\nIF(Ausgangslage!$P$25<=D3,\nD4,0)))","v":0},{"$f":"\n-IF(OR(Ausgangslage!$H$25=0,Ausgangslage!$H$25=\"\"),0,\n\nIF(Ausgangslage!$P$25=\"\",\n\nIF(Ausgangslage!$L$25=\"\",\nE3,\n\nIF(Ausgangslage!$L$25<=E3,\nE4,0)),\n\nIF(Ausgangslage!$P$25<=E3,\nE4,0)))","v":0},{"$f":"\n-IF(OR(Ausgangslage!$H$25=0,Ausgangslage!$H$25=\"\"),0,\n\nIF(Ausgangslage!$P$25=\"\",\n\nIF(Ausgangslage!$L$25=\"\",\nF3,\n\nIF(Ausgangslage!$L$25<=F3,\nF4,0)),\n\nIF(Ausgangslage!$P$25<=F3,\nF4,0)))","v":0},{"$f":"\n-IF(OR(Ausgangslage!$H$25=0,Ausgangslage!$H$25=\"\"),0,\n\nIF(Ausgangslage!$P$25=\"\",\n\nIF(Ausgangslage!$L$25=\"\",\nG3,\n\nIF(Ausgangslage!$L$25<=G3,\nG4,0)),\n\nIF(Ausgangslage!$P$25<=G3,\nG4,0)))","v":0},{"$f":"\n-IF(OR(Ausgangslage!$H$25=0,Ausgangslage!$H$25=\"\"),0,\n\nIF(Ausgangslage!$P$25=\"\",\n\nIF(Ausgangslage!$L$25=\"\",\nH3,\n\nIF(Ausgangslage!$L$25<=H3,\nH4,0)),\n\nIF(Ausgangslage!$P$25<=H3,\nH4,0)))","v":0},{"$f":"\n-IF(OR(Ausgangslage!$H$25=0,Ausgangslage!$H$25=\"\"),0,\n\nIF(Ausgangslage!$P$25=\"\",\n\nIF(Ausgangslage!$L$25=\"\",\nI3,\n\nIF(Ausgangslage!$L$25<=I3,\nI4,0)),\n\nIF(Ausgangslage!$P$25<=I3,\nI4,0)))","v":0},{"$f":"\n-IF(OR(Ausgangslage!$H$25=0,Ausgangslage!$H$25=\"\"),0,\n\nIF(Ausgangslage!$P$25=\"\",\n\nIF(Ausgangslage!$L$25=\"\",\nJ3,\n\nIF(Ausgangslage!$L$25<=J3,\nJ4,0)),\n\nIF(Ausgangslage!$P$25<=J3,\nJ4,0)))","v":0},{"$f":"\n-IF(OR(Ausgangslage!$H$25=0,Ausgangslage!$H$25=\"\"),0,\n\nIF(Ausgangslage!$P$25=\"\",\n\nIF(Ausgangslage!$L$25=\"\",\nK3,\n\nIF(Ausgangslage!$L$25<=K3,\nK4,0)),\n\nIF(Ausgangslage!$P$25<=K3,\nK4,0)))","v":0},{"$f":"\n-IF(OR(Ausgangslage!$H$25=0,Ausgangslage!$H$25=\"\"),0,\n\nIF(Ausgangslage!$P$25=\"\",\n\nIF(Ausgangslage!$L$25=\"\",\nL3,\n\nIF(Ausgangslage!$L$25<=L3,\nL4,0)),\n\nIF(Ausgangslage!$P$25<=L3,\nL4,0)))","v":0},{"$f":"\n-IF(OR(Ausgangslage!$H$25=0,Ausgangslage!$H$25=\"\"),0,\n\nIF(Ausgangslage!$P$25=\"\",\n\nIF(Ausgangslage!$L$25=\"\",\nM3,\n\nIF(Ausgangslage!$L$25<=M3,\nM4,0)),\n\nIF(Ausgangslage!$P$25<=M3,\nM4,0)))","v":0}]
[null,"Umbuchung Aufwertungsreserve Grundstücke",{"$f":"-IF(C3=Ausgangslage!$P$26,Ausgangslage!$H$26,0)","v":0},{"$f":"-IF(D3=Ausgangslage!$P$26,Ausgangslage!$H$26,0)","v":0},{"$f":"-IF(E3=Ausgangslage!$P$26,Ausgangslage!$H$26,0)","v":0},{"$f":"-IF(F3=Ausgangslage!$P$26,Ausgangslage!$H$26,0)","v":0},{"$f":"-IF(G3=Ausgangslage!$P$26,Ausgangslage!$H$26,0)","v":0},{"$f":"-IF(H3=Ausgangslage!$P$26,Ausgangslage!$H$26,0)","v":0},{"$f":"-IF(I3=Ausgangslage!$P$26,Ausgangslage!$H$26,0)","v":0},{"$f":"-IF(J3=Ausgangslage!$P$26,Ausgangslage!$H$26,0)","v":0},{"$f":"-IF(K3=Ausgangslage!$P$26,Ausgangslage!$H$26,0)","v":0},{"$f":"-IF(L3=Ausgangslage!$P$26,Ausgangslage!$H$26,0)","v":0},{"$f":"-IF(M3=Ausgangslage!$P$26,Ausgangslage!$H$26,0)","v":0}]
[29500,"Aufwertungsreserve \nEnde Jahr",{"$f":"SUM(C4:C8)","v":0},{"$f":"SUM(D4:D8)","v":0},0,0,0,0,0,0,0,0,0]
[]
[299,"Bilanzüberschuss/-fehlbetrag Anfang Jahr ",{"$f":"Ausgangslage!H28","v":0},{"$f":"C15","v":0},{"$f":"D15","v":0},0,0,0,0,0,0,0,0]
[3899,"Abtragung Bilanzfehlbetrag (30%)",{"$f":"Budget!E98","v":0},{"$f":"Budget!G98","v":0},{"$f":"ROUND(IF((E11)<0,(E11)*-30%,0),0)","v":0},0,0,0,0,0,0,0,0]
[90,"Gesamtergebnis",{"$f":"Budget!E106","v":0},{"$f":"Budget!G106","v":0},{"$f":"'Plan-ER'!F53","v":0},{"$f":"'Plan-ER'!G53","v":0},{"$f":"'Plan-ER'!H53","v":0},{"$f":"'Plan-ER'!I53","v":0},{"$f":"'Plan-ER'!J53","v":0},{"$f":"'Plan-ER'!K53","v":0},{"$f":"'Plan-ER'!L53","v":0},{"$f":"'Plan-ER'!M53","v":0},{"$f":"'Plan-ER'!N53","v":0}]
[null,"Umbuchung Aufwertungsreserve",{"$f":"-C8-C7","v":0},{"$f":"-D8-D7","v":0},0,0,0,0,0,0,0,0,0]
[299,"Bilanzüberschuss/ \n-fehlbetrag Ende Jahr",{"$f":"SUM(C11:C14)","v":0},{"$f":"SUM(D11:D14)","v":0},0,0,0,0,0,0,0,0,0]

{"sheet":"Schulden","index":12,"n_rows":43,"n_cols":15,"rows_kept":43,"merged":[[2,0,2,1],[42,0,42,1]]}
[{"$f":"\"Schuldenübersicht \"&Ausgangslage!D5-1&\" - \"&Ausgangslage!D5+Ausgangslage!I5-1","v":"Schuldenübersicht 2023 - 2033"}]
[]
["Bestehende Kredite/Darlehen",null,"Betrag","Zinssatz",{"$f":"Ausgangslage!D5-1","v":2023},{"$f":"E3+1","v":2024},2025,2026,2027,2028,2029,2030,2031,2032,{"$f":"N3+1","v":2033}]
["Anfangsbestand",null,{"$f":"SUM(Ausgangslage!H31:I50)","v":0},null,{"$f":"C4","v":0}]
[]
["Neuaufnahme Kredite/Darlehen"]
["Kapitalbedarf gemäss Planung",null,{"$f":"SUM(E7:O7)","v":0},{"$f":"+Prognosen!E12","v":{"v":0,"d":"0.00%"}},{"$f":"'Schulden-Zinsen'!D65","v":0},{"$f":"'Schulden-Zinsen'!E65","v":0}]
["Kapitalbedarf gemäss Planung",null,{"$f":"SUM(E8:O8)","v":0},{"$f":"+Prognosen!F12","v":{"v":0,"d":"0.00%"}},null,null,{"$f":"'Schulden-Zinsen'!F65","v":0}]
["Kapitalbedarf gemäss Planung",null,0,{"$f":"+Prognosen!G12","v":{"v":0,"d":"0.00%"}},{"$nulls":3},{"$f":"'Schulden-Zinsen'!G65","v":0}]
["Kapitalbedarf gemäss Planung",null,0,{"$f":"+Prognosen!H12","v":{"v":0,"d":"0.00%"}},{"$nulls":4},{"$f":"'Schulden-Zinsen'!H65","v":0}]
["Kapitalbedarf gemäss Planung",null,0,{"$f":"+Prognosen!I12","v":{"v":0,"d":"0.00%"}},{"$nulls":5},{"$f":"'Schulden-Zinsen'!I65","v":0}]
["Kapitalbedarf gemäss Planung",null,0,{"$f":"+Prognosen!J12","v":{"v":0,"d":"0.00%"}},{"$nulls":6},{"$f":"'Schulden-Zinsen'!J65","v":0}]
["Kapitalbedarf gemäss Planung",null,0,{"$f":"+Prognosen!K12","v":{"v":0,"d":"0.00%"}},{"$nulls":7},{"$f":"'Schulden-Zinsen'!K65","v":0}]
["Kapitalbedarf gemäss Planung",null,0,{"$f":"+Prognosen!L12","v":{"v":0,"d":"0.00%"}},{"$nulls":8},{"$f":"'Schulden-Zinsen'!L65","v":0}]
["Kapitalbedarf gemäss Planung",null,0,{"$f":"+Prognosen!M12","v":{"v":0,"d":"0.00%"}},{"$nulls":9},{"$f":"'Schulden-Zinsen'!M65","v":0}]
["Kapitalbedarf gemäss Planung",null,0,{"$f":"+Prognosen!N12","v":{"v":0,"d":"0.00%"}},{"$nulls":10},{"$f":"'Schulden-Zinsen'!N65","v":0}]
[]
["Rückzahlung Kredite/Darlehen"]
[{"$f":"IF('Schulden-Zinsen'!A18=\"\",\"\",'Schulden-Zinsen'!A18)","v":""},null,{"$f":"SUM(E19:O19)","v":0},{"$f":"'Schulden-Zinsen'!O18","v":{"v":0,"d":"0.00%"}},{"$f":"-'Schulden-Zinsen'!D18","v":0},{"$f":"-'Schulden-Zinsen'!E18","v":0},{"$f":"-'Schulden-Zinsen'!F18","v":0},{"$f":"-'Schulden-Zinsen'!G18","v":0},{"$f":"-'Schulden-Zinsen'!H18","v":0},{"$f":"-'Schulden-Zinsen'!I18","v":0},{"$f":"-'Schulden-Zinsen'!J18","v":0},{"$f":"-'Schulden-Zinsen'!K18","v":0},{"$f":"-'Schulden-Zinsen'!L18","v":0},{"$f":"-'Schulden-Zinsen'!M18","v":0},{"$f":"-'Schulden-Zinsen'!N18","v":0}]
[{"$f":"IF('Schulden-Zinsen'!A19=\"\",\"\",'Schulden-Zinsen'!A19)","v":""},null,0,{"$f":"'Schulden-Zinsen'!O19","v":{"v":0,"d":"0.00%"}},{"$f":"-'Schulden-Zinsen'!D19","v":0},{"$f":"-'Schulden-Zinsen'!E19","v":0},{"$f":"-'Schulden-Zinsen'!F19","v":0},{"$f":"-'Schulden-Zinsen'!G19","v":0},{"$f":"-'Schulden-Zinsen'!H19","v":0},{"$f":"-'Schulden-Zinsen'!I19","v":0},{"$f":"-'Schulden-Zinsen'!J19","v":0},{"$f":"-'Schulden-Zinsen'!K19","v":0},{"$f":"-'Schulden-Zinsen'!L19","v":0},{"$f":"-'Schulden-Zinsen'!M19","v":0},{"$f":"-'Schulden-Zinsen'!N19","v":0}]
[{"$f":"IF('Schulden-Zinsen'!A20=\"\",\"\",'Schulden-Zinsen'!A20)","v":""},null,0,{"$f":"'Schulden-Zinsen'!O20","v":{"v":0,"d":"0.00%"}},{"$f":"-'Schulden-Zinsen'!D20","v":0},{"$f":"-'Schulden-Zinsen'!E20","v":0},{"$f":"-'Schulden-Zinsen'!F20","v":0},{"$f":"-'Schulden-Zinsen'!G20","v":0},{"$f":"-'Schulden-Zinsen'!H20","v":0},{"$f":"-'Schulden-Zinsen'!I20","v":0},{"$f":"-'Schulden-Zinsen'!J20","v":0},{"$f":"-'Schulden-Zinsen'!K20","v":0},{"$f":"-'Schulden-Zinsen'!L20","v":0},{"$f":"-'Schulden-Zinsen'!M20","v":0},{"$f":"-'Schulden-Zinsen'!N20","v":0}]
[{"$f":"IF('Schulden-Zinsen'!A21=\"\",\"\",'Schulden-Zinsen'!A21)","v":""},null,0,{"$f":"'Schulden-Zinsen'!O21","v":{"v":0,"d":"0.00%"}},{"$f":"-'Schulden-Zinsen'!D21","v":0},{"$f":"-'Schulden-Zinsen'!E21","v":0},{"$f":"-'Schulden-Zinsen'!F21","v":0},{"$f":"-'Schulden-Zinsen'!G21","v":0},{"$f":"-'Schulden-Zinsen'!H21","v":0},{"$f":"-'Schulden-Zinsen'!I21","v":0},{"$f":"-'Schulden-Zinsen'!J21","v":0},{"$f":"-'Schulden-Zinsen'!K21","v":0},{"$f":"-'Schulden-Zinsen'!L21","v":0},{"$f":"-'Schulden-Zinsen'!M21","v":0},{"$f":"-'Schulden-Zinsen'!N21","v":0}]
[{"$f":"IF('Schulden-Zinsen'!A22=\"\",\"\",'Schulden-Zinsen'!A22)","v":""},null,0,{"$f":"'Schulden-Zinsen'!O22","v":{"v":0,"d":"0.00%"}},{"$f":"-'Schulden-Zinsen'!D22","v":0},{"$f":"-'Schulden-Zinsen'!E22","v":0},{"$f":"-'Schulden-Zinsen'!F22","v":0},{"$f":"-'Schulden-Zinsen'!G22","v":0},{"$f":"-'Schulden-Zinsen'!H22","v":0},{"$f":"-'Schulden-Zinsen'!I22","v":0},{"$f":"-'Schulden-Zinsen'!J22","v":0},{"$f":"-'Schulden-Zinsen'!K22","v":0},{"$f":"-'Schulden-Zinsen'!L22","v":0},{"$f":"-'Schulden-Zinsen'!M22","v":0},{"$f":"-'Schulden-Zinsen'!N22","v":0}]
[{"$f":"IF('Schulden-Zinsen'!A23=\"\",\"\",'Schulden-Zinsen'!A23)","v":""},null,0,{"$f":"'Schulden-Zinsen'!O23","v":{"v":0,"d":"0.00%"}},{"$f":"-'Schulden-Zinsen'!D23","v":0},{"$f":"-'Schulden-Zinsen'!E23","v":0},{"$f":"-'Schulden-Zinsen'!F23","v":0},{"$f":"-'Schulden-Zinsen'!G23","v":0},{"$f":"-'Schulden-Zinsen'!H23","v":0},{"$f":"-'Schulden-Zinsen'!I23","v":0},{"$f":"-'Schulden-Zinsen'!J23","v":0},{"$f":"-'Schulden-Zinsen'!K23","v":0},{"$f":"-'Schulden-Zinsen'!L23","v":0},{"$f":"-'Schulden-Zinsen'!M23","v":0},{"$f":"-'Schulden-Zinsen'!N23","v":0}]
[{"$f":"IF('Schulden-Zinsen'!A24=\"\",\"\",'Schulden-Zinsen'!A24)","v":""},null,0,{"$f":"'Schulden-Zinsen'!O24","v":{"v":0,"d":"0.00%"}},{"$f":"-'Schulden-Zinsen'!D24","v":0},{"$f":"-'Schulden-Zinsen'!E24","v":0},{"$f":"-'Schulden-Zinsen'!F24","v":0},{"$f":"-'Schulden-Zinsen'!G24","v":0},{"$f":"-'Schulden-Zinsen'!H24","v":0},{"$f":"-'Schulden-Zinsen'!I24","v":0},{"$f":"-'Schulden-Zinsen'!J24","v":0},{"$f":"-'Schulden-Zinsen'!K24","v":0},{"$f":"-'Schulden-Zinsen'!L24","v":0},{"$f":"-'Schulden-Zinsen'!M24","v":0},{"$f":"-'Schulden-Zinsen'!N24","v":0}]
[{"$f":"IF('Schulden-Zinsen'!A25=\"\",\"\",'Schulden-Zinsen'!A25)","v":""},null,0,{"$f":"'Schulden-Zinsen'!O25","v":{"v":0,"d":"0.00%"}},{"$f":"-'Schulden-Zinsen'!D25","v":0},{"$f":"-'Schulden-Zinsen'!E25","v":0},{"$f":"-'Schulden-Zinsen'!F25","v":0},{"$f":"-'Schulden-Zinsen'!G25","v":0},{"$f":"-'Schulden-Zinsen'!H25","v":0},{"$f":"-'Schulden-Zinsen'!I25","v":0},{"$f":"-'Schulden-Zinsen'!J25","v":0},{"$f":"-'Schulden-Zinsen'!K25","v":0},{"$f":"-'Schulden-Zinsen'!L25","v":0},{"$f":"-'Schulden-Zinsen'!M25","v":0},{"$f":"-'Schulden-Zinsen'!N25","v":0}]
[{"$f":"IF('Schulden-Zinsen'!A26=\"\",\"\",'Schulden-Zinsen'!A26)","v":""},null,0,{"$f":"'Schulden-Zinsen'!O26","v":{"v":0,"d":"0.00%"}},{"$f":"-'Schulden-Zinsen'!D26","v":0},{"$f":"-'Schulden-Zinsen'!E26","v":0},{"$f":"-'Schulden-Zinsen'!F26","v":0},{"$f":"-'Schulden-Zinsen'!G26","v":0},{"$f":"-'Schulden-Zinsen'!H26","v":0},{"$f":"-'Schulden-Zinsen'!I26","v":0},{"$f":"-'Schulden-Zinsen'!J26","v":0},{"$f":"-'Schulden-Zinsen'!K26","v":0},{"$f":"-'Schulden-Zinsen'!L26","v":0},{"$f":"-'Schulden-Zinsen'!M26","v":0},{"$f":"-'Schulden-Zinsen'!N26","v":0}]
[{"$f":"IF('Schulden-Zinsen'!A27=\"\",\"\",'Schulden-Zinsen'!A27)","v":""},null,0,{"$f":"'Schulden-Zinsen'!O27","v":{"v":0,"d":"0.00%"}},{"$f":"-'Schulden-Zinsen'!D27","v":0},{"$f":"-'Schulden-Zinsen'!E27","v":0},{"$f":"-'Schulden-Zinsen'!F27","v":0},{"$f":"-'Schulden-Zinsen'!G27","v":0},{"$f":"-'Schulden-Zinsen'!H27","v":0},{"$f":"-'Schulden-Zinsen'!I27","v":0},{"$f":"-'Schulden-Zinsen'!J27","v":0},{"$f":"-'Schulden-Zinsen'!K27","v":0},{"$f":"-'Schulden-Zinsen'!L27","v":0},{"$f":"-'Schulden-Zinsen'!M27","v":0},{"$f":"-'Schulden-Zinsen'!N27","v":0}]
[{"$f":"IF('Schulden-Zinsen'!A28=\"\",\"\",'Schulden-Zinsen'!A28)","v":""},null,{"$f":"SUM(E29:O29)","v":0},{"$f":"'Schulden-Zinsen'!O28","v":{"v":0,"d":"0.00%"}},{"$f":"-'Schulden-Zinsen'!D28","v":0},{"$f":"-'Schulden-Zinsen'!E28","v":0},{"$f":"-'Schulden-Zinsen'!F28","v":0},{"$f":"-'Schulden-Zinsen'!G28","v":0},{"$f":"-'Schulden-Zinsen'!H28","v":0},{"$f":"-'Schulden-Zinsen'!I28","v":0},{"$f":"-'Schulden-Zinsen'!J28","v":0},{"$f":"-'Schulden-Zinsen'!K28","v":0},{"$f":"-'Schulden-Zinsen'!L28","v":0},{"$f":"-'Schulden-Zinsen'!M28","v":0},{"$f":"-'Schulden-Zinsen'!N28","v":0}]
[{"$f":"IF('Schulden-Zinsen'!A29=\"\",\"\",'Schulden-Zinsen'!A29)","v":""},null,0,{"$f":"'Schulden-Zinsen'!O29","v":{"v":0,"d":"0.00%"}},{"$f":"-'Schulden-Zinsen'!D29","v":0},{"$f":"-'Schulden-Zinsen'!E29","v":0},{"$f":"-'Schulden-Zinsen'!F29","v":0},{"$f":"-'Schulden-Zinsen'!G29","v":0},{"$f":"-'Schulden-Zinsen'!H29","v":0},{"$f":"-'Schulden-Zinsen'!I29","v":0},{"$f":"-'Schulden-Zinsen'!J29","v":0},{"$f":"-'Schulden-Zinsen'!K29","v":0},{"$f":"-'Schulden-Zinsen'!L29","v":0},{"$f":"-'Schulden-Zinsen'!M29","v":0},{"$f":"-'Schulden-Zinsen'!N29","v":0}]
[{"$f":"IF('Schulden-Zinsen'!A30=\"\",\"\",'Schulden-Zinsen'!A30)","v":""},null,0,{"$f":"'Schulden-Zinsen'!O30","v":{"v":0,"d":"0.00%"}},{"$f":"-'Schulden-Zinsen'!D30","v":0},{"$f":"-'Schulden-Zinsen'!E30","v":0},{"$f":"-'Schulden-Zinsen'!F30","v":0},{"$f":"-'Schulden-Zinsen'!G30","v":0},{"$f":"-'Schulden-Zinsen'!H30","v":0},{"$f":"-'Schulden-Zinsen'!I30","v":0},{"$f":"-'Schulden-Zinsen'!J30","v":0},{"$f":"-'Schulden-Zinsen'!K30","v":0},{"$f":"-'Schulden-Zinsen'!L30","v":0},{"$f":"-'Schulden-Zinsen'!M30","v":0},{"$f":"-'Schulden-Zinsen'!N30","v":0}]
[{"$f":"IF('Schulden-Zinsen'!A31=\"\",\"\",'Schulden-Zinsen'!A31)","v":""},null,0,{"$f":"'Schulden-Zinsen'!O31","v":{"v":0,"d":"0.00%"}},{"$f":"-'Schulden-Zinsen'!D31","v":0},{"$f":"-'Schulden-Zinsen'!E31","v":0},{"$f":"-'Schulden-Zinsen'!F31","v":0},{"$f":"-'Schulden-Zinsen'!G31","v":0},{"$f":"-'Schulden-Zinsen'!H31","v":0},{"$f":"-'Schulden-Zinsen'!I31","v":0},{"$f":"-'Schulden-Zinsen'!J31","v":0},{"$f":"-'Schulden-Zinsen'!K31","v":0},{"$f":"-'Schulden-Zinsen'!L31","v":0},{"$f":"-'Schulden-Zinsen'!M31","v":0},{"$f":"-'Schulden-Zinsen'!N31","v":0}]
[{"$f":"IF('Schulden-Zinsen'!A32=\"\",\"\",'Schulden-Zinsen'!A32)","v":""},null,0,{"$f":"'Schulden-Zinsen'!O32","v":{"v":0,"d":"0.00%"}},{"$f":"-'Schulden-Zinsen'!D32","v":0},{"$f":"-'Schulden-Zinsen'!E32","v":0},{"$f":"-'Schulden-Zinsen'!F32","v":0},{"$f":"-'Schulden-Zinsen'!G32","v":0},{"$f":"-'Schulden-Zinsen'!H32","v":0},{"$f":"-'Schulden-Zinsen'!I32","v":0},{"$f":"-'Schulden-Zinsen'!J32","v":0},{"$f":"-'Schulden-Zinsen'!K32","v":0},{"$f":"-'Schulden-Zinsen'!L32","v":0},{"$f":"-'Schulden-Zinsen'!M32","v":0},{"$f":"-'Schulden-Zinsen'!N32","v":0}]
[{"$f":"IF('Schulden-Zinsen'!A33=\"\",\"\",'Schulden-Zinsen'!A33)","v":""},null,0,{"$f":"'Schulden-Zinsen'!O33","v":{"v":0,"d":"0.00%"}},{"$f":"-'Schulden-Zinsen'!D33","v":0},{"$f":"-'Schulden-Zinsen'!E33","v":0},{"$f":"-'Schulden-Zinsen'!F33","v":0},{"$f":"-'Schulden-Zinsen'!G33","v":0},{"$f":"-'Schulden-Zinsen'!H33","v":0},{"$f":"-'Schulden-Zinsen'!I33","v":0},{"$f":"-'Schulden-Zinsen'!J33","v":0},{"$f":"-'Schulden-Zinsen'!K33","v":0},{"$f":"-'Schulden-Zinsen'!L33","v":0},{"$f":"-'Schulden-Zinsen'!M33","v":0},{"$f":"-'Schulden-Zinsen'!N33","v":0}]
[{"$f":"IF('Schulden-Zinsen'!A34=\"\",\"\",'Schulden-Zinsen'!A34)","v":""},null,0,{"$f":"'Schulden-Zinsen'!O34","v":{"v":0,"d":"0.00%"}},{"$f":"-'Schulden-Zinsen'!D34","v":0},{"$f":"-'Schulden-Zinsen'!E34","v":0},{"$f":"-'Schulden-Zinsen'!F34","v":0},{"$f":"-'Schulden-Zinsen'!G34","v":0},{"$f":"-'Schulden-Zinsen'!H34","v":0},{"$f":"-'Schulden-Zinsen'!I34","v":0},{"$f":"-'Schulden-Zinsen'!J34","v":0},{"$f":"-'Schulden-Zinsen'!K34","v":0},{"$f":"-'Schulden-Zinsen'!L34","v":0},{"$f":"-'Schulden-Zinsen'!M34","v":0},{"$f":"-'Schulden-Zinsen'!N34","v":0}]
[{"$f":"IF('Schulden-Zinsen'!A35=\"\",\"\",'Schulden-Zinsen'!A35)","v":""},null,0,{"$f":"'Schulden-Zinsen'!O35","v":{"v":0,"d":"0.00%"}},{"$f":"-'Schulden-Zinsen'!D35","v":0},{"$f":"-'Schulden-Zinsen'!E35","v":0},{"$f":"-'Schulden-Zinsen'!F35","v":0},{"$f":"-'Schulden-Zinsen'!G35","v":0},{"$f":"-'Schulden-Zinsen'!H35","v":0},{"$f":"-'Schulden-Zinsen'!I35","v":0},{"$f":"-'Schulden-Zinsen'!J35","v":0},{"$f":"-'Schulden-Zinsen'!K35","v":0},{"$f":"-'Schulden-Zinsen'!L35","v":0},{"$f":"-'Schulden-Zinsen'!M35","v":0},{"$f":"-'Schulden-Zinsen'!N35","v":0}]
[{"$f":"IF('Schulden-Zinsen'!A36=\"\",\"\",'Schulden-Zinsen'!A36)","v":""},null,0,{"$f":"'Schulden-Zinsen'!O36","v":{"v":0,"d":"0.00%"}},{"$f":"-'Schulden-Zinsen'!D36","v":0},{"$f":"-'Schulden-Zinsen'!E36","v":0},{"$f":"-'Schulden-Zinsen'!F36","v":0},{"$f":"-'Schulden-Zinsen'!G36","v":0},{"$f":"-'Schulden-Zinsen'!H36","v":0},{"$f":"-'Schulden-Zinsen'!I36","v":0},{"$f":"-'Schulden-Zinsen'!J36","v":0},{"$f":"-'Schulden-Zinsen'!K36","v":0},{"$f":"-'Schulden-Zinsen'!L36","v":0},{"$f":"-'Schulden-Zinsen'!M36","v":0},{"$f":"-'Schulden-Zinsen'!N36","v":0}]
[{"$f":"IF('Schulden-Zinsen'!A37=\"\",\"\",'Schulden-Zinsen'!A37)","v":""},null,0,{"$f":"'Schulden-Zinsen'!O37","v":{"v":0,"d":"0.00%"}},{"$f":"-'Schulden-Zinsen'!D37","v":0},{"$f":"-'Schulden-Zinsen'!E37","v":0},{"$f":"-'Schulden-Zinsen'!F37","v":0},{"$f":"-'Schulden-Zinsen'!G37","v":0},{"$f":"-'Schulden-Zinsen'!H37","v":0},{"$f":"-'Schulden-Zinsen'!I37","v":0},{"$f":"-'Schulden-Zinsen'!J37","v":0},{"$f":"-'Schulden-Zinsen'!K37","v":0},{"$f":"-'Schulden-Zinsen'!L37","v":0},{"$f":"-'Schulden-Zinsen'!M37","v":0},{"$f":"-'Schulden-Zinsen'!N37","v":0}]
[{"$f":"IF('Schulden-Zinsen'!A38=\"\",\"\",'Schulden-Zinsen'!A38)","v":""},null,0,{"$f":"'Schulden-Zinsen'!O38","v":{"v":0,"d":"0.00%"}},{"$f":"-'Schulden-Zinsen'!D38","v":0},{"$f":"-'Schulden-Zinsen'!E38","v":0},{"$f":"-'Schulden-Zinsen'!F38","v":0},{"$f":"-'Schulden-Zinsen'!G38","v":0},{"$f":"-'Schulden-Zinsen'!H38","v":0},{"$f":"-'Schulden-Zinsen'!I38","v":0},{"$f":"-'Schulden-Zinsen'!J38","v":0},{"$f":"-'Schulden-Zinsen'!K38","v":0},{"$f":"-'Schulden-Zinsen'!L38","v":0},{"$f":"-'Schulden-Zinsen'!M38","v":0},{"$f":"-'Schulden-Zinsen'!N38","v":0}]
[{"$f":"IF('Schulden-Zinsen'!A39=\"\",\"\",'Schulden-Zinsen'!A39)","v":""},null,0,{"$f":"'Schulden-Zinsen'!O39","v":{"v":0,"d":"0.00%"}},{"$f":"-'Schulden-Zinsen'!D39","v":0},{"$f":"-'Schulden-Zinsen'!E39","v":0},{"$f":"-'Schulden-Zinsen'!F39","v":0},{"$f":"-'Schulden-Zinsen'!G39","v":0},{"$f":"-'Schulden-Zinsen'!H39","v":0},{"$f":"-'Schulden-Zinsen'!I39","v":0},{"$f":"-'Schulden-Zinsen'!J39","v":0},{"$f":"-'Schulden-Zinsen'!K39","v":0},{"$f":"-'Schulden-Zinsen'!L39","v":0},{"$f":"-'Schulden-Zinsen'!M39","v":0},{"$f":"-'Schulden-Zinsen'!N39","v":0}]
[{"$f":"IF('Schulden-Zinsen'!A40=\"\",\"\",'Schulden-Zinsen'!A40)","v":""},null,0,{"$f":"'Schulden-Zinsen'!O40","v":{"v":0,"d":"0.00%"}},{"$f":"-'Schulden-Zinsen'!D40","v":0},{"$f":"-'Schulden-Zinsen'!E40","v":0},{"$f":"-'Schulden-Zinsen'!F40","v":0},{"$f":"-'Schulden-Zinsen'!G40","v":0},{"$f":"-'Schulden-Zinsen'!H40","v":0},{"$f":"-'Schulden-Zinsen'!I40","v":0},{"$f":"-'Schulden-Zinsen'!J40","v":0},{"$f":"-'Schulden-Zinsen'!K40","v":0},{"$f":"-'Schulden-Zinsen'!L40","v":0},{"$f":"-'Schulden-Zinsen'!M40","v":0},{"$f":"-'Schulden-Zinsen'!N40","v":0}]
[]
["Bestand Kredite/Darlehen",{"$nulls":3},{"$f":"SUM(E4:E41)","v":0},{"$f":"+E43+SUM(F4:F41)","v":0},0,0,0,0,0,0,0,0,0]

{"sheet":"Übersicht","index":13,"n_rows":56,"n_cols":13,"rows_kept":56,"merged":[[3,0,3,1],[4,0,4,1],[7,0,7,1],[8,0,8,1],[9,0,9,1],[12,0,12,1],[13,0,13,1],[14,0,14,1],[17,0,17,1],[18,0,18,1],[19,0,19,1],[20,0,20,1],[21,0,21,1],[22,0,22,1],[23,0,23,1],[24,0,24,1],[25,0,25,1],[26,0,26,1],[27,0,27,1],[28,0,28,1],[29,0,29,1],[30,0,30,1],[31,0,31,1],[32,0,32,1],[33,0,33,1],[34,0,34,1],[35,0,35,1],[36,0,36,1],[37,0,37,1],[38,0,38,1],[39,0,39,1],[40,0,40,1],[41,0,41,1],[42,0,42,1],[43,0,43,1],[44,0,44,1],[45,0,45,1],[46,0,46,1],[47,0,47,1],[48,0,48,1],[49,0,49,1],[50,0,50,1],[51,0,51,1],[52,0,52,1],[53,0,53,1],[54,0,54,1],[55,0,55,1],[56,0,56,1]]}
[{"$f":"\"Übersicht Aufgaben- und Finanzplanung \"&Ausgangslage!D5-1&\" - \"&Ausgangslage!D5+Ausgangslage!I5-1","v":"Übersicht Aufgaben- und Finanzplanung 2023 - 2033"}]
[]
[null,null,{"$f":"Ausgangslage!D5-1","v":2023},{"$f":"C3+1","v":2024},{"$f":"D3+1","v":2025},2026,2027,2028,2029,2030,2031,2032,{"$f":"L3+1","v":2033}]
["Einwohnerzahl",null,{"$f":"'Plan-ER'!D4","v":0},{"$f":"'Plan-ER'!E4","v":0},{"$f":"'Plan-ER'!F4","v":0},{"$f":"'Plan-ER'!G4","v":0},{"$f":"'Plan-ER'!H4","v":0},{"$f":"'Plan-ER'!I4","v":0},{"$f":"'Plan-ER'!J4","v":0},{"$f":"'Plan-ER'!K4","v":0},{"$f":"'Plan-ER'!L4","v":0},{"$f":"'Plan-ER'!M4","v":0},{"$f":"'Plan-ER'!N4","v":0}]
["Steuerfuss",null,{"$f":"'Plan-ER'!D5","v":{"v":0,"d":"0%"}},{"$f":"'Plan-ER'!E5","v":{"v":0,"d":"0%"}},{"$f":"'Plan-ER'!F5","v":{"v":0,"d":"0%"}},{"$f":"'Plan-ER'!G5","v":{"v":0,"d":"0%"}},{"$f":"'Plan-ER'!H5","v":{"v":0,"d":"0%"}},{"$f":"'Plan-ER'!I5","v":{"v":0,"d":"0%"}},{"$f":"'Plan-ER'!J5","v":{"v":0,"d":"0%"}},{"$f":"'Plan-ER'!K5","v":{"v":0,"d":"0%"}},{"$f":"'Plan-ER'!L5","v":{"v":0,"d":"0%"}},{"$f":"'Plan-ER'!M5","v":{"v":0,"d":"0%"}},{"$f":"'Plan-ER'!N5","v":{"v":0,"d":"0%"}}]
[]
[null,null,{"$f":"C3","v":2023},{"$f":"C7+1","v":2024},{"$f":"D7+1","v":2025},2026,2027,2028,2029,2030,2031,2032,{"$f":"L7+1","v":2033}]
["Abschreibungen aus Anlagebuchhaltung",null,{"$f":"Budget!E23+Budget!E24","v":0},{"$f":"Budget!G23+Budget!G24","v":0},{"$f":"Investitionsplan!W5","v":0},{"$f":"Investitionsplan!X5","v":0},{"$f":"Investitionsplan!Y5","v":0},{"$f":"Investitionsplan!Z5","v":0},{"$f":"Investitionsplan!AA5","v":0},{"$f":"Investitionsplan!AB5","v":0},{"$f":"Investitionsplan!AC5","v":0},{"$f":"Investitionsplan!AD5","v":0},{"$f":"Investitionsplan!AE5","v":0}]
["Abschreibungen aus Investitionsplan",{"$nulls":3},{"$f":"Investitionsplan!W9-Investitionsplan!W5","v":0},{"$f":"Investitionsplan!X9-Investitionsplan!X5","v":0},{"$f":"Investitionsplan!Y9-Investitionsplan!Y5","v":0},{"$f":"Investitionsplan!Z9-Investitionsplan!Z5","v":0},{"$f":"Investitionsplan!AA9-Investitionsplan!AA5","v":0},{"$f":"Investitionsplan!AB9-Investitionsplan!AB5","v":0},{"$f":"Investitionsplan!AC9-Investitionsplan!AC5","v":0},{"$f":"Investitionsplan!AD9-Investitionsplan!AD5","v":0},{"$f":"Investitionsplan!AE9-Investitionsplan!AE5","v":0}]
["Abschreibungen",null,{"$f":"C8","v":0},{"$f":"D8","v":0},{"$f":"Investitionsplan!W9","v":0},{"$f":"Investitionsplan!X9","v":0},{"$f":"Investitionsplan!Y9","v":0},{"$f":"Investitionsplan!Z9","v":0},{"$f":"Investitionsplan!AA9","v":0},{"$f":"Investitionsplan!AB9","v":0},{"$f":"Investitionsplan!AC9","v":0},{"$f":"Investitionsplan!AD9","v":0},{"$f":"Investitionsplan!AE9","v":0}]
[]
[null,null,{"$f":"C3","v":2023},{"$f":"D3","v":2024},2025,2026,2027,2028,2029,2030,2031,2032,{"$f":"M3","v":2033}]
["Ergebnis aus betrieblicher Tätigkeit",null,{"$f":"'Plan-ER'!D40","v":0},{"$f":"'Plan-ER'!E40","v":0},{"$f":"'Plan-ER'!F40","v":0},{"$f":"'Plan-ER'!G40","v":0},{"$f":"'Plan-ER'!H40","v":0},{"$f":"'Plan-ER'!I40","v":0},{"$f":"'Plan-ER'!J40","v":0},{"$f":"'Plan-ER'!K40","v":0},{"$f":"'Plan-ER'!L40","v":0},{"$f":"'Plan-ER'!M40","v":0},{"$f":"'Plan-ER'!N40","v":0}]
["Ergebnis aus Finanzierung",null,{"$f":"'Plan-ER'!D46","v":0},{"$f":"'Plan-ER'!E46","v":0},{"$f":"'Plan-ER'!F46","v":0},{"$f":"'Plan-ER'!G46","v":0},{"$f":"'Plan-ER'!H46","v":0},{"$f":"'Plan-ER'!I46","v":0},{"$f":"'Plan-ER'!J46","v":0},{"$f":"'Plan-ER'!K46","v":0},{"$f":"'Plan-ER'!L46","v":0},{"$f":"'Plan-ER'!M46","v":0},{"$f":"'Plan-ER'!N46","v":0}]
["Operatives Ergebnis",null,{"$f":"'Plan-ER'!D48","v":0},{"$f":"'Plan-ER'!E48","v":0},{"$f":"'Plan-ER'!F48","v":0},{"$f":"'Plan-ER'!G48","v":0},{"$f":"'Plan-ER'!H48","v":0},{"$f":"'Plan-ER'!I48","v":0},{"$f":"'Plan-ER'!J48","v":0},{"$f":"'Plan-ER'!K48","v":0},{"$f":"'Plan-ER'!L48","v":0},{"$f":"'Plan-ER'!M48","v":0},{"$f":"'Plan-ER'!N48","v":0}]
[]
[null,null,{"$f":"C3","v":2023},{"$f":"D3","v":2024},2025,2026,2027,2028,2029,2030,2031,2032,{"$f":"M3","v":2033}]
["Ausserordentliches Ergebnis",null,{"$f":"'Plan-ER'!D50","v":0},{"$f":"'Plan-ER'!E50","v":0},{"$f":"'Plan-ER'!F50","v":0},{"$f":"'Plan-ER'!G50","v":0},{"$f":"'Plan-ER'!H50","v":0},{"$f":"'Plan-ER'!I50","v":0},{"$f":"'Plan-ER'!J50","v":0},{"$f":"'Plan-ER'!K50","v":0},{"$f":"'Plan-ER'!L50","v":0},{"$f":"'Plan-ER'!M50","v":0},{"$f":"'Plan-ER'!N50","v":0}]
["Abtragung Bilanzfehlbetrag (30 %)",null,{"$f":"-EK!C12","v":0},{"$f":"-EK!D12","v":0},{"$f":"-EK!E12","v":0},{"$f":"-EK!F12","v":0},{"$f":"-EK!G12","v":0},{"$f":"-EK!H12","v":0},{"$f":"-EK!I12","v":0},{"$f":"-EK!J12","v":0},{"$f":"-EK!K12","v":0},{"$f":"-EK!L12","v":0},{"$f":"-EK!M12","v":0}]
["Gesamtergebnis",null,{"$f":"'Plan-ER'!D53","v":0},{"$f":"'Plan-ER'!E53","v":0},{"$f":"'Plan-ER'!F53","v":0},{"$f":"'Plan-ER'!G53","v":0},{"$f":"'Plan-ER'!H53","v":0},{"$f":"'Plan-ER'!I53","v":0},{"$f":"'Plan-ER'!J53","v":0},{"$f":"'Plan-ER'!K53","v":0},{"$f":"'Plan-ER'!L53","v":0},{"$f":"'Plan-ER'!M53","v":0},{"$f":"'Plan-ER'!N53","v":0}]
[]
[{"$f":"\"Mittelfristiges Haushaltsgleichgewicht \"&Ausgangslage!D5","v":"Mittelfristiges Haushaltsgleichgewicht 2024"},{"$f":"\"Bilanz 31.12.\"&E7-2","v":"Bilanz 31.12.2023"}]
["mit operativem Ergebnis gerechnet",null,null,{"$f":"'Plan-ER'!E56","v":0}]
["mit Gesamtergebnis gerechnet",null,null,{"$f":"'Plan-ER'!E57","v":0}]
[]
[null,null,{"$f":"C3","v":2023},{"$f":"D3","v":2024},2025,2026,2027,2028,2029,2030,2031,2032,{"$f":"M3","v":2033}]
["Nettoinvestitionen",null,{"$f":"-Investitionsplan!F9","v":0},{"$f":"-Investitionsplan!G9","v":0},{"$f":"-Investitionsplan!H9","v":0},{"$f":"-Investitionsplan!I9","v":0},{"$f":"-Investitionsplan!J9","v":0},{"$f":"-Investitionsplan!K9","v":0},{"$f":"-Investitionsplan!L9","v":0},{"$f":"-Investitionsplan!M9","v":0},{"$f":"-Investitionsplan!N9","v":0},{"$f":"-Investitionsplan!O9","v":0},{"$f":"-Investitionsplan!P9","v":0}]
["Selbstfinanzierung",null,{"$f":"KZ!C9","v":0},{"$f":"KZ!D9","v":0},{"$f":"KZ!E9","v":0},{"$f":"KZ!F9","v":0},{"$f":"KZ!G9","v":0},{"$f":"KZ!H9","v":0},{"$f":"KZ!I9","v":0},{"$f":"KZ!J9","v":0},{"$f":"KZ!K9","v":0},{"$f":"KZ!L9","v":0},{"$f":"KZ!M9","v":0}]
["Finanzierungsergebnis ( + = Überschuss / - = Fehlbetrag)",null,{"$f":"C27+C28","v":0},{"$f":"D27+D28","v":0},0,0,0,0,0,0,0,0,0]
[]
[null,null,{"$f":"C3","v":2023},{"$f":"D3","v":2024},2025,2026,2027,2028,2029,2030,2031,2032,{"$f":"M3","v":2033}]
["Mittelbedarf aus Finanzierungsergebnis",null,{"$f":"'Schulden-Zinsen'!D16","v":0},{"$f":"'Schulden-Zinsen'!E16","v":0},{"$f":"'Schulden-Zinsen'!F16","v":0},{"$f":"'Schulden-Zinsen'!G16","v":0},{"$f":"'Schulden-Zinsen'!H16","v":0},{"$f":"'Schulden-Zinsen'!I16","v":0},{"$f":"'Schulden-Zinsen'!J16","v":0},{"$f":"'Schulden-Zinsen'!K16","v":0},{"$f":"'Schulden-Zinsen'!L16","v":0},{"$f":"'Schulden-Zinsen'!M16","v":0},{"$f":"'Schulden-Zinsen'!N16","v":0}]
["Rückzahlung Darlehen/Kredite",null,{"$f":"'Schulden-Zinsen'!D17","v":0},{"$f":"'Schulden-Zinsen'!E17","v":0},{"$f":"'Schulden-Zinsen'!F17","v":0},{"$f":"'Schulden-Zinsen'!G17","v":0},{"$f":"'Schulden-Zinsen'!H17","v":0},{"$f":"'Schulden-Zinsen'!I17","v":0},{"$f":"'Schulden-Zinsen'!J17","v":0},{"$f":"'Schulden-Zinsen'!K17","v":0},{"$f":"'Schulden-Zinsen'!L17","v":0},{"$f":"'Schulden-Zinsen'!M17","v":0},{"$f":"'Schulden-Zinsen'!N17","v":0}]
["Veränderungen Anlagen Finanzvermögen",null,{"$f":"'Schulden-Zinsen'!D43+'Schulden-Zinsen'!D50","v":0},{"$f":"'Schulden-Zinsen'!E43+'Schulden-Zinsen'!E50","v":0},{"$f":"'Schulden-Zinsen'!F43+'Schulden-Zinsen'!F50","v":0},{"$f":"'Schulden-Zinsen'!G43+'Schulden-Zinsen'!G50","v":0},{"$f":"'Schulden-Zinsen'!H43+'Schulden-Zinsen'!H50","v":0},{"$f":"'Schulden-Zinsen'!I43+'Schulden-Zinsen'!I50","v":0},{"$f":"'Schulden-Zinsen'!J43+'Schulden-Zinsen'!J50","v":0},{"$f":"'Schulden-Zinsen'!K43+'Schulden-Zinsen'!K50","v":0},{"$f":"'Schulden-Zinsen'!L43+'Schulden-Zinsen'!L50","v":0},{"$f":"'Schulden-Zinsen'!M43+'Schulden-Zinsen'!M50","v":0},{"$f":"'Schulden-Zinsen'!N43+'Schulden-Zinsen'!N50","v":0}]
["Finanzierungsbedarf Spezialfinanzierungen",null,{"$f":"'Schulden-Zinsen'!D57","v":0},{"$f":"'Schulden-Zinsen'!E57","v":0},{"$f":"'Schulden-Zinsen'!F57","v":0},{"$f":"'Schulden-Zinsen'!G57","v":0},{"$f":"'Schulden-Zinsen'!H57","v":0},{"$f":"'Schulden-Zinsen'!I57","v":0},{"$f":"'Schulden-Zinsen'!J57","v":0},{"$f":"'Schulden-Zinsen'!K57","v":0},{"$f":"'Schulden-Zinsen'!L57","v":0},{"$f":"'Schulden-Zinsen'!M57","v":0},{"$f":"'Schulden-Zinsen'!N57","v":0}]
["Mittelbedarf (+ = Bedarf / - = Überschuss)",null,{"$f":"'Schulden-Zinsen'!D64","v":0},{"$f":"'Schulden-Zinsen'!E64","v":0},{"$f":"'Schulden-Zinsen'!F64","v":0},{"$f":"'Schulden-Zinsen'!G64","v":0},{"$f":"'Schulden-Zinsen'!H64","v":0},{"$f":"'Schulden-Zinsen'!I64","v":0},{"$f":"'Schulden-Zinsen'!J64","v":0},{"$f":"'Schulden-Zinsen'!K64","v":0},{"$f":"'Schulden-Zinsen'!L64","v":0},{"$f":"'Schulden-Zinsen'!M64","v":0},{"$f":"'Schulden-Zinsen'!N64","v":0}]
["Aufnahme Darlehen/Kredite",null,{"$f":"'Schulden-Zinsen'!D65","v":0},{"$f":"'Schulden-Zinsen'!E65","v":0},{"$f":"'Schulden-Zinsen'!F65","v":0},{"$f":"'Schulden-Zinsen'!G65","v":0},{"$f":"'Schulden-Zinsen'!H65","v":0},{"$f":"'Schulden-Zinsen'!I65","v":0},{"$f":"'Schulden-Zinsen'!J65","v":0},{"$f":"'Schulden-Zinsen'!K65","v":0},{"$f":"'Schulden-Zinsen'!L65","v":0},{"$f":"'Schulden-Zinsen'!M65","v":0},{"$f":"'Schulden-Zinsen'!N65","v":0}]
["Bestand Darlehen/Kredite",null,{"$f":"SUM(Ausgangslage!H31:I50)+'Schulden-Zinsen'!D65-'Schulden-Zinsen'!D17","v":0},{"$f":"C38+'Schulden-Zinsen'!E65-'Schulden-Zinsen'!E17","v":0},{"$f":"D38+'Schulden-Zinsen'!F65-'Schulden-Zinsen'!F17","v":0},{"$f":"E38+'Schulden-Zinsen'!G65-'Schulden-Zinsen'!G17","v":0},{"$f":"F38+'Schulden-Zinsen'!H65-'Schulden-Zinsen'!H17","v":0},{"$f":"G38+'Schulden-Zinsen'!I65-'Schulden-Zinsen'!I17","v":0},{"$f":"H38+'Schulden-Zinsen'!J65-'Schulden-Zinsen'!J17","v":0},{"$f":"I38+'Schulden-Zinsen'!K65-'Schulden-Zinsen'!K17","v":0},{"$f":"J38+'Schulden-Zinsen'!L65-'Schulden-Zinsen'!L17","v":0},{"$f":"K38+'Schulden-Zinsen'!M65-'Schulden-Zinsen'!M17","v":0},{"$f":"L38+'Schulden-Zinsen'!N65-'Schulden-Zinsen'!N17","v":0}]
[]
[null,null,{"$f":"C3","v":2023},{"$f":"D3","v":2024},2025,2026,2027,2028,2029,2030,2031,2032,2033]
["Aufwertungsreserve übr. Anlagen Anfang Jahr",null,{"$f":"EK!C4","v":0},{"$f":"EK!D4","v":0},{"$f":"EK!E4","v":0},{"$f":"EK!F4","v":0},{"$f":"EK!G4","v":0},{"$f":"EK!H4","v":0},{"$f":"EK!I4","v":0},{"$f":"EK!J4","v":0},{"$f":"EK!K4","v":0},{"$f":"EK!L4","v":0},{"$f":"EK!M4","v":0}]
["Aufwertungsreserve Grundstücke Anfang Jahr",null,{"$f":"EK!C5","v":0},{"$f":"EK!D5","v":0},{"$f":"EK!E5","v":0},{"$f":"EK!F5","v":0},{"$f":"EK!G5","v":0},{"$f":"EK!H5","v":0},{"$f":"EK!I5","v":0},{"$f":"EK!J5","v":0},{"$f":"EK!K5","v":0},{"$f":"EK!L5","v":0},{"$f":"EK!M5","v":0}]
["Entnahme Aufwertungsreserve",null,{"$f":"EK!C6","v":0},{"$f":"EK!D6","v":0},{"$f":"EK!E6","v":0},{"$f":"EK!F6","v":0},{"$f":"EK!G6","v":0},{"$f":"EK!H6","v":0},{"$f":"EK!I6","v":0},{"$f":"EK!J6","v":0},{"$f":"EK!K6","v":0},{"$f":"EK!L6","v":0},{"$f":"EK!M6","v":0}]
["Umbuchung Aufwertungsreserve",null,{"$f":"EK!C8","v":0},{"$f":"EK!D8","v":0},{"$f":"EK!E8","v":0},{"$f":"EK!F8","v":0},{"$f":"EK!G8","v":0},{"$f":"EK!H8","v":0},{"$f":"EK!I8","v":0},{"$f":"EK!J8","v":0},{"$f":"EK!K8","v":0},{"$f":"EK!L8","v":0},{"$f":"EK!M8","v":0}]
["Aufwertungsreserve Ende Jahr",null,{"$f":"EK!C9","v":0},{"$f":"EK!D9","v":0},{"$f":"EK!E9","v":0},{"$f":"EK!F9","v":0},{"$f":"EK!G9","v":0},{"$f":"EK!H9","v":0},{"$f":"EK!I9","v":0},{"$f":"EK!J9","v":0},{"$f":"EK!K9","v":0},{"$f":"EK!L9","v":0},{"$f":"EK!M9","v":0}]
[]
[null,null,{"$f":"C3","v":2023},2024,2025,2026,2027,2028,2029,2030,2031,2032,{"$f":"M3","v":2033}]
["Bilanzüberschuss / -fehlbetrag Anfang Jahr",null,{"$f":"EK!C11","v":0},{"$f":"C52","v":0},{"$f":"D52","v":0},0,0,0,0,0,0,0,0]
["Abtragung Bilanzfehlbetrag (30 %)",null,{"$f":"EK!C12","v":0},{"$f":"EK!D12","v":0},{"$f":"EK!E12","v":0},{"$f":"EK!F12","v":0},{"$f":"EK!G12","v":0},{"$f":"EK!H12","v":0},{"$f":"EK!I12","v":0},{"$f":"EK!J12","v":0},{"$f":"EK!K12","v":0},{"$f":"EK!L12","v":0},{"$f":"EK!M12","v":0}]
["Gesamtergebnis",null,{"$f":"EK!C13","v":0},{"$f":"EK!D13","v":0},{"$f":"EK!E13","v":0},{"$f":"EK!F13","v":0},{"$f":"EK!G13","v":0},{"$f":"EK!H13","v":0},{"$f":"EK!I13","v":0},{"$f":"EK!J13","v":0},{"$f":"EK!K13","v":0},{"$f":"EK!L13","v":0},{"$f":"EK!M13","v":0}]
["Umbuchung Aufwertungsreserve",null,{"$f":"EK!C14","v":0},{"$f":"EK!D14","v":0},{"$f":"EK!E14","v":0},{"$f":"EK!F14","v":0},{"$f":"EK!G14","v":0},{"$f":"EK!H14","v":0},{"$f":"EK!I14","v":0},{"$f":"EK!J14","v":0},{"$f":"EK!K14","v":0},{"$f":"EK!L14","v":0},{"$f":"EK!M14","v":0}]
["Bilanzüberschuss / -fehlbetrag Ende Jahr",null,{"$f":"EK!C15","v":0},{"$f":"EK!D15","v":0},{"$f":"EK!E15","v":0},{"$f":"EK!F15","v":0},{"$f":"EK!G15","v":0},{"$f":"EK!H15","v":0},{"$f":"EK!I15","v":0},{"$f":"EK!J15","v":0},{"$f":"EK!K15","v":0},{"$f":"EK!L15","v":0},{"$f":"EK!M15","v":0}]
[]
[null,null,{"$f":"C3","v":2023},{"$f":"D3","v":2024},2025,2026,2027,2028,2029,2030,2031,2032,{"$f":"M3","v":2033}]
["Nettoschuld I (+ = Schuld / - = Vermögen)",null,{"$f":"KZ!C4","v":0},{"$f":"KZ!D4","v":0},{"$f":"KZ!E4","v":0},{"$f":"KZ!F4","v":0},{"$f":"KZ!G4","v":0},{"$f":"KZ!H4","v":0},{"$f":"KZ!I4","v":0},{"$f":"KZ!J4","v":0},{"$f":"KZ!K4","v":0},{"$f":"KZ!L4","v":0},{"$f":"KZ!M4","v":0}]
["Nettoschuld I je Einwohner (in CHF)",null,{"$f":"KZ!C6","v":0},{"$f":"KZ!D6","v":0},{"$f":"KZ!E6","v":0},{"$f":"KZ!F6","v":0},{"$f":"KZ!G6","v":0},{"$f":"KZ!H6","v":0},{"$f":"KZ!I6","v":0},{"$f":"KZ!J6","v":0},{"$f":"KZ!K6","v":0},{"$f":"KZ!L6","v":0},{"$f":"KZ!M6","v":0}]

{"sheet":"KZ","index":14,"n_rows":16,"n_cols":13,"rows_kept":16,"merged":[[3,0,3,1],[4,0,4,1],[5,0,5,1],[8,0,8,1],[9,0,9,1],[10,0,10,1],[13,0,13,1],[14,0,14,1],[15,0,15,1]]}
[{"$f":"\"Kennzahlen Aufgaben- und Finanzplanung \"&Ausgangslage!D5-1&\" - \"&Ausgangslage!D5+Ausgangslage!I5-1","v":"Kennzahlen Aufgaben- und Finanzplanung 2023 - 2033"}]
[]
[null,null,{"$f":"Ausgangslage!D5-1","v":2023},{"$f":"C3+1","v":2024},{"$f":"D3+1","v":2025},2026,2027,2028,2029,2030,2031,2032,{"$f":"L3+1","v":2033}]
["Nettoschuld I  ",null,{"$f":"'Schulden-Zinsen'!D81","v":0},{"$f":"'Schulden-Zinsen'!E81","v":0},{"$f":"'Schulden-Zinsen'!F81","v":0},{"$f":"'Schulden-Zinsen'!G81","v":0},{"$f":"'Schulden-Zinsen'!H81","v":0},{"$f":"'Schulden-Zinsen'!I81","v":0},{"$f":"'Schulden-Zinsen'!J81","v":0},{"$f":"'Schulden-Zinsen'!K81","v":0},{"$f":"'Schulden-Zinsen'!L81","v":0},{"$f":"'Schulden-Zinsen'!M81","v":0},{"$f":"'Schulden-Zinsen'!N81","v":0}]
["Einwohner",null,{"$f":"Prognosen!D5","v":0},{"$f":"Prognosen!E5","v":0},{"$f":"Prognosen!F5","v":0},{"$f":"Prognosen!G5","v":0},{"$f":"Prognosen!H5","v":0},{"$f":"Prognosen!I5","v":0},{"$f":"Prognosen!J5","v":0},{"$f":"Prognosen!K5","v":0},{"$f":"Prognosen!L5","v":0},{"$f":"Prognosen!M5","v":0},{"$f":"Prognosen!N5","v":0}]
["Nettoschuld I je Einwohner (in CHF)",null,{"$f":"IF(C5=0,0,ROUND(C4/C5*1000,0))","v":0},{"$f":"IF(D5=0,0,ROUND(D4/D5*1000,0))","v":0},0,0,0,0,0,0,0,0,0]
[]
[null,null,{"$f":"C3","v":2023},{"$f":"D3","v":2024},2025,2026,2027,2028,2029,2030,2031,2032,2033]
["Selbstfinanzierung ",null,{"$f":"'Schulden-Zinsen'!D11","v":0},{"$f":"'Schulden-Zinsen'!E11","v":0},{"$f":"'Schulden-Zinsen'!F11","v":0},{"$f":"'Schulden-Zinsen'!G11","v":0},{"$f":"'Schulden-Zinsen'!H11","v":0},{"$f":"'Schulden-Zinsen'!I11","v":0},{"$f":"'Schulden-Zinsen'!J11","v":0},{"$f":"'Schulden-Zinsen'!K11","v":0},{"$f":"'Schulden-Zinsen'!L11","v":0},{"$f":"'Schulden-Zinsen'!M11","v":0},{"$f":"'Schulden-Zinsen'!N11","v":0}]
["Nettoinvestitionen",null,{"$f":"-'Schulden-Zinsen'!D5","v":0},{"$f":"-'Schulden-Zinsen'!E5","v":0},{"$f":"-'Schulden-Zinsen'!F5","v":0},{"$f":"-'Schulden-Zinsen'!G5","v":0},{"$f":"-'Schulden-Zinsen'!H5","v":0},{"$f":"-'Schulden-Zinsen'!I5","v":0},{"$f":"-'Schulden-Zinsen'!J5","v":0},{"$f":"-'Schulden-Zinsen'!K5","v":0},{"$f":"-'Schulden-Zinsen'!L5","v":0},{"$f":"-'Schulden-Zinsen'!M5","v":0},{"$f":"-'Schulden-Zinsen'!N5","v":0}]
["Selbstfinanzierungsgrad","Selbstfinanzierungsgrad",{"$f":"IF(C10=0,\"keine I.\",IF(C9<=0,0,C9/C10))","v":"keine I."},{"$f":"IF(D10=0,\"keine I.\",IF(D9<=0,0,D9/D10))","v":"keine I."},"keine I.","keine I.","keine I.","keine I.","keine I.","keine I.","keine I.","keine I.","keine I."]
[]
[null,null,{"$f":"C3","v":2023},2024,2025,2026,2027,2028,2029,2030,2031,2032,2033]
["Selbstfinanzierung",null,{"$f":"C9","v":0},{"$f":"D9","v":0},0,0,0,0,0,0,0,0,0]
["Laufender Ertrag",null,{"$f":"'Plan-ER'!D22+'Plan-ER'!D29+'Plan-ER'!D31+'Plan-ER'!D33+'Plan-ER'!D44+'Plan-ER'!D35+'Plan-ER'!D37+Budget!E100-Budget!E101+(-EK!C6)","v":0},{"$f":"'Plan-ER'!E22+'Plan-ER'!E29+'Plan-ER'!E31+'Plan-ER'!E33+'Plan-ER'!E44+'Plan-ER'!E35+'Plan-ER'!E37+Prognosen!E45-Prognosen!E46+(-EK!D6)","v":0},{"$f":"'Plan-ER'!F22+'Plan-ER'!F29+'Plan-ER'!F31+'Plan-ER'!F33+'Plan-ER'!F44+'Plan-ER'!F35+'Plan-ER'!F37+Prognosen!F45-Prognosen!F46+(-EK!E6)","v":0},{"$f":"'Plan-ER'!G22+'Plan-ER'!G29+'Plan-ER'!G31+'Plan-ER'!G33+'Plan-ER'!G44+'Plan-ER'!G35+'Plan-ER'!G37+Prognosen!G45-Prognosen!G46+(-EK!F6)","v":0},{"$f":"'Plan-ER'!H22+'Plan-ER'!H29+'Plan-ER'!H31+'Plan-ER'!H33+'Plan-ER'!H44+'Plan-ER'!H35+'Plan-ER'!H37+Prognosen!H45-Prognosen!H46+(-EK!G6)","v":0},{"$f":"'Plan-ER'!I22+'Plan-ER'!I29+'Plan-ER'!I31+'Plan-ER'!I33+'Plan-ER'!I44+'Plan-ER'!I35+'Plan-ER'!I37+Prognosen!I45-Prognosen!I46+(-EK!H6)","v":0},{"$f":"'Plan-ER'!J22+'Plan-ER'!J29+'Plan-ER'!J31+'Plan-ER'!J33+'Plan-ER'!J44+'Plan-ER'!J35+'Plan-ER'!J37+Prognosen!J45-Prognosen!J46+(-EK!I6)","v":0},{"$f":"'Plan-ER'!K22+'Plan-ER'!K29+'Plan-ER'!K31+'Plan-ER'!K33+'Plan-ER'!K44+'Plan-ER'!K35+'Plan-ER'!K37+Prognosen!K45-Prognosen!K46+(-EK!J6)","v":0},{"$f":"'Plan-ER'!L22+'Plan-ER'!L29+'Plan-ER'!L31+'Plan-ER'!L33+'Plan-ER'!L44+'Plan-ER'!L35+'Plan-ER'!L37+Prognosen!L45-Prognosen!L46+(-EK!K6)","v":0},{"$f":"'Plan-ER'!M22+'Plan-ER'!M29+'Plan-ER'!M31+'Plan-ER'!M33+'Plan-ER'!M44+'Plan-ER'!M35+'Plan-ER'!M37+Prognosen!M45-Prognosen!M46+(-EK!L6)","v":0},{"$f":"'Plan-ER'!N22+'Plan-ER'!N29+'Plan-ER'!N31+'Plan-ER'!N33+'Plan-ER'!N44+'Plan-ER'!N35+'Plan-ER'!N37+Prognosen!N45-Prognosen!N46+(-EK!M6)","v":0}]
["Selbstfinanzierungsanteil",null,{"$f":"IF(C14<=0,0,C14/C15)","v":{"v":0,"d":"0%"}},{"$f":"IF(D14<=0,0,D14/D15)","v":{"v":0,"d":"0%"}},{"v":0,"d":"0%"},{"v":0,"d":"0%"},{"v":0,"d":"0%"},{"v":0,"d":"0%"},{"v":0,"d":"0%"},{"v":0,"d":"0%"},{"v":0,"d":"0%"},{"v":0,"d":"0%"},{"v":0,"d":"0%"}]

{"sheet":"GRAFIKEN","index":15,"n_rows":44,"n_cols":4,"rows_kept":44,"merged":[[27,0,27,4]]}
["Grafiken"]
[]
["1. Nettoschuld I je Einwohner"]
[]
[null,"Jahr","Nettoschuld I"]
[null,{"$f":"B7-1","v":2020},{"$f":"Ausgangslage!H62","v":0}]
[null,{"$f":"B8-1","v":2021},{"$f":"Ausgangslage!J62","v":0}]
[null,{"$f":"B9-1","v":2022},{"$f":"Ausgangslage!L62","v":0}]
[null,{"$f":"B10-1","v":2023},{"$f":"KZ!C6","v":0}]
[null,{"$f":"Ausgangslage!D5","v":2024},{"$f":"IF(B10=\"\",\"\",KZ!D$6)","v":0}]
[null,{"$f":"IF(B10=\"\",\"\",IF(Ausgangslage!$D$5+Ausgangslage!$I$5>B10+1,GRAFIKEN!B10+1,\"\"))","v":2025},{"$f":"IF(B11=\"\",\"\",KZ!E$6)","v":0}]
[null,{"$f":"IF(B11=\"\",\"\",IF(Ausgangslage!$D$5+Ausgangslage!$I$5>B11+1,GRAFIKEN!B11+1,\"\"))","v":2026},{"$f":"IF(B12=\"\",\"\",KZ!F$6)","v":0}]
[null,{"$f":"IF(B12=\"\",\"\",IF(Ausgangslage!$D$5+Ausgangslage!$I$5>B12+1,GRAFIKEN!B12+1,\"\"))","v":2027},{"$f":"IF(B13=\"\",\"\",KZ!G$6)","v":0}]
[null,{"$f":"IF(B13=\"\",\"\",IF(Ausgangslage!$D$5+Ausgangslage!$I$5>B13+1,GRAFIKEN!B13+1,\"\"))","v":2028},{"$f":"IF(B14=\"\",\"\",KZ!H$6)","v":0}]
[null,{"$f":"IF(B14=\"\",\"\",IF(Ausgangslage!$D$5+Ausgangslage!$I$5>B14+1,GRAFIKEN!B14+1,\"\"))","v":2029},{"$f":"IF(B15=\"\",\"\",KZ!I$6)","v":0}]
[null,{"$f":"IF(B15=\"\",\"\",IF(Ausgangslage!$D$5+Ausgangslage!$I$5>B15+1,GRAFIKEN!B15+1,\"\"))","v":2030},{"$f":"IF(B16=\"\",\"\",KZ!J$6)","v":0}]
[null,{"$f":"IF(B16=\"\",\"\",IF(Ausgangslage!$D$5+Ausgangslage!$I$5>B16+1,GRAFIKEN!B16+1,\"\"))","v":2031},{"$f":"IF(B17=\"\",\"\",KZ!K$6)","v":0}]
[null,{"$f":"IF(B17=\"\",\"\",IF(Ausgangslage!$D$5+Ausgangslage!$I$5>B17+1,GRAFIKEN!B17+1,\"\"))","v":2032},{"$f":"IF(B18=\"\",\"\",KZ!L$6)","v":0}]
[null,{"$f":"IF(B18=\"\",\"\",IF(Ausgangslage!$D$5+Ausgangslage!$I$5>B18+1,GRAFIKEN!B18+1,\"\"))","v":2033},{"$f":"IF(B19=\"\",\"\",KZ!M$6)","v":0}]
{"$rows_empty":8}
["2. Nettoinvestitionen / Selbstfinanzierung\n    (Selbstfinanzierungsgrad)"]
[]
[null,"Jahr","Netto-\ninvestitionen","Selbst-\nfinanzierung"]
[null,{"$f":"B32-1","v":2020},{"$f":"Ausgangslage!H61","v":0},{"$f":"Ausgangslage!H60","v":0}]
[null,{"$f":"B33-1","v":2021},{"$f":"Ausgangslage!J61","v":0},{"$f":"Ausgangslage!J60","v":0}]
[null,{"$f":"B34-1","v":2022},{"$f":"Ausgangslage!L61","v":0},{"$f":"Ausgangslage!L60","v":0}]
[null,{"$f":"B35-1","v":2023},{"$f":"KZ!C10","v":0},{"$f":"KZ!C9","v":0}]
[null,{"$f":"Ausgangslage!D5","v":2024},{"$f":"KZ!D10","v":0},{"$f":"IF(B35=\"\",\"\",KZ!D$9)","v":0}]
[null,{"$f":"IF(B35=\"\",\"\",IF(Ausgangslage!$D$5+Ausgangslage!$I$5>B35+1,GRAFIKEN!B35+1,\"\"))","v":2025},{"$f":"IF(B36=\"\",\"\",KZ!E$10)","v":0},{"$f":"IF(B36=\"\",\"\",KZ!E$9)","v":0}]
[null,{"$f":"IF(B36=\"\",\"\",IF(Ausgangslage!$D$5+Ausgangslage!$I$5>B36+1,GRAFIKEN!B36+1,\"\"))","v":2026},{"$f":"IF(B37=\"\",\"\",KZ!F$10)","v":0},{"$f":"IF(B37=\"\",\"\",KZ!F$9)","v":0}]
[null,{"$f":"IF(B37=\"\",\"\",IF(Ausgangslage!$D$5+Ausgangslage!$I$5>B37+1,GRAFIKEN!B37+1,\"\"))","v":2027},{"$f":"IF(B38=\"\",\"\",KZ!G$10)","v":0},{"$f":"IF(B38=\"\",\"\",KZ!G$9)","v":0}]
[null,{"$f":"IF(B38=\"\",\"\",IF(Ausgangslage!$D$5+Ausgangslage!$I$5>B38+1,GRAFIKEN!B38+1,\"\"))","v":2028},{"$f":"IF(B39=\"\",\"\",KZ!H$10)","v":0},{"$f":"IF(B39=\"\",\"\",KZ!H$9)","v":0}]
[null,{"$f":"IF(B39=\"\",\"\",IF(Ausgangslage!$D$5+Ausgangslage!$I$5>B39+1,GRAFIKEN!B39+1,\"\"))","v":2029},{"$f":"IF(B40=\"\",\"\",KZ!I$10)","v":0},{"$f":"IF(B40=\"\",\"\",KZ!I$9)","v":0}]
[null,{"$f":"IF(B40=\"\",\"\",IF(Ausgangslage!$D$5+Ausgangslage!$I$5>B40+1,GRAFIKEN!B40+1,\"\"))","v":2030},{"$f":"IF(B41=\"\",\"\",KZ!J$10)","v":0},{"$f":"IF(B41=\"\",\"\",KZ!J$9)","v":0}]
[null,{"$f":"IF(B41=\"\",\"\",IF(Ausgangslage!$D$5+Ausgangslage!$I$5>B41+1,GRAFIKEN!B41+1,\"\"))","v":2031},{"$f":"IF(B42=\"\",\"\",KZ!K$10)","v":0},{"$f":"IF(B42=\"\",\"\",KZ!K$9)","v":0}]
[null,{"$f":"IF(B42=\"\",\"\",IF(Ausgangslage!$D$5+Ausgangslage!$I$5>B42+1,GRAFIKEN!B42+1,\"\"))","v":2032},{"$f":"IF(B43=\"\",\"\",KZ!L$10)","v":0},{"$f":"IF(B43=\"\",\"\",KZ!L$9)","v":0}]
[null,{"$f":"IF(B43=\"\",\"\",IF(Ausgangslage!$D$5+Ausgangslage!$I$5>B43+1,GRAFIKEN!B43+1,\"\"))","v":2033},{"$f":"IF(B44=\"\",\"\",KZ!M$10)","v":0},{"$f":"IF(B44=\"\",\"\",KZ!M$9)","v":0}]

{"sheet":"GDat","index":16,"n_rows":17,"n_cols":7,"rows_kept":17,"hidden":true}
[null,"1. Nettoschuld I je Einwohner",null,null,"2. Selbstfinanzierungsgrad"]
[]
[null,"Jahr","Nettoschuld I",null,"Jahr","Netto-\ninvestitionen","Selbst-\nfinanzierung"]
[null,{"$f":"GRAFIKEN!B6","v":2020},{"$f":"GRAFIKEN!C6","v":0},null,{"$f":"GRAFIKEN!B31","v":2020},{"$f":"GRAFIKEN!C31","v":0},{"$f":"GRAFIKEN!D31","v":0}]
[null,{"$f":"GRAFIKEN!B7","v":2021},{"$f":"GRAFIKEN!C7","v":0},null,{"$f":"GRAFIKEN!B32","v":2021},{"$f":"GRAFIKEN!C32","v":0},{"$f":"GRAFIKEN!D32","v":0}]
[null,{"$f":"GRAFIKEN!B8","v":2022},{"$f":"GRAFIKEN!C8","v":0},null,{"$f":"GRAFIKEN!B33","v":2022},{"$f":"GRAFIKEN!C33","v":0},{"$f":"GRAFIKEN!D33","v":0}]
[null,{"$f":"GRAFIKEN!B9","v":2023},{"$f":"GRAFIKEN!C9","v":0},null,{"$f":"GRAFIKEN!B34","v":2023},{"$f":"GRAFIKEN!C34","v":0},{"$f":"GRAFIKEN!D34","v":0}]
[null,{"$f":"GRAFIKEN!B10","v":2024},{"$f":"GRAFIKEN!C10","v":0},null,{"$f":"GRAFIKEN!B35","v":2024},{"$f":"GRAFIKEN!C35","v":0},{"$f":"GRAFIKEN!D35","v":0}]
[null,{"$f":"GRAFIKEN!B11","v":2025},{"$f":"GRAFIKEN!C11","v":0},null,{"$f":"GRAFIKEN!B36","v":2025},{"$f":"GRAFIKEN!C36","v":0},{"$f":"GRAFIKEN!D36","v":0}]
[null,{"$f":"GRAFIKEN!B12","v":2026},{"$f":"GRAFIKEN!C12","v":0},null,{"$f":"GRAFIKEN!B37","v":2026},{"$f":"GRAFIKEN!C37","v":0},{"$f":"GRAFIKEN!D37","v":0}]
[null,{"$f":"GRAFIKEN!B13","v":2027},{"$f":"GRAFIKEN!C13","v":0},null,{"$f":"GRAFIKEN!B38","v":2027},{"$f":"GRAFIKEN!C38","v":0},{"$f":"GRAFIKEN!D38","v":0}]
[null,{"$f":"GRAFIKEN!B14","v":2028},{"$f":"GRAFIKEN!C14","v":0},null,{"$f":"GRAFIKEN!B39","v":2028},{"$f":"GRAFIKEN!C39","v":0},{"$f":"GRAFIKEN!D39","v":0}]
[null,{"$f":"GRAFIKEN!B15","v":2029},{"$f":"GRAFIKEN!C15","v":0},null,{"$f":"GRAFIKEN!B40","v":2029},{"$f":"GRAFIKEN!C40","v":0},{"$f":"GRAFIKEN!D40","v":0}]
[null,{"$f":"GRAFIKEN!B16","v":2030},{"$f":"GRAFIKEN!C16","v":0},null,{"$f":"GRAFIKEN!B41","v":2030},{"$f":"GRAFIKEN!C41","v":0},{"$f":"GRAFIKEN!D41","v":0}]
[null,{"$f":"GRAFIKEN!B17","v":2031},{"$f":"GRAFIKEN!C17","v":0},null,{"$f":"GRAFIKEN!B42","v":2031},{"$f":"GRAFIKEN!C42","v":0},{"$f":"GRAFIKEN!D42","v":0}]
[null,{"$f":"GRAFIKEN!B18","v":2032},{"$f":"GRAFIKEN!C18","v":0},null,{"$f":"GRAFIKEN!B43","v":2032},{"$f":"GRAFIKEN!C43","v":0},{"$f":"GRAFIKEN!D43","v":0}]
[null,{"$f":"GRAFIKEN!B19","v":2033},{"$f":"GRAFIKEN!C19","v":0},null,{"$f":"GRAFIKEN!B44","v":2033},{"$f":"GRAFIKEN!C44","v":0},{"$f":"GRAFIKEN!D44","v":0}]

{"sheet":"Kat","index":17,"n_rows":32,"n_cols":4,"rows_kept":32}
["Anlagekategorien"]
[]
["Kat.*","Bezeichung","Abschr.dauer (Jahre)","Bemerkung"]
[{"v":1,"d":"01"},"Grundstücke",0,"keine planmässige Abschreibung"]
[{"v":2,"d":"02"},"Gebäude, Hochbauten",35]
["02a","Containerbauten, Fahrnisbauten",20]
["02b","Heizsysteme, Photovoltaikanlagen",20]
[{"v":3,"d":"03"},"Strassen, Plätze, Friedhof",40]
["03a","Naturstrassen (nicht asphaltierte Strassen)",10]
["03b","Sportplätze (Rasen- und Hartplätze)",20]
["03c","Kunstrasenplätze",10]
[{"v":4,"d":"04"},"Kanal-/Leitungsnetze, Gewässerbauten",50]
["04a","Fernwärmenetz",35]
[{"v":5,"d":"05"},"Installationen, Ein- und Ausbauten bei Gebäuden","10 - 15"]
[{"v":6,"d":"06"},"Abfallanlagen (Installationen, Einbauten)",30]
[{"v":7,"d":"07"},"Mobilien, Maschinen, Ausstattungen, allg. Fahrzeuge","5 - 10"]
[{"v":8,"d":"08"},"Spezialfahrzeuge (Strassenreinigung)",15]
["08a","Kleintanklöschfahrzeuge, Kommandofahrzeug, Strassenrettungsfahrzeug",15]
["08b","Schweres und überschweres Pikettfahrzeug, schweres Schlauchverlegefahrzeug, Wechselladefahrzeug",25]
["08c","Andere Feuerwehrfahrzeuge",20]
[{"v":9,"d":"09"},"Immaterielle Anlagen, Software",5]
[10,"Orts- und Regionalplanungen",10]
[11,"Informatik- und Kommunikationssysteme","3 - 5"]
["11a","Datenübertragungsnetze","15 - 25"]
[12,"Investitionsbeiträge","je nach Objekt","nach Nutzungsdauer des Objektes"]
["12a","Anschlussgebühren",20]
[13,"Anlagen im Bau",0,"keine planmässige Abschreibung"]
[14,"Darlehen des Verwaltungsvermögens",0,"keine planmässige Abschreibung"]
[15,"Beteiligungen, Grundkapitalien",0,"keine planmässige Abschreibung"]
[16,"Abweichungen zu den vorgenannten Kategorien und/oder Abschreibungsdauer","je nach Objekt","Mit Zustimmung des Departements Volkswirtschaft und Inneres"]
[]
["*Anlagekategorien und Abschreibungsdauer gemäss Anhang 1 zur Finanzverordnung"]

{"sheet":"Hlp","index":18,"n_rows":283,"n_cols":3,"rows_kept":283}
["Ausgangslage"]
[null,null,"Hinweise zum Finanzplanungs-Tool"]
[]
["Auswahl","leer","Text"]
["Ausgangslage"," "]
["Ausgangslage",null,"Hinweise Ausgangslage"]
["Ausgangslage"]
["Ausgangslage",null,"Im Tabellenblatt Ausgangslage werden die Grunddaten und die Werte der letzten abgeschlossenen Rechnung erfasst."]
["Ausgangslage"]
["Ausgangslage",null,"Weitere Infos finden sich in der Anleitung."]
["Ausgangslage"]
["Ausgangslage",null,"1. Planjahr"]
["Ausgangslage",null,"Das 1. Planjahr entspricht dem Budgetjahr. Es kann nur das direkt darauffolgende Jahr erfasst werden."]
["Ausgangslage"]
["Ausgangslage",null,"Anzahl Planjahre"]
["Ausgangslage",null,"Anzahl gewünschte Planjahre inkl. Budgetjahr eingeben. Minimalwert = 4 Jahre. Maximalwert = 10 Jahre."]
["Ausgangslage"]
["Ausgangslage",null,"Stand/Datum:"]
["Ausgangslage",null,"Datum der Planung, wird auf Titelblatt ausgedruckt."]
["Ausgangslage"]
["Ausgangslage",null,"Ausgangsdaten"]
["Ausgangslage",null,"Budget: Planung zusammen mit Budget > Eingaben Budget aktuelles Jahr, Prognose aktuelles Jahr und Budget 1. Planjahr."]
["Ausgangslage",null,"Rechnung: Überarbeitung nach Rechnungsabschluss: Spaltenbezeichnung Prognose wird durch IST ersetzt."]
["Ausgangslage"]
["Ausgangslage",null,"Flüssige Mittel"]
["Ausgangslage",null,"Die Flüssigen Mittel werden im Tabellenblatt Schulden-Zinsen für die Berechnung der Finanzierung der Investitionen benötigt."]
["Ausgangslage",null,"Der Wert kann um ausserordentliche Kreditoren- oder Debitorenbestände korrigiert werden. Standardmässig ist der Abzug der"]
["Ausgangslage",null,"kurzfristigen Finanzverbindlichkeiten vorgesehen."]
["Ausgangslage"]
["Ausgangslage",null,"Aufwertungsreserve"]
["Ausgangslage",null,"Die Aufwertungsreserven getrennt zwischen übr. Anlagen und Grundstücken erfassen."]
["Ausgangslage",null,"Die Jahre für \"Entnahme bis\" und \"Umbuchung\" unter Berücksichtigung der Weisung vom 10. April 2017 ausfüllen."]
["Ausgangslage"]
["Ausgangslage",null,"Kredite/Darlehen"]
["Ausgangslage",null,"Bestehende langfristige Schulden erfassen mit Zinssatz und geplantem Rückzahlungsjahr. Werte werden in Tabellenblatt"]
["Ausgangslage",null,"\"Schulden-Zinsen\" in die Rubrik \"Rückzahlung Darlehen/Kredite\" übernommen."]
["Ausgangslage"]
["Ausgangslage",null,"Vorjahreszahlen"]
["Ausgangslage",null,"Gesamtergebnis wird für Berechnung kumuliertes Haushaltsergebnis benötigt."]
["Ausgangslage",null,"Kennzahlen werden für Grafiken Kennzahlen benötigt."]
["Ausgangslage"]
["Berechnung NS"]
["Berechnung NS",null,"Hinweise Berechnung NS"]
["Berechnung NS"]
["Berechnung NS",null,"Die Nettoschuld wird für die Einwohnergemeinde ohne Spezialfinanzierungen berechnet."]
["Berechnung NS"]
["Berechnung NS",null,"Alle Zahlen positiv in 1'000 Franken eingeben."]
["Berechnung NS"]
["Berechnung NS",null,"Weitere Infos finden sich in der Anleitung."]
["Berechnung NS"]
["Investitionsplan"]
["Investitionsplan",null,"Hinweise Investitionsplan"]
["Investitionsplan"]
["Investitionsplan",null,"Der Investitionsplan wird unabhängig von der Anzahl der gewählten Planjahre für 10 Jahre angezeigt."]
["Investitionsplan"]
["Investitionsplan",null,"Es sind nur Projekte / Investitionen vom Verwaltungsvermögen (ohne Spezialfinanzierungen) zu erfassen."]
["Investitionsplan"]
["Investitionsplan",null,"Weitere Infos finden sich in der Anleitung."]
["Investitionsplan"]
["Investitionsplan",null,"Übernahme Daten von bisherigem Aufgaben- und Finanzplanungs-Tool"]
["Investitionsplan",null,"Die Anleitung bzw. auch die Änderungsübersicht erläutern das empfohlene Vorgehen, wenn die Investitionen vom bisherigen"]
["Investitionsplan",null,"Finanzplanungs-Tool in die neue Version überführt werden sollen."]
["Investitionsplan"]
["Investitionsplan",null,"Vollständigkeit Investitionen"]
["Investitionsplan",null,"Alle ausstehenden Investitionen erfassen, wichtig für Berechnung Finanzierungsbedarf und Nettoschuld/Schulden."]
["Investitionsplan",null,"In Betrieb genommene Investitionen können entfernt werden, da die Abschreibungen aus der Anlagebuchhaltung"]
["Investitionsplan",null,"übernommen werden. Sollen sie dennoch weiterhin aufgeführt sein, ist ein \"x\" in der Spalte \"ohne Abschr.\" zu erfassen."]
["Investitionsplan"]
["Investitionsplan",null,"Zeilen hinzufügen und löschen - Buttons"]
["Investitionsplan",null,"Nebst der bisherigen Möglichkeit von Zeilen zu erfassen (Wert in letzter gelben Zeile einfügen), besteht neu die"]
["Investitionsplan",null,"Möglichkeit einzelne oder auch mehrere Zeilen gleichzeitig hinzuzufügen (grüner Button). Ebenso besteht neu"]
["Investitionsplan",null,"ein Button für die Löschung einer in Betrieb genommenen Investition. Es wird die jeweils angeklickte Zeile entfernt."]
["Investitionsplan"]
["Investitionsplan",null,"Code"]
["Investitionsplan",null,"Code wird benötigt für Auswertung \"InvprogrammA\". Investitionen können entsprechend gegliedert werden."]
["Investitionsplan"]
["Investitionsplan",null,"Kredit"]
["Investitionsplan",null,"Totalbetrag Kredit (Brutto) eingeben. Investitionseinnahmen in separater Zeile als Negativbetrag erfassen."]
["Investitionsplan"]
["Investitionsplan",null,"Vorjahre"]
["Investitionsplan",null,"Bereits ausgegebener Anteil des Kredits erfassen."]
["Investitionsplan"]
["Investitionsplan",null,"ab \"Jahr\""]
["Investitionsplan",null,"Kreditanteil, der nach Planperiode ausgegeben wird, erfassen."]
["Investitionsplan"]
["Investitionsplan",null,"Abschreibungen aus Anlagebuchhaltung"]
["Investitionsplan",null,"Planabschreibungen auf bestehendem Anlagevermögen aus Anlagebuchhaltung einsetzen."]
["Investitionsplan"]
["Investitionsplan",null,"ohne Abschr."]
["Investitionsplan",null,"Mit Eingabe x werden keine Abschreibungen berechnet. Für Investitionen, die in Betrieb genommen wurden,"]
["Investitionsplan",null,"die Abschreibungen aus der Anlagebuchhaltung übernommen werden, aber auf dieser Liste noch aufgeführt"]
["Investitionsplan",null,"werden sollen"]
["Investitionsplan"]
["Investitionsplan",null,"Sortierung ändern"]
["Investitionsplan",null,"Mittels Rechtsklick auf die Titel \"Funktion\", \"Bezeichnung\", \"Code\" oder \"Kredit\" können die Investitionen"]
["Investitionsplan",null,"anders sortiert werden."]
["Investitionsplan"]
["Budget"]
["Budget",null,"Hinweise Budget"]
["Budget"]
["Budget",null,"Im Tabellenblatt Budget werden die Daten des laufenden Jahres und des 1. Planjahres erfasst. Die Zahlen des Budgets des"]
["Budget",null,"laufenden Jahres werden benötigt, um u.a. die Bilanzwerte der letzten abgeschlossenen Rechnung fortzuführen."]
["Budget"]
["Budget",null,"Datenbasis"]
["Budget",null,"Die Datenerfassung erfolgt grundsätzlich aus dem Erfolgsausweis ohne Spezialfinanzierungen. Die Abschreibungen (330/332/339/366) "]
["Budget",null,"werden aus der Artengliederung (ohne Spezialfinanzierungen) oder aus der Anlagebuchhaltung erfasst."]
["Budget",null,"Beim Fiskalertrag bzw. den Steuern erfolgt die Erfassung aus der Funktionalen Gliederung."]
["Budget"]
["Budget",null,"Spalte Budget"]
["Budget",null,"Zahlen Budget des laufenden Jahres erfassen."]
["Budget"]
["Budget",null,"Spalte Δ"]
["Budget",null,"In der Spalte Δ werden die Abweichungen zum Budget des laufenden Jahres erfasst."]
["Budget",null,"Keine Eingabe => Prognose (bzw. IST) = Budget."]
["Budget"]
["Budget",null,"Prognose bzw. IST"]
["Budget",null,"Die Prognose (bzw. IST) berechnet sich aus Budget und  Δ (Abweichung zum Budget). "]
["Budget"]
["Budget",null,"31 Sach- und übriger Betriebsaufwand"]
["Budget",null,"Die Abschreibungen von Steuerforderungen werden bei den Steuern erfasst und automatisch in diese Rubrik übernommen."]
["Budget"]
["Budget",null,"33 Abschreibungen Verwaltungsvermögen inkl. 366"]
["Budget",null,"Die Abschreibungen in dieser Position werden inkl. Abschreibungen Investitionsbeiträge (366) ausgewiesen. Damit wird die "]
["Budget",null,"Erfassung in den Planjahren vereinfacht."]
["Budget"]
["Budget",null,"35 Einlagen in Fonds // 45 Entnahmen aus Fonds"]
["Budget",null,"Einlagen von Artennr. 35 als Total erfassen. Zudem noch der darin enthaltene Anteil an Fonds im FK (Artennr. 350x)."]
["Budget",null,"Gleiches Vorgehen bei der Artennr. 45 (bzw. Artennr. 450x)."]
["Budget",null,"Die Artennr. 35 und 45 werden für die Berechnung des Gesamtergebnisses benötigt."]
["Budget",null,"Die Anteile davon im FK (350x und 450x) werden benötigt, um die Nettoschuld I zu prognostizieren."]
["Budget"]
["Budget",null,"3621 // 4621 Finanzausgleich"]
["Budget",null,"Die Abgaben bzw. Beiträge für das laufende Jahr werden im Budget erfasst. Die Zahlen ab dem 1. Planjahr sind in der "]
["Budget",null,"Tabellenblatt Prognosen zu erfassen. Im Tabellenblatt Budget das Total ( = inkl. Ordentl. Ergänzungs- und Übergangs"]
["Budget",null,"beiträge sowie Feinausgleich Aufgabenverschiebungsbilanz) erfassen. Im Tabellenblatt Prognosen ist dies detailliert"]
["Budget",null,"vorzunehmen."]
["Budget"]
["Budget",null,"4895 Entnahme Aufwertungsreserve ohne SF"]
["Budget",null,"Die Entnahme für das laufende Jahr wird im Budget erfasst. Die Zahlen ab dem 1. Planjahr sind in der Tabellenblatt"]
["Budget",null,"Prognosen zu erfassen."]
["Budget"]
["Budget",null,"Funktion 9101 Sondersteuern"]
["Budget",null,"Ertrag Sondersteuern eingeben. Abschreibungen (31), Hundetaxen (36) sind mit der ensprechenden Artennummer bereits erfasst."]
["Budget"]
["Budget",null,"Fiskalertrag übrige Funktionen"]
["Budget",null,"Fiskalertrag, der nicht in den Funktionen 9100 Allgemeine Gemeindesteuern und 9101 Sondersteuern verbucht wird, erfassen "]
["Budget",null,"(z.B. Flächenbeitrage in Funktion 8120 Strukturverbesserungen)."]
["Budget"]
["Prognosen"]
["Prognosen",null,"Hinweise Prognosen"]
["Prognosen"]
["Prognosen",null,"Im Tabellenblatt Prognosen werden die Veränderungen der Erfolgsrechnung in den Planjahren erfasst."]
["Prognosen"]
["Prognosen",null,"Weitere Infos finden sich in der Anleitung."]
["Prognosen"]
["Prognosen",null,"Plangrössen / Einflussfaktoren"]
["Prognosen",null,"Eingabe = Zuwachs zum Vorjahr."]
["Prognosen",null,"Mit den Zuwachsraten wird der Zuwachs auf dem entsprechenden Aufwand bzw. Ertrag für jedes Jahr gegenüber dem Vorjahr "]
["Prognosen",null,"berechnet. Basis bildet das 1. Planjahr. Kein Zuwachs gegenüber Vorjahr = 0%."]
["Prognosen",null,"Zinssatz für Neukredite: Mutmasslicher Zinssatz für Neukredite im entsprechenden Jahr. Angabe wird für Berechnung Zinsen"]
["Prognosen",null,"benötigt (Tabellenblatt Schulden-Zinsen)."]
["Prognosen",null,"Zinssatz flüssige Mittel: Mutmasslicher Zinssatz für Verzinsung flüssige Mittel. Angabe wird für Berechnung Zinsen benötigt "]
["Prognosen",null,"(Tabellenblatt Schulden-Zinsen)."]
["Prognosen"]
["Prognosen",null,"Prognosen Steuerertrag"]
["Prognosen",null,"Wachstumsrate = geschätzte Veränderung Steuerertrag, Basis Steuerertrag natürliche Personen 100%."]
["Prognosen",null,"Bevölkerungswachstum in % wird aus Plangrösse Einwohnerzahl berechnet."]
["Prognosen",null,"--> Vorsicht: Wachstumsrate KStA beinhaltet ebenfalls ein Bevölkerungswachstum. Nicht doppelt berücksichtigen."]
["Prognosen"]
["Prognosen",null,"Finanzausgleich"]
["Prognosen",null,"Abgaben und Beiträge ab dem 1. Planjahr erfassen. Zahlen für das 1. Planjahr werden kommuniziert. Nachfolgende"]
["Prognosen",null,"Planjahre entweder abschätzen oder gleichen Wert verwenden."]
["Prognosen",null,"Zahlen werden gelöscht, wenn ein neues Planjahr in der Ausgangslage erfasst wird."]
["Prognosen"]
["Prognosen",null,"Entnahme Aufwertungsreserve"]
["Prognosen",null,"Beträge ab dem 1. Planjahr erfassen."]
["Prognosen",null,"Hinweis erscheint, wenn Betrag im Folgejahr nicht tiefer ist (grundsätzlich jährliche Kürzung gemäss Weisung vom 10.04.2017)."]
["Prognosen"]
["Prognosen",null,"Veränderungen Erfolgsrechnung"]
["Prognosen",null,"Veränderungen in der Erfolgsrechnung in den Planjahren einsetzen. Eine Eingabe wird im entsprechenden Planjahr berücksichtigt."]
["Prognosen",null,"Bei wiederkehrenden Veränderungen Werte in jedem Jahr erfassen."]
["Prognosen",null,"Für jede Veränderung die entsprechende zweistellige Artennumer in der ersten Spalte erfassen, damit in der Plan-ER die "]
["Prognosen",null,"Veränderung eingerechnet werden kann. Belastungen als positive Zahl erfassen (Mehraufwand, Minderertrag) Entlastungen als "]
["Prognosen",null,"negative Zahl erfassen (Minderaufwand, Mehrertrag)."]
["Prognosen"]
["Schulden-Zinsen"]
["Schulden-Zinsen",null,"Hinweise Schulden-Zinsen"]
["Schulden-Zinsen"]
["Schulden-Zinsen",null,"Im Tabellenblatt Schulden-Zinsen werden mit einem vereinfachten Ansatz der Finanzierungsbedarf, die Schuldenentwicklung und"]
["Schulden-Zinsen",null,"die Zinsen berechnet."]
["Schulden-Zinsen",null,"Die Berechnung basiert auf der Erfolgsrechnung und nicht der Geldflussrechnung. Dies in der Annahme, dass die Bestände der "]
["Schulden-Zinsen",null,"Forderungen, der aktiven Rechnungsabgrenzungen, der laufenden Verbindlichkeiten, der passiven Rechnungsabgrenzungen und"]
["Schulden-Zinsen",null,"der Rückstellungen konstant bleiben."]
["Schulden-Zinsen"]
["Schulden-Zinsen",null,"Berechnung Finanzierungsergebnis"]
["Schulden-Zinsen",null,"Aus den Investitionen und dem Ergebnis der Erfolgsrechnung wird das Finanzierungsergebnis berechnet."]
["Schulden-Zinsen",null,"Berechnung der Selbstfinanzierung: Gesamtergebnis + Abschreibungen Verwaltungsvermögen + Einlagen Fonds - Entnahme"]
["Schulden-Zinsen",null,"Fonds - Abtragung Bilanzfehlbetrag - Entnahme Aufwertungsreserve"]
["Schulden-Zinsen"]
["Schulden-Zinsen",null,"Berechnung des Mittelbedarfs"]
["Schulden-Zinsen",null,"Rückzahlung Darlehen/Kredite"]
["Schulden-Zinsen",null,"Geplante Kreditrückzahlungen als positive Zahl erfassen. Zu jedem Kredit den Zinssatz eingeben (für Berechnung Zinsen notwendig)."]
["Schulden-Zinsen"]
["Schulden-Zinsen",null,"Abgang Finanz-/Sachanlagen Finanzvermögen"]
["Schulden-Zinsen",null,"Abgang von Finanz- oder Sachanlagen im Finanzvermögen als negative Zahl einsetzen: z.B. Verkauf Bauland, Ablauf Festgeldanlage, "]
["Schulden-Zinsen",null,"Rückzahlung Darlehensguthaben. Für jeden Abgang ensprechenden Zinssatz eingeben (für Berechnung Zinsen notwendig)."]
["Schulden-Zinsen",null,"Beim Verkauf von Bauland Buchwert einsetzen und Buchgewinn oder -verlust im Tabellenblatt Prognosen"]
["Schulden-Zinsen",null,"bei Veränderung Erfolgsrechnung mit Artennummer 34 für Buchverluste oder 44 für Buchgewinne einsetzen."]
["Schulden-Zinsen"]
["Schulden-Zinsen",null,"Zugang Finanz-/Sachanlagen Finanzvermögen"]
["Schulden-Zinsen",null,"Zugang von Finanz-/und Sachanlagen im Finanzvermögen als positive Zahl einsetzen: z.B. Festgeldanlage, Kauf Liegenschaft "]
["Schulden-Zinsen",null,"Finanzvermögen, Darlehensgewährung an Dritte."]
["Schulden-Zinsen"]
["Schulden-Zinsen",null,"Finanzierungsbedarf-/überschuss Spezialfinanzierungen"]
["Schulden-Zinsen",null,"Aus den Finanzplänen der Spezialfinanzierungen (Wasserversorgung, Abwasserbeseitigung usw.) und der Ortsbürgergemeinde "]
["Schulden-Zinsen",null,"Finanzierungsfehlbeträge oder -überschüsse übernehmen. Zinssatz für interne Verzinsung eingeben."]
["Schulden-Zinsen"]
["Schulden-Zinsen",null,"Mittelbedarf"]
["Schulden-Zinsen",null,"Der Mittelbedarf zeigt vereinfacht den Mittelbedarf oder -überschuss aus der Erfolgsrechnung, aus der Investitionsrechnung und"]
["Schulden-Zinsen",null,"aus den Veränderungen in den Sach-/Finanzanlagen des Finanzvermögens. Eingerechnet werden können auch die Finanzierungs-"]
["Schulden-Zinsen",null,"überschüsse-/fehlbeträge der Spezialfinanzierungen und der Ortsbürgergemeinde."]
["Schulden-Zinsen",null,"Der Mittelbedarf muss ausgeglichen werden durch die Neuaufnahme verzinslicher Darlehen oder die Veränderung der flüssigen "]
["Schulden-Zinsen",null,"Mittel."]
["Schulden-Zinsen"]
["Schulden-Zinsen",null,"Veränderung Zinsbelastung"]
["Schulden-Zinsen",null,"Die Veränderung der Zinsbelastung erfolgt bei allen Eingaben (Rückzahlung Kredite/Darlehen, Abgang oder Zugang Finanz-/"]
["Schulden-Zinsen",null,"Sachanlagen Finanzvermögen, Finanzierungsbedarf-/überschuss Spezialfinanzierungen) ab dem Folgejahr."]
["Schulden-Zinsen"]
["Titelblatt"]
["Titelblatt",null,"Keine Hinweise verfügbar."]
["Titelblatt"]
["Invprogramm"]
["Invprogramm",null,"Keine Hinweise verfügbar."]
["Invprogramm"]
["Plan-ER"]
["Plan-ER",null,"Hinweise Plan-ER"]
["Plan-ER"]
["Plan-ER",null,"Entnahme Aufwertungsreserve"]
["Plan-ER",null,"Die erfassten Werte in den Tabellenblättern Budget und Prognose werden übernommen. Jedoch sind sie anhängig von"]
["Plan-ER",null,"den erfassten Jahren zu \"Entnahme bis\" und \"Umbuchung\" im Tabellenblatt Ausgangslage."]
["Plan-ER"]
["EK"]
["EK",null,"Hinweise Eigenkapital"]
["EK"]
["EK",null,"Aufwertungsreserve"]
["EK",null,"Aufgeteilte Darstellung von übr. Anlagen und Grundstücken."]
["EK",null,"Geplante Entnahme aus Tabellenblättern Budget und Prognosen, abhängig von den erfassten Jahre im Tabellenblatt"]
["EK",null,"Ausgangslage."]
["EK",null,"Umbuchung der Aufwertungsreserve abhängig vom erfassten Jahr in der Ausgangslage (automatische Erfassung)."]
["EK"]
["EK",null,"Abtragung Bilanzfehlbetrag"]
["EK",null,"Weist die Bilanz einen Bilanzfehlbetrag aus, ist dieser gemäss § 88g Abs. 2 Gemeindegesetz jährlich um mindestens "]
["EK",null,"30 % des Restbuchwerts abzutragen."]
["EK"]
["EK",null,"Relevantes Eigenkapital"]
["EK",null,"Das relevante Eigenkapital setzt sich gemäss § 9 Abs. 2 Finanzverordnung zusammen aus der Aufwertungs-, und Neu-"]
["EK",null,"bewertungsreserve sowie dem Bilanzüberschuss bzw. -fehlbetrag."]
["EK"]
["EK",null,"Mindestkapitalisierung"]
["EK",null,"Die Mindestkapitalisierung beträgt gemäss § 9 Abs. 1 Finanzverordnung 30 % des Aufwands des vorangehenden "]
["EK",null,"Rechnungsjahrs. Als Aufwand gilt der operative Aufwand der Gemeinde ohne Spezialfinanzierungen."]
["EK"]
["Schulden"]
["Schulden",null,"Keine Hinweise verfügbar."]
["Schulden"]
["Übersicht"]
["Übersicht",null,"Hinweise Übersicht"]
["Übersicht"]
["Übersicht",null,"Aufwertungsreserve"]
["Übersicht",null,"Aufgeteilte Darstellung von übr. Anlagen und Grundstücken."]
["Übersicht",null,"Geplante Entnahme aus Tabellenblättern Budget und Prognosen, abhängig von den erfassten Jahre im Tabellenblatt"]
["Übersicht",null,"Ausgangslage."]
["Übersicht",null,"Umbuchung der Aufwertungsreserve abhängig vom erfassten Jahr in der Ausgangslage (automatische Erfassung)."]
["Übersicht"]
["KZ"]
["KZ",null,"Keine Hinweise verfügbar."]
["KZ"]
["GRAFIKEN"]
["GRAFIKEN",null,"Keine Hinweise verfügbar."]
["GRAFIKEN"]
["Kat"]
["Kat",null,"Keine Hinweise verfügbar."]
["Kat"]

{"sheet":"Auswertungen für FA","index":19,"n_rows":221,"n_cols":13,"rows_kept":221,"merged":[[3,0,3,1],[5,0,5,1],[7,0,7,1],[9,0,9,1],[11,0,11,1],[13,0,13,1],[15,0,15,1],[17,0,17,1],[19,0,19,1],[21,0,21,1],[23,0,23,1],[25,0,25,1],[27,0,27,1],[29,0,29,1],[31,0,31,1],[33,0,33,1],[35,0,35,1],[37,0,37,1],[38,0,38,1],[39,0,39,1]]}
[{"$f":"\"Auswertungen für FA Aufgaben- und Finanzplanung \"&Ausgangslage!D5-1&\" - \"&Ausgangslage!D5+Ausgangslage!I5-1","v":"Auswertungen für FA Aufgaben- und Finanzplanung 2023 - 2033"}]
[]
[null,null,{"$f":"Ausgangslage!D5-1","v":2023},{"$f":"C3+1","v":2024},{"$f":"D3+1","v":2025},2026,2027,2028,2029,2030,2031,2032,{"$f":"L3+1","v":2033}]
["Einwohnerzahl",null,{"$f":"'Plan-ER'!D4","v":0},{"$f":"'Plan-ER'!E4","v":0},{"$f":"'Plan-ER'!F4","v":0},{"$f":"'Plan-ER'!G4","v":0},{"$f":"'Plan-ER'!H4","v":0},{"$f":"'Plan-ER'!I4","v":0},{"$f":"'Plan-ER'!J4","v":0},{"$f":"'Plan-ER'!K4","v":0},{"$f":"'Plan-ER'!L4","v":0},{"$f":"'Plan-ER'!M4","v":0},{"$f":"'Plan-ER'!N4","v":0}]
[]
["Steuerfuss",null,{"$f":"'Plan-ER'!D5","v":{"v":0,"d":"0%"}},{"$f":"'Plan-ER'!E5","v":{"v":0,"d":"0%"}},{"$f":"'Plan-ER'!F5","v":{"v":0,"d":"0%"}},{"$f":"'Plan-ER'!G5","v":{"v":0,"d":"0%"}},{"$f":"'Plan-ER'!H5","v":{"v":0,"d":"0%"}},{"$f":"'Plan-ER'!I5","v":{"v":0,"d":"0%"}},{"$f":"'Plan-ER'!J5","v":{"v":0,"d":"0%"}},{"$f":"'Plan-ER'!K5","v":{"v":0,"d":"0%"}},{"$f":"'Plan-ER'!L5","v":{"v":0,"d":"0%"}},{"$f":"'Plan-ER'!M5","v":{"v":0,"d":"0%"}},{"$f":"'Plan-ER'!N5","v":{"v":0,"d":"0%"}}]
[]
["Abschreibungen Verwaltungsvermögen (planmässige)",null,{"$f":"Übersicht!C10*1000","v":0},{"$f":"Übersicht!D10*1000","v":0},{"$f":"Übersicht!E10*1000","v":0},{"$f":"Übersicht!F10*1000","v":0},{"$f":"Übersicht!G10*1000","v":0},{"$f":"Übersicht!H10*1000","v":0},{"$f":"Übersicht!I10*1000","v":0},{"$f":"Übersicht!J10*1000","v":0},{"$f":"Übersicht!K10*1000","v":0},{"$f":"Übersicht!L10*1000","v":0},{"$f":"Übersicht!M10*1000","v":0}]
[]
["Operatives Ergebnis",null,{"$f":"Übersicht!C15*1000","v":0},{"$f":"Übersicht!D15*1000","v":0},{"$f":"Übersicht!E15*1000","v":0},{"$f":"Übersicht!F15*1000","v":0},{"$f":"Übersicht!G15*1000","v":0},{"$f":"Übersicht!H15*1000","v":0},{"$f":"Übersicht!I15*1000","v":0},{"$f":"Übersicht!J15*1000","v":0},{"$f":"Übersicht!K15*1000","v":0},{"$f":"Übersicht!L15*1000","v":0},{"$f":"Übersicht!M15*1000","v":0}]
[]
["Gesamtergebnis",null,{"$f":"Übersicht!C20*1000","v":0},{"$f":"Übersicht!D20*1000","v":0},{"$f":"Übersicht!E20*1000","v":0},{"$f":"Übersicht!F20*1000","v":0},{"$f":"Übersicht!G20*1000","v":0},{"$f":"Übersicht!H20*1000","v":0},{"$f":"Übersicht!I20*1000","v":0},{"$f":"Übersicht!J20*1000","v":0},{"$f":"Übersicht!K20*1000","v":0},{"$f":"Übersicht!L20*1000","v":0},{"$f":"Übersicht!M20*1000","v":0}]
[]
["Entnahme aus Aufwertungsreserve übr. Anlagen (.01)",null,{"$f":"Übersicht!C43*1000","v":0},{"$f":"Übersicht!D43*1000","v":0},{"$f":"Übersicht!E43*1000","v":0},{"$f":"Übersicht!F43*1000","v":0},{"$f":"Übersicht!G43*1000","v":0},{"$f":"Übersicht!H43*1000","v":0},{"$f":"Übersicht!I43*1000","v":0},{"$f":"Übersicht!J43*1000","v":0},{"$f":"Übersicht!K43*1000","v":0},{"$f":"Übersicht!L43*1000","v":0},{"$f":"Übersicht!M43*1000","v":0}]
[]
["Aufwertungsreserven (.01 und .02) Ende Jahr",null,{"$f":"Übersicht!C45*1000","v":0},{"$f":"Übersicht!D45*1000","v":0},{"$f":"Übersicht!E45*1000","v":0},{"$f":"Übersicht!F45*1000","v":0},{"$f":"Übersicht!G45*1000","v":0},{"$f":"Übersicht!H45*1000","v":0},{"$f":"Übersicht!I45*1000","v":0},{"$f":"Übersicht!J45*1000","v":0},{"$f":"Übersicht!K45*1000","v":0},{"$f":"Übersicht!L45*1000","v":0},{"$f":"Übersicht!M45*1000","v":0}]
[]
["Bilanzüberschuss/-fehlbetrag Ende Jahr",null,{"$f":"Übersicht!C52*1000","v":0},{"$f":"Übersicht!D52*1000","v":0},{"$f":"Übersicht!E52*1000","v":0},{"$f":"Übersicht!F52*1000","v":0},{"$f":"Übersicht!G52*1000","v":0},{"$f":"Übersicht!H52*1000","v":0},{"$f":"Übersicht!I52*1000","v":0},{"$f":"Übersicht!J52*1000","v":0},{"$f":"Übersicht!K52*1000","v":0},{"$f":"Übersicht!L52*1000","v":0},{"$f":"Übersicht!M52*1000","v":0}]
[]
["Nettoschuld I (+ = Schuld / - = Vermögen)",null,{"$f":"Übersicht!C55*1000","v":0},{"$f":"Übersicht!D55*1000","v":0},{"$f":"Übersicht!E55*1000","v":0},{"$f":"Übersicht!F55*1000","v":0},{"$f":"Übersicht!G55*1000","v":0},{"$f":"Übersicht!H55*1000","v":0},{"$f":"Übersicht!I55*1000","v":0},{"$f":"Übersicht!J55*1000","v":0},{"$f":"Übersicht!K55*1000","v":0},{"$f":"Übersicht!L55*1000","v":0},{"$f":"Übersicht!M55*1000","v":0}]
[]
["Nettoschuld I pro Einwohner",null,{"$f":"Übersicht!C56","v":0},{"$f":"Übersicht!D56","v":0},{"$f":"Übersicht!E56","v":0},{"$f":"Übersicht!F56","v":0},{"$f":"Übersicht!G56","v":0},{"$f":"Übersicht!H56","v":0},{"$f":"Übersicht!I56","v":0},{"$f":"Übersicht!J56","v":0},{"$f":"Übersicht!K56","v":0},{"$f":"Übersicht!L56","v":0},{"$f":"Übersicht!M56","v":0}]
[]
["Selbstfinanzierung",null,{"$f":"Übersicht!C28*1000","v":0},{"$f":"Übersicht!D28*1000","v":0},{"$f":"Übersicht!E28*1000","v":0},{"$f":"Übersicht!F28*1000","v":0},{"$f":"Übersicht!G28*1000","v":0},{"$f":"Übersicht!H28*1000","v":0},{"$f":"Übersicht!I28*1000","v":0},{"$f":"Übersicht!J28*1000","v":0},{"$f":"Übersicht!K28*1000","v":0},{"$f":"Übersicht!L28*1000","v":0},{"$f":"Übersicht!M28*1000","v":0}]
[]
["Nettoinvestitionen (+ = Ausgaben / - = Einnahmen)",null,{"$f":"-Übersicht!C27*1000","v":0},{"$f":"-Übersicht!D27*1000","v":0},{"$f":"-Übersicht!E27*1000","v":0},{"$f":"-Übersicht!F27*1000","v":0},{"$f":"-Übersicht!G27*1000","v":0},{"$f":"-Übersicht!H27*1000","v":0},{"$f":"-Übersicht!I27*1000","v":0},{"$f":"-Übersicht!J27*1000","v":0},{"$f":"-Übersicht!K27*1000","v":0},{"$f":"-Übersicht!L27*1000","v":0},{"$f":"-Übersicht!M27*1000","v":0}]
[]
["Selbstfinanzierungsgrad",null,{"$f":"KZ!C11","v":"keine I."},{"$f":"KZ!D11","v":"keine I."},{"$f":"KZ!E11","v":"keine I."},{"$f":"KZ!F11","v":"keine I."},{"$f":"KZ!G11","v":"keine I."},{"$f":"KZ!H11","v":"keine I."},{"$f":"KZ!I11","v":"keine I."},{"$f":"KZ!J11","v":"keine I."},{"$f":"KZ!K11","v":"keine I."},{"$f":"KZ!L11","v":"keine I."},{"$f":"KZ!M11","v":"keine I."}]
[]
[{"$f":"\"Selbstfinanzierungsgrad kumuliert Periode \" & C3 & \" - \" &G3","v":"Selbstfinanzierungsgrad kumuliert Periode 2023 - 2027"},null,null,{"$f":"IF(AND(SUM(C24:G24)=0,SUM(C26:G26)=0),0,SUM(C24:G24)/SUM(C26:G26))","v":{"v":0,"d":"0%"}}]
[]
["Laufender Ertrag",null,{"$f":"KZ!C15*1000","v":0},{"$f":"KZ!D15*1000","v":0},{"$f":"KZ!E15*1000","v":0},{"$f":"KZ!F15*1000","v":0},{"$f":"KZ!G15*1000","v":0},{"$f":"KZ!H15*1000","v":0},{"$f":"KZ!I15*1000","v":0},{"$f":"KZ!J15*1000","v":0},{"$f":"KZ!K15*1000","v":0},{"$f":"KZ!L15*1000","v":0},{"$f":"KZ!M15*1000","v":0}]
[]
["Selbstfinanzierungsanteil",null,{"$f":"KZ!C16","v":{"v":0,"d":"0%"}},{"$f":"KZ!D16","v":{"v":0,"d":"0%"}},{"$f":"KZ!E16","v":{"v":0,"d":"0%"}},{"$f":"KZ!F16","v":{"v":0,"d":"0%"}},{"$f":"KZ!G16","v":{"v":0,"d":"0%"}},{"$f":"KZ!H16","v":{"v":0,"d":"0%"}},{"$f":"KZ!I16","v":{"v":0,"d":"0%"}},{"$f":"KZ!J16","v":{"v":0,"d":"0%"}},{"$f":"KZ!K16","v":{"v":0,"d":"0%"}},{"$f":"KZ!L16","v":{"v":0,"d":"0%"}},{"$f":"KZ!M16","v":{"v":0,"d":"0%"}}]
[]
[{"$f":"\"Selbstfinanzierungsanteil kumuliert Periode \" & C3 & \" - \" & G3","v":"Selbstfinanzierungsanteil kumuliert Periode 2023 - 2027"},null,null,{"$f":"IF(AND(SUM(C24:G24)=0,SUM(C32:G32)=0),0,SUM(C24:G24)/SUM(C32:G32))","v":{"v":0,"d":"0%"}}]
[]
["Mittelfristiges Haushaltsgleichgewicht"]
["mit operativem Ergebnis gerechnet",null,null,{"$f":"Übersicht!D23","v":0}]
["mit Gesamtergebnis gerechnet",null,null,{"$f":"Übersicht!D24","v":0}]
{"$rows_empty":180}
["Version 7.3"]