{"text_format":"3","workbook":"xlsx","n_sheets":21,"sheets":["Start","0 - Vorhaben","D - Titelblatt","D - Das Wichtigste in Kuerze","D - Vorhaben","1 - Triage","1 - Daten","2a - Wirtschaft","2a - Daten","2b - Gesellschaft","2b - Daten","2c - Umwelt","2c - Daten","3a - Leitsaetze","3b - Abwaegung","D - Abwaegung","D - Triage","D - Wirtschaft","D - Gesellschaft","D - Umwelt","D - Leitsaetze"],"not_rendered":{"charts":35,"images":2,"macros":1,"defined_names":29},"read":"whole","date_system":"1900"}

{"sheet":"Start","index":0,"n_rows":49,"n_cols":8,"rows_kept":49,"merged":[[8,2,8,7],[10,2,10,7],[18,2,18,7],[20,2,20,7],[22,2,22,7],[24,1,24,3],[27,2,27,7],[29,2,29,7],[31,2,31,7],[33,2,33,7],[35,2,35,7],[37,2,37,7],[39,2,39,7],[41,2,41,7],[43,2,43,7]]}
[]
[{"$nulls":7},"Departement Bau, Verkehr und Umwelt"]
[]
[]
[null,"Checkliste Interessenabwägung Nachhaltigkeit"]
[null,"Version 17.2"]
[]
[]
[null,"Vorhaben"]
[]
[null,"Projektleiter/in"]
[]
[]
[null,"Grafikdarstellung",null," Rosettendiagramm",null," Rosettendiagramm vereinfacht",null," Balkendiagramm"]
[]
[{"$nulls":3}," Nur Wirkungen",null," Kurz- und langfristig"]
[]
[]
[null,"Version"]
[]
[null,"Datum"]
[]
[null,"Beurteiler"]
[]
[null,"Dokumentation erstellen"]
[]
[null,"Hinweise"]
[null,"Drucken","Sie können jedes Register einzeln drucken. Für die Gesamtdokumentation Ihrer Nachhaltigkeitsbeurteilung können Sie die Taste \"Dokumentation erstellen\" verwenden. Es wird Ihnen eine druckoptimierte Version mit zusätzlichen Erläuterungen zur Checkliste zusammengestellt."]
[]
[null,"Erläuterungen","Im separaten Dokument \"Checkliste_Nachhaltigkeit_Aargau_20141202_Erläuterungen.pdf\" finden Sie Erläuterungen zur Checkliste, wann und wie sie angewendet wird."]
[]
[null,"Grafik kopieren","Grafiken können Sie aus dem Register \"3b - Abwägung\" kopieren und z.B. in Worddateien überführen ohne den Blattschutz deaktivieren zu müssen."]
[]
[null,"Rosettendiagramm vereinfacht","Beim vereinfachten Rosettendiagramm wird bei den Grafiken die Beurteilungsskala -3 bis +3 in die Skala \n-/0/+ umgewandelt."]
[]
[null,"Blattschutz","Der Blattschutz schützt vor unbeabsichtigten Änderungen von Formeln. Das Passwort lautet \"ne\", falls Sie die Checkliste weiterbearbeiten möchten."]
[]
[null,"Zeilenumbruch","Um einen Zeilenumbruch innerhalb eines Feldes zu erzeugen halten Sie die Taste \"Alt\" und drücken zusätzlich die Eingabe- oder Entertaste."]
[]
[null,"Leere Checkliste","Eingetragene Werte oder Markierungen können mit der Taste \"Delete\" entfernt werden."]
[]
[null,"Geschwindigkeit","Nach Eingaben werden teilweise Anpassungen vorgenommen. Eine spürbare Wartezeit dürfte aber nur nach dem Ausfüllen des Titels des Vorhabens auftreten. Während dieser wird der Titel auf die Seiten übertragen, was einige Sekunden dauern kann. Die Erstellung der Dokumentation dauert ebenfalls einige Sekunden."]
[]
[null,"Excel-Version","Die Checkliste wurde entwickelt und geprüft für Excel 2010."]
[]
[null,"Die Checkliste Interessenabwägung Nachhaltigkeit wurde in Zusammenarbeit mit der Staatskanzlei entwickelt."]
[]
[null,"01.03.2023, Fachstelle Nachhaltigkeit Kanton Aargau"]
[null,"00.00.0000, nachhaltigkeit@ag.ch, 062 835 34 98"]

{"sheet":"0 - Vorhaben","index":1,"n_rows":54,"n_cols":13,"rows_kept":54,"merged":[[10,12,11,12],[14,12,15,12],[18,12,19,12],[22,12,23,12],[26,12,27,12],[30,12,31,12],[34,12,35,12],[38,12,39,12],[42,12,43,12],[46,12,47,12],[50,12,51,12],[54,1,54,12]]}
[]
[null,"Vorhaben"]
[null,"Frage: Sind der Inhalt, das Umfeld und die Organisation des Projekts ausreichend bekannt,"]
[null,null,"      um mögliche Auswirkungen auf die drei Dimensionen der Nachhaltigkeit beurteilen zu können?"]
[]
[]
[null,"Nr.","Teilfrage","Ja",null,null,"Nein",null,null,"Weiss",null,null,"Bemerkungen"]
[{"$nulls":9},"nicht"]
[]
[]
[null,"1.","Systemabgrenzung und Betrachtungshorizont"]
[null,null,"Sind die räumliche Systemabgrenzung, der zeitliche Betrachtungshorizont und die Referenzentwicklung definiert?\n"]
[]
[]
[null,"2.","Problem und Ziel"]
[null,null,"Sind Problemstellung und Zielsetzung klar erfasst? – Welches sind die wichtigsten Merkmale?"]
[]
[]
[null,"3.","Lösungsstrategie"]
[null,null,"Ist die Lösungsstrategie klar skizziert? – Welches sind ihre wichtigsten Merkmale?"]
[]
[]
[null,"4.","Vernetzung"]
[null,null,"Ist das Projekt mit übergeordneten Planungen kohärent? – Wie ist das Projekt in übergeordnete Strategien und bestehende Planungen eingebettet? "]
[]
[]
[null,"5.","Umfeldentwicklung"]
[null,null,"Berücksichtigt das Vorhaben äussere Einflüsse und Megatrends (z.B. den wirtschaftlichen Strukturwandel, die Digitalisierung, die Bevölkerungsentwicklung, die Auswirkungen des Klimawandels, etc.)?"]
[]
[]
[null,"6.","Verfahrensfragen"]
[null,null,"Sind alle Verfahrensfragen geklärt? – Wo steht das Vorhaben zur Zeit? (Idee, Auftrag, Problemanalyse, Vorstudie, Projekt, Realisierung, Betrieb)"]
[]
[]
[null,"7.","Projektorganisation"]
[null,null,"Ist die Projektorganisation klar? – Wie sieht sie aus?"]
[]
[]
[null,"8.","Auftraggeber"]
[null,null,"Wer ist Auftraggeber/in und inwiefern ist diese/r legitimiert?"]
[]
[]
[null,"9.","Kosten"]
[null,null,"Ist die finanzielle Beteiligung der öffentlichen Hand (Bund, Kantone, Gemeinden) – einschliesslich finanzieller Risiken und Folgekosten – bekannt?"]
[]
[]
[null,"10.","Vorgeschichte"]
[null,null,"Gibt es eine Vorgeschichte, die für das Verständnis des Vorhabens heute noch relevant ist? (z.B. Abstimmungen, Vorprojekte )"]
[]
[]
[null,"11.","Weiteres"]
[null,null,"Sind weitere Punkte zu beachten? – Welche?"]
[]
[null,"Fazit Vorhaben"]

{"sheet":"D - Titelblatt","index":2,"n_rows":1000,"n_cols":5,"rows_kept":1000,"hidden":true,"merged":[[44,2,44,3],[45,2,45,3],[46,2,46,3]]}
[]
[{"$nulls":3},"Departement Bau, Verkehr und Umwelt"]
{"$rows_empty":8}
[null,"Checkliste Interessenabwägung Nachhaltigkeit"]
[]
[]
[]
[null,{"$f":"IF(Start!C9<>\"\",Start!C9,\"\")","v":""}]
[]
[]
[]
[null,{"$f":"IF(Start!C19<>\"\",\"Version \" &Start!C19,\"\")","v":""}]
[]
[]
[]
[]
[]
[null,"Eine verbal-argumentative\nWirkungsabschätzung\nin den Dimensionen \nWirtschaft, Gesellschaft und Umwelt\nfür kantonale Vorhaben"]
{"$rows_empty":19}
[null,"Projektleiter:",{"$f":"IF(Start!C11<>\"\",Start!C11,\"\")","v":""}]
[null,"Datum:",{"$f":"IF(Start!C21<>\"\",Start!C21,\"\")","v":""}]
[null,"Beurteiler:",{"$f":"IF(Start!C23<>\"\",Start!C23,\"\")","v":""}]
[]
[]
[null,"Die Checkliste Interessenabwägung Nachhaltigkeit wurde in Zusammenarbeit mit der Staatskanzlei entwickelt."]
{"$rows_empty":949}
[{"$nulls":4},"A. Wolf"]

{"sheet":"D - Das Wichtigste in Kuerze","index":3,"n_rows":38,"n_cols":3,"rows_kept":38,"hidden":true}
[]
[null,"Die Checkliste Interessenabwägung Nachhaltigkeit - das Wichtigste in Kürze"]
[]
[null,"Was?\n(Beschrieb)","Die Checkliste Nachhaltigkeit\n• zeigt die Auswirkungen eines Projekts / Vorhabens auf die drei Dimensionen Wirtschaft, Gesellschaft und Umwelt.\n• vergleicht die Auswirkungen des Vorhabens unter der Annahme dessen vollständiger Umsetzung mit einer Referenzentwicklung ohne Vorhaben.  "]
[]
[null,"Wann?\n(Anwendungs-\nkriterien)","Die Checkliste Nachhaltigkeit wird angewendet bei Vorhaben, die\n• mehr als eine Dimension der Nachhaltigkeit betreffen, \n• eventuell Zielkonflikte beinhalten,\n• langfristige oder weiträumige Auswirkungen haben, \n• zahlreiche Akteure betreffen. "]
[]
[null,"Wozu?\n(Nutzen)","Die Anwendung der Checkliste Nachhaltigkeit ermöglicht:\n• eine Abschätzung, ob und wie ein Vorhaben zur nachhaltigen Entwicklung des Kantons (einer Gemeinde oder eines Betriebs) beiträgt. \n• das Aufzeigen von Stärken / Schwächen eines Vorhabens mit Hinweisen zur Optimierung.\n• das rechtzeitige Aufdecken von möglichen Risiken und Zielkonflikten.\n• die Ergänzung des Argumentariums für eine fundierte Entscheidungsfindung, z.B. im Rahmen von Botschaften an den Grossen Rat. \n• eine grafisch dargestellte Übersicht über die Wirkungen auf alle drei Dimensionen einer nachhaltigen Entwicklung."]
[]
[null,"Wie?\n(Vorgehen)","Die Anwendung der Checkliste Nachhaltigkeit \n• dauert 2 bis 4 Stunden.\n• erfolgt bevorzugt im Rahmen einer Diskussion, unter Teilnahme des Projektteams und eventuell weiteren Fachpersonen.\n• Wird idealerweise von der Fachstelle Nachhaltigkeit des Naturama begleitet. Die Fachstelle übernimmt die Vor- und schriftliche Nachbereitung der Beurteilung und moderiert die Anwendung. Für die kantonale Verwaltung ist diese Begleitung kostenlos. "]
[]
[null,"Ablaufschema"]
{"$rows_empty":23}
[null,null,"Die Checkliste Nachhaltigkeit basiert auf den 30 Themenbereichen des vierten Berichts Nachhaltige Entwicklung im Kanton Aargau (2016)."]
[]
[null,"Download","Checkliste Nachhaltigkeit und vierter Nachhaltigkeitsbericht:\nhttp://www.naturama.ch/nachhaltigkeit/index.cfm"]

{"sheet":"D - Vorhaben","index":4,"n_rows":55,"n_cols":13,"rows_kept":55,"hidden":true,"merged":[[10,12,11,12],[14,12,15,12],[18,12,19,12],[22,12,23,12],[26,12,27,12],[30,12,31,12],[34,12,35,12],[38,12,39,12],[42,12,43,12],[46,12,47,12],[50,12,51,12],[54,1,54,12]]}
[]
[null,{"$f":"'0 - Vorhaben'!B2","v":"Vorhaben"}]
[null,"Frage: Sind die Auswirkungen des Vorhabens ausreichend bekannt, um sie mit den Zielen einer nachhaltigen Entwicklung"]
[null,"Frage: vergleichen zu können?"]
[]
[]
[null,{"$f":"'0 - Vorhaben'!B7","v":"Nr."},{"$f":"'0 - Vorhaben'!C7","v":"Teilfrage"},{"$f":"'0 - Vorhaben'!D7","v":"Ja"},null,null,{"$f":"'0 - Vorhaben'!G7","v":"Nein"},null,null,{"$f":"'0 - Vorhaben'!J7","v":"Weiss"},null,null,{"$f":"'0 - Vorhaben'!M7","v":"Bemerkungen"}]
[{"$nulls":9},{"$f":"'0 - Vorhaben'!J8","v":"nicht"}]
[]
[]
[null,{"$f":"'0 - Vorhaben'!B11","v":"1."},{"$f":"'0 - Vorhaben'!C11","v":"Systemabgrenzung und Betrachtungshorizont"},null,{"$f":"IF('0 - Vorhaben'!E11<>\"\",'0 - Vorhaben'!E11,\"\")","v":""},null,null,{"$f":"IF('0 - Vorhaben'!H11<>\"\",'0 - Vorhaben'!H11,\"\")","v":""},null,null,{"$f":"IF('0 - Vorhaben'!K11<>\"\",'0 - Vorhaben'!K11,\"\")","v":""},null,{"$f":"IF('0 - Vorhaben'!M11<>\"\",'0 - Vorhaben'!M11,\"\")","v":""}]
[null,null,{"$f":"'0 - Vorhaben'!C12","v":"Sind die räumliche Systemabgrenzung, der zeitliche Betrachtungshorizont und die Referenzentwicklung definiert?\n"},{"$nulls":9},{"$f":"IF('0 - Vorhaben'!M12<>\"\",'0 - Vorhaben'!M12,\"\")","v":""}]
[]
[]
[null,{"$f":"'0 - Vorhaben'!B15","v":"2."},{"$f":"'0 - Vorhaben'!C15","v":"Problem und Ziel"},null,{"$f":"IF('0 - Vorhaben'!E15<>\"\",'0 - Vorhaben'!E15,\"\")","v":""},null,null,{"$f":"IF('0 - Vorhaben'!H15<>\"\",'0 - Vorhaben'!H15,\"\")","v":""},null,null,{"$f":"IF('0 - Vorhaben'!K15<>\"\",'0 - Vorhaben'!K15,\"\")","v":""},null,{"$f":"IF('0 - Vorhaben'!M15<>\"\",'0 - Vorhaben'!M15,\"\")","v":""}]
[null,null,{"$f":"'0 - Vorhaben'!C16","v":"Sind Problemstellung und Zielsetzung klar erfasst? – Welches sind die wichtigsten Merkmale?"},{"$nulls":9},{"$f":"IF('0 - Vorhaben'!M16<>\"\",'0 - Vorhaben'!M16,\"\")","v":""}]
[]
[]
[null,{"$f":"'0 - Vorhaben'!B19","v":"3."},{"$f":"'0 - Vorhaben'!C19","v":"Lösungsstrategie"},null,{"$f":"IF('0 - Vorhaben'!E19<>\"\",'0 - Vorhaben'!E19,\"\")","v":""},null,null,{"$f":"IF('0 - Vorhaben'!H19<>\"\",'0 - Vorhaben'!H19,\"\")","v":""},null,null,{"$f":"IF('0 - Vorhaben'!K19<>\"\",'0 - Vorhaben'!K19,\"\")","v":""},null,{"$f":"IF('0 - Vorhaben'!M19<>\"\",'0 - Vorhaben'!M19,\"\")","v":""}]
[null,null,{"$f":"'0 - Vorhaben'!C20","v":"Ist die Lösungsstrategie klar skizziert? – Welches sind ihre wichtigsten Merkmale?"},{"$nulls":9},{"$f":"IF('0 - Vorhaben'!M20<>\"\",'0 - Vorhaben'!M20,\"\")","v":""}]
[]
[]
[null,{"$f":"'0 - Vorhaben'!B23","v":"4."},{"$f":"'0 - Vorhaben'!C23","v":"Vernetzung"},null,{"$f":"IF('0 - Vorhaben'!E23<>\"\",'0 - Vorhaben'!E23,\"\")","v":""},null,null,{"$f":"IF('0 - Vorhaben'!H23<>\"\",'0 - Vorhaben'!H23,\"\")","v":""},null,null,{"$f":"IF('0 - Vorhaben'!K23<>\"\",'0 - Vorhaben'!K23,\"\")","v":""},null,{"$f":"IF('0 - Vorhaben'!M23<>\"\",'0 - Vorhaben'!M23,\"\")","v":""}]
[null,null,{"$f":"'0 - Vorhaben'!C24","v":"Ist das Projekt mit übergeordneten Planungen kohärent? – Wie ist das Projekt in übergeordnete Strategien und bestehende Planungen eingebettet? "},{"$nulls":9},{"$f":"IF('0 - Vorhaben'!M24<>\"\",'0 - Vorhaben'!M24,\"\")","v":""}]
[]
[]
[null,{"$f":"'0 - Vorhaben'!B27","v":"5."},{"$f":"'0 - Vorhaben'!C27","v":"Umfeldentwicklung"},null,{"$f":"IF('0 - Vorhaben'!E27<>\"\",'0 - Vorhaben'!E27,\"\")","v":""},null,null,{"$f":"IF('0 - Vorhaben'!H27<>\"\",'0 - Vorhaben'!H27,\"\")","v":""},null,null,{"$f":"IF('0 - Vorhaben'!K27<>\"\",'0 - Vorhaben'!K27,\"\")","v":""},null,{"$f":"IF('0 - Vorhaben'!M27<>\"\",'0 - Vorhaben'!M27,\"\")","v":""}]
[null,null,{"$f":"'0 - Vorhaben'!C28","v":"Berücksichtigt das Vorhaben äussere Einflüsse und Megatrends (z.B. den wirtschaftlichen Strukturwandel, die Digitalisierung, die Bevölkerungsentwicklung, die Auswirkungen des Klimawandels, etc.)?"},{"$nulls":9},{"$f":"IF('0 - Vorhaben'!M28<>\"\",'0 - Vorhaben'!M28,\"\")","v":""}]
[]
[]
[null,{"$f":"'0 - Vorhaben'!B31","v":"6."},{"$f":"'0 - Vorhaben'!C31","v":"Verfahrensfragen"},null,{"$f":"IF('0 - Vorhaben'!E31<>\"\",'0 - Vorhaben'!E31,\"\")","v":""},null,null,{"$f":"IF('0 - Vorhaben'!H31<>\"\",'0 - Vorhaben'!H31,\"\")","v":""},null,null,{"$f":"IF('0 - Vorhaben'!K31<>\"\",'0 - Vorhaben'!K31,\"\")","v":""},null,{"$f":"IF('0 - Vorhaben'!M31<>\"\",'0 - Vorhaben'!M31,\"\")","v":""}]
[null,null,{"$f":"'0 - Vorhaben'!C32","v":"Sind alle Verfahrensfragen geklärt? – Wo steht das Vorhaben zur Zeit? (Idee, Auftrag, Problemanalyse, Vorstudie, Projekt, Realisierung, Betrieb)"},{"$nulls":9},{"$f":"IF('0 - Vorhaben'!M32<>\"\",'0 - Vorhaben'!M32,\"\")","v":""}]
[]
[]
[null,{"$f":"'0 - Vorhaben'!B35","v":"7."},{"$f":"'0 - Vorhaben'!C35","v":"Projektorganisation"},null,{"$f":"IF('0 - Vorhaben'!E35<>\"\",'0 - Vorhaben'!E35,\"\")","v":""},null,null,{"$f":"IF('0 - Vorhaben'!H35<>\"\",'0 - Vorhaben'!H35,\"\")","v":""},null,null,{"$f":"IF('0 - Vorhaben'!K35<>\"\",'0 - Vorhaben'!K35,\"\")","v":""},null,{"$f":"IF('0 - Vorhaben'!M35<>\"\",'0 - Vorhaben'!M35,\"\")","v":""}]
[null,null,{"$f":"'0 - Vorhaben'!C36","v":"Ist die Projektorganisation klar? – Wie sieht sie aus?"},{"$nulls":9},{"$f":"IF('0 - Vorhaben'!M36<>\"\",'0 - Vorhaben'!M36,\"\")","v":""}]
[]
[]
[null,{"$f":"'0 - Vorhaben'!B39","v":"8."},{"$f":"'0 - Vorhaben'!C39","v":"Auftraggeber"},null,{"$f":"IF('0 - Vorhaben'!E39<>\"\",'0 - Vorhaben'!E39,\"\")","v":""},null,null,{"$f":"IF('0 - Vorhaben'!H39<>\"\",'0 - Vorhaben'!H39,\"\")","v":""},null,null,{"$f":"IF('0 - Vorhaben'!K39<>\"\",'0 - Vorhaben'!K39,\"\")","v":""},null,{"$f":"IF('0 - Vorhaben'!M39<>\"\",'0 - Vorhaben'!M39,\"\")","v":""}]
[null,null,{"$f":"'0 - Vorhaben'!C40","v":"Wer ist Auftraggeber/in und inwiefern ist diese/r legitimiert?"},{"$nulls":9},{"$f":"IF('0 - Vorhaben'!M40<>\"\",'0 - Vorhaben'!M40,\"\")","v":""}]
[]
[]
[null,{"$f":"'0 - Vorhaben'!B43","v":"9."},{"$f":"'0 - Vorhaben'!C43","v":"Kosten"},null,{"$f":"IF('0 - Vorhaben'!E43<>\"\",'0 - Vorhaben'!E43,\"\")","v":""},null,null,{"$f":"IF('0 - Vorhaben'!H43<>\"\",'0 - Vorhaben'!H43,\"\")","v":""},null,null,{"$f":"IF('0 - Vorhaben'!K43<>\"\",'0 - Vorhaben'!K43,\"\")","v":""},null,{"$f":"IF('0 - Vorhaben'!M43<>\"\",'0 - Vorhaben'!M43,\"\")","v":""}]
[null,null,{"$f":"'0 - Vorhaben'!C44","v":"Ist die finanzielle Beteiligung der öffentlichen Hand (Bund, Kantone, Gemeinden) – einschliesslich finanzieller Risiken und Folgekosten – bekannt?"},{"$nulls":9},{"$f":"IF('0 - Vorhaben'!M44<>\"\",'0 - Vorhaben'!M44,\"\")","v":""}]
[]
[]
[null,{"$f":"'0 - Vorhaben'!B47","v":"10."},{"$f":"'0 - Vorhaben'!C47","v":"Vorgeschichte"},null,{"$f":"IF('0 - Vorhaben'!E47<>\"\",'0 - Vorhaben'!E47,\"\")","v":""},null,null,{"$f":"IF('0 - Vorhaben'!H47<>\"\",'0 - Vorhaben'!H47,\"\")","v":""},null,null,{"$f":"IF('0 - Vorhaben'!K47<>\"\",'0 - Vorhaben'!K47,\"\")","v":""},null,{"$f":"IF('0 - Vorhaben'!M47<>\"\",'0 - Vorhaben'!M47,\"\")","v":""}]
[null,null,{"$f":"'0 - Vorhaben'!C48","v":"Gibt es eine Vorgeschichte, die für das Verständnis des Vorhabens heute noch relevant ist? (z.B. Abstimmungen, Vorprojekte )"},{"$nulls":9},{"$f":"IF('0 - Vorhaben'!M48<>\"\",'0 - Vorhaben'!M48,\"\")","v":""}]
[]
[]
[null,{"$f":"'0 - Vorhaben'!B51","v":"11."},{"$f":"'0 - Vorhaben'!C51","v":"Weiteres"},null,{"$f":"IF('0 - Vorhaben'!E51<>\"\",'0 - Vorhaben'!E51,\"\")","v":""},null,null,{"$f":"IF('0 - Vorhaben'!H51<>\"\",'0 - Vorhaben'!H51,\"\")","v":""},null,null,{"$f":"IF('0 - Vorhaben'!K51<>\"\",'0 - Vorhaben'!K51,\"\")","v":""},null,{"$f":"IF('0 - Vorhaben'!M51<>\"\",'0 - Vorhaben'!M51,\"\")","v":""}]
[null,null,{"$f":"'0 - Vorhaben'!C52","v":"Sind weitere Punkte zu beachten? – Welche?"},{"$nulls":9},{"$f":"IF('0 - Vorhaben'!M52<>\"\",'0 - Vorhaben'!M52,\"\")","v":""}]
[]
[null,{"$f":"'0 - Vorhaben'!B54","v":"Fazit Vorhaben"}]
[null,{"$f":"IF('0 - Vorhaben'!B55<>\"\",'0 - Vorhaben'!B55,\"\")","v":""},{"$f":"IF('0 - Vorhaben'!C55<>\"\",'0 - Vorhaben'!C55,\"\")","v":""},{"$f":"IF('0 - Vorhaben'!D55<>\"\",'0 - Vorhaben'!D55,\"\")","v":""},{"$f":"IF('0 - Vorhaben'!E55<>\"\",'0 - Vorhaben'!E55,\"\")","v":""},{"$f":"IF('0 - Vorhaben'!F55<>\"\",'0 - Vorhaben'!F55,\"\")","v":""},{"$f":"IF('0 - Vorhaben'!G55<>\"\",'0 - Vorhaben'!G55,\"\")","v":""},{"$f":"IF('0 - Vorhaben'!H55<>\"\",'0 - Vorhaben'!H55,\"\")","v":""},{"$f":"IF('0 - Vorhaben'!I55<>\"\",'0 - Vorhaben'!I55,\"\")","v":""},{"$f":"IF('0 - Vorhaben'!J55<>\"\",'0 - Vorhaben'!J55,\"\")","v":""},{"$f":"IF('0 - Vorhaben'!K55<>\"\",'0 - Vorhaben'!K55,\"\")","v":""},{"$f":"IF('0 - Vorhaben'!L55<>\"\",'0 - Vorhaben'!L55,\"\")","v":""},{"$f":"IF('0 - Vorhaben'!M55<>\"\",'0 - Vorhaben'!M55,\"\")","v":""}]

{"sheet":"1 - Triage","index":5,"n_rows":74,"n_cols":12,"rows_kept":74,"merged":[[11,11,12,11],[13,11,14,11],[15,11,16,11],[20,11,21,11],[22,11,23,11],[27,11,28,11],[29,11,30,11],[34,11,35,11],[36,11,37,11],[38,11,39,11],[43,11,44,11],[45,11,46,11],[47,11,48,11],[49,11,50,11],[54,11,55,11],[56,11,57,11],[60,1,60,11],[63,9,64,11],[65,9,66,11]]}
[]
[null,"Triage"]
[null,"Frage: Ist es sinnvoll, die Checkliste für das vorliegende Vorhaben anzuwenden?"]
[{"$nulls":4},0,null,1,null,2]
[]
[]
[null,"Fragenkomplex",null,null,"Nachhaltigkeitsrelevanz",{"$nulls":6},"Bemerkungen"]
[null,"Nr.","Teilfrage",null,"Gering",null,"Mittel",null,"Hoch"]
[]
[]
[null,"Vernetzung, Komplexität (grobe Abschätzung)"]
[null,"1.","Wie stark ist die Dimension Wirtschaft",null,null," Gering",null," Mittel",null," Stark"]
[null,null,"vom Vorhaben betroffen?"]
[null,"2.","Wie stark ist die Dimension ",null,null," Gering",null," Mittel",null," Stark"]
[null,null,"Gesellschaft vom Vorhaben betroffen?"]
[null,"3.","Wie stark ist die Dimension Umwelt",null,null," Gering",null," Mittel",null," Stark"]
[null,null,"vom Vorhaben betroffen?"]
[]
[]
[null,"Zielkonflikte"]
[null,"4.","Bestehen innerhalb des Vorhabens",null,null," Nein",null," Schwache",null," Starke"]
[null,null,"Zielkonflikte?"]
[null,"5.","Wird der Umgang mit diesen",null,null," Ja",null," Teilweise",null," Nein"]
[null,null,"Zielkonflikten geregelt?"]
[]
[]
[null,"Systemgrenzen Zeit und Raum"]
[null,"6.","Wie lange wirkt das Vorhaben?",null,null," Kurz",null," Mittel",null," Lang"]
[{"$nulls":5}," (<3 Jahre)",null," (<10 Jahre)",null," (>10 Jahre)"]
[null,"7.","Wie gross ist der vom Vorhaben mittel",null,null," Lokal",null," Regional",null," Überregional"]
[null,null,"bis stark betroffene Raum?",null,null," Kommunal",null," Kantonal",null," National"]
[]
[]
[null,"Alternativen"]
[null,"8.","Wie gross sind die direkten",null,null," Gering",null," Mittel",null," Gross"]
[null,null,"Auswirkungen einer Nicht-Realisierung des Vorhabens?"]
[null,"9.","Ist ein Ausstieg aus dem Vorhaben auf",null,null," Ja",null," Erschwert",null," Nein"]
[null,null,"einfache Weise möglich?"]
[null,"10.","Kann das Vorhaben auf Änderungen",null,null," Flexibel",null," Teilweise",null," Sachzwänge"]
[null,null,"flexibel reagieren oder schafft es Sachzwänge (z.B. Bauvorhaben)?"]
[]
[]
[null,"Akteure"]
[null,"11.","Wie viele Personen sind vom Vorhaben",null,null," Wenige",null," Mittel",null," Viele"]
[null,null,"direkt betroffen?",null,null," (Dutzende)",null,"(Hunderte)",null," (Tausende)"]
[null,"12.","Wie breit ist die Information / Beteiligung",null,null," Breit",null," Mittel",null," Gering"]
[null,null,"der direkt betroffenen Personen?"]
[null,"13.","Gibt es eine Gegnerschaft gegen",null,null," Nein",null," Möglich",null," Ja"]
[null,null,"das Vorhaben?"]
[null,"14.","Gibt es eine Partnerschaft?",null,null," Ja",null," Möglich",null," Nein"]
[]
[]
[]
[null,"Politik und Finanzen"]
[null,"15.","Wie gross ist das öffentliche oder",null,null," Normal",null," Erhöht",null," Gross"]
[null,null,"politische Interesse am Vorhaben?"]
[null,"16.","Wie gross ist die finanzielle Beteiligung",null,null," Gering",null," Mittel",null," Gross"]
[null,null,"des Kantons?",null,null," (<2 Mio. Fr.)",{"$nulls":3}," (>10 Mio. Fr.)"]
[]
[null,"Fazit Triage"]
[]
[]
[null,"Nachhaltigkeitsrelevanz"]
[{"$nulls":9},{"$f":"IF(B74>=8,\"Mindestens eine Themengruppe liegt am oder über dem Schwellenwert von 8 Punkten.\",\"Keine Themengruppe liegt beim Schwellenwert von 8 Punkten.\")","v":"Keine Themengruppe liegt beim Schwellenwert von 8 Punkten."}]
[]
[{"$nulls":9},{"$f":"IF(B74>=8,\"Es wird eine detaillierte Nachhaltigkeitsbeurteilung empfohlen.\",\"Eine detaillierte Nachhaltigkeitsbeurteilung ist nicht notwendig.\")","v":"Eine detaillierte Nachhaltigkeitsbeurteilung ist nicht notwendig."}]
{"$rows_empty":7}
[null,{"$f":"'1 - Daten'!F8","v":0}]

{"sheet":"1 - Daten","index":6,"n_rows":17,"n_cols":6,"rows_kept":17,"hidden":true}
["Frage","Gewichtung"]
[16,3,{"$f":"SUMPRODUCT(('1 - Triage'!E57:I57=\"X\")*('1 - Triage'!$E$4:$I$4))*B2","v":0},null,{"$f":"'1 - Triage'!B54","v":"Politik und Finanzen"},{"$f":"SUM(C2:C3)","v":0}]
[15,3,{"$f":"SUMPRODUCT(('1 - Triage'!E55:I55=\"X\")*('1 - Triage'!$E$4:$I$4))*B3","v":0},null,{"$f":"'1 - Triage'!B43","v":"Akteure"},{"$f":"SUM(C4:C7)","v":0}]
[14,1,{"$f":"SUMPRODUCT(('1 - Triage'!E50:I50=\"X\")*('1 - Triage'!$E$4:$I$4))*B4","v":0},null,{"$f":"'1 - Triage'!B34","v":"Alternativen"},{"$f":"SUM(C8:C10)","v":0}]
[13,2,{"$f":"SUMPRODUCT(('1 - Triage'!E48:I48=\"X\")*('1 - Triage'!$E$4:$I$4))*B5","v":0},null,{"$f":"'1 - Triage'!B27","v":"Systemgrenzen Zeit und Raum"},{"$f":"SUM(C11:C12)","v":0}]
[12,1,{"$f":"SUMPRODUCT(('1 - Triage'!E46:I46=\"X\")*('1 - Triage'!$E$4:$I$4))*B6","v":0},null,{"$f":"'1 - Triage'!B20","v":"Zielkonflikte"},{"$f":"SUM(C13:C14)","v":0}]
[11,2,{"$f":"SUMPRODUCT(('1 - Triage'!E44:I44=\"X\")*('1 - Triage'!$E$4:$I$4))*B7","v":0},null,{"$f":"'1 - Triage'!B11","v":"Vernetzung, Komplexität (grobe Abschätzung)"},{"$f":"SUM(C15:C17)","v":0}]
[10,2,{"$f":"SUMPRODUCT(('1 - Triage'!E39:I39=\"X\")*('1 - Triage'!$E$4:$I$4))*B8","v":0},null,"Maximalwert",{"$f":"MAX(F2:F7)","v":0}]
[9,2,{"$f":"SUMPRODUCT(('1 - Triage'!E37:I37=\"X\")*('1 - Triage'!$E$4:$I$4))*B9","v":0}]
[8,2,{"$f":"SUMPRODUCT(('1 - Triage'!E35:I35=\"X\")*('1 - Triage'!$E$4:$I$4))*B10","v":0}]
[7,3,{"$f":"SUMPRODUCT(('1 - Triage'!E30:I30=\"X\")*('1 - Triage'!$E$4:$I$4))*B11","v":0}]
[6,3,{"$f":"SUMPRODUCT(('1 - Triage'!E28:I28=\"X\")*('1 - Triage'!$E$4:$I$4))*B12","v":0}]
[5,3,{"$f":"SUMPRODUCT(('1 - Triage'!E23:I23=\"X\")*('1 - Triage'!$E$4:$I$4))*B13","v":0}]
[4,3,{"$f":"SUMPRODUCT(('1 - Triage'!E21:I21=\"X\")*('1 - Triage'!$E$4:$I$4))*B14","v":0}]
[3,2,{"$f":"SUMPRODUCT(('1 - Triage'!E16:I16=\"X\")*('1 - Triage'!$E$4:$I$4))*B15","v":0}]
[2,2,{"$f":"SUMPRODUCT(('1 - Triage'!E14:I14=\"X\")*('1 - Triage'!$E$4:$I$4))*B16","v":0}]
[1,2,{"$f":"SUMPRODUCT(('1 - Triage'!E12:I12=\"X\")*('1 - Triage'!$E$4:$I$4))*B17","v":0}]

{"sheet":"2a - Wirtschaft","index":7,"n_rows":60,"n_cols":14,"rows_kept":60,"merged":[[10,4,11,4],[10,13,12,13],[11,2,12,2],[15,4,16,4],[15,13,17,13],[16,2,17,2],[20,4,21,4],[20,13,22,13],[21,2,22,2],[25,4,26,4],[25,13,27,13],[26,2,27,2],[30,4,31,4],[30,13,32,13],[31,2,32,2],[35,4,36,4],[35,13,37,13],[36,2,37,2],[40,4,41,4],[40,13,42,13],[41,2,42,2],[45,4,46,4],[45,13,47,13],[46,2,47,2],[50,4,51,4],[50,13,52,13],[51,2,52,2],[55,4,56,4],[55,13,57,13],[56,2,57,2],[60,1,60,13]]}
[]
[null,"Detailabklärungen Dimension Wirtschaft"]
[null,"Frage: Welche Auswirkungen hat das Vorhaben auf die Themenbereiche der Dimension Wirtschaft?"]
[]
[]
[null,"Nr.","Teilfrage",null,"Keine","Kurzfristig",{"$nulls":7},"Bemerkungen"]
[{"$nulls":4},"Relevanz","Langfristig"]
[{"$nulls":5},-3,-2,-1,0,1,2,3]
[]
[]
[null,"1.","Wirtschaftliche Leistungsfähigkeit"]
[null,null,"Das Vorhaben sichert und steigert die ökonomische Leistungsfähigkeit. Dabei fördert das Vorhaben insbesondere das qualitative Wachstum."]
[]
[]
[]
[null,"2.","Standortattraktivität"]
[null,null,"Das Vorhaben sichert und steigert die Standortattraktivität (harte und weiche Faktoren) für Unternehmen, insbesondere für wertschöpfungsstarke Unternehmen mit geringem Ressourcenverbrauch."]
[]
[]
[]
[null,"3.","Innovation"]
[null,null,"Das Vorhaben sichert und steigert die Innovationskraft der Wirtschaft (z.B. Patente, Beschäftigte in innovativen Branchen, Entwicklung der Exporte, zukunftsweisende Wirtschaftsmodelle).\n\n"]
[]
[]
[]
[null,"4.","Finanzielle Wohnattraktivität"]
[null,null,"Das Vorhaben sichert und steigert die finanzielle Wohnattraktivität (z.B. durch günstigen Wohnraum) und fördert insbesondere ein überdurchschnittliches frei verfügbares Einkommen.\n"]
[]
[]
[]
[null,"5.","Arbeitsmarkt"]
[null,null,"Das Vorhaben erhält und schafft Arbeitsplätze, vermindert die Arbeitslosigkeit, fördert eine hohe Erwerbsquote und ermöglicht eine sinnstiftende Beschäftigung."]
[]
[]
[]
[null,"6.","Infrastrukturen und Investitionen"]
[null,null,"Das Vorhaben sichert die Infrastrukturen für kommende Generationen und fördert ihre optimale Bewirtschaftung."]
[]
[]
[]
[null,"7.","Effizienter Einsatz natürlicher Ressourcen"]
[null,null,"Das Vorhaben vermindert den Energie- und Materialaufwand bezogen auf die wirtschaftliche Leistung (Energie- und Materialeffizienz).\n\n"]
[]
[]
[]
[null,"8.","Öffentlicher Haushalt Kanton und Gemeinden"]
[null,null,"Das Vorhaben trägt zum Ausgleich des öffentlichen Haushaltes bei und reduziert die Schulden (z.B. durch Erhöhung des Steuersubstrates oder der Ausgabenminderung).\n\n\n\n"]
[]
[]
[]
[null,"9.","Steuern und Gebühren"]
[null,null,"Das Vorhaben optimiert die Steuerbelastung für natürliche und juristische Personen im Spannungsfeld Ertrag-Attraktivität und fördert verursachergerechte Gebühren. \n\n\n\n\n\n\n"]
[]
[]
[]
[null,"10.","Leistungsfähiger Staat"]
[null,null,"Das Vorhaben sichert und steigert die Leistungsfähigkeit (Wirtschaftlichkeit und Wirksamkeit) des Staats."]
[]
[]
[null,"Fazit Wirtschaft"]

{"sheet":"2a - Daten","index":8,"n_rows":21,"n_cols":6,"rows_kept":21,"hidden":true}
[null,{"$f":"SUMPRODUCT(('2a - Wirtschaft'!F11:L11=\"X\")*('2a - Wirtschaft'!$F$8:$L$8))","v":0},{"$f":"SUMPRODUCT(('2a - Wirtschaft'!F12:L12=\"X\")*('2a - Wirtschaft'!$F$8:$L$8))","v":0},0,{"$f":"IF(B1>=0,IF(B1=0,0,1),-1)","v":0},{"$f":"IF(C1>=0,IF(C1=0,0,1),-1)","v":0}]
[null,{"$f":"SUMPRODUCT(('2a - Wirtschaft'!F16:L16=\"X\")*('2a - Wirtschaft'!$F$8:$L$8))","v":0},{"$f":"SUMPRODUCT(('2a - Wirtschaft'!F17:L17=\"X\")*('2a - Wirtschaft'!$F$8:$L$8))","v":0},0,{"$f":"IF(B2>=0,IF(B2=0,0,1),-1)","v":0},0]
[{"$f":"'2a - Wirtschaft'!C21","v":"Innovation"},{"$f":"SUMPRODUCT(('2a - Wirtschaft'!F21:L21=\"X\")*('2a - Wirtschaft'!$F$8:$L$8))","v":0},{"$f":"SUMPRODUCT(('2a - Wirtschaft'!F22:L22=\"X\")*('2a - Wirtschaft'!$F$8:$L$8))","v":0},0,0,0]
["Finanzielle Wohn-attraktivität",{"$f":"SUMPRODUCT(('2a - Wirtschaft'!F26:L26=\"X\")*('2a - Wirtschaft'!$F$8:$L$8))","v":0},{"$f":"SUMPRODUCT(('2a - Wirtschaft'!F27:L27=\"X\")*('2a - Wirtschaft'!$F$8:$L$8))","v":0},0,0,0]
["Arbeitsmarkt",{"$f":"SUMPRODUCT(('2a - Wirtschaft'!F31:L31=\"X\")*('2a - Wirtschaft'!$F$8:$L$8))","v":0},{"$f":"SUMPRODUCT(('2a - Wirtschaft'!F32:L32=\"X\")*('2a - Wirtschaft'!$F$8:$L$8))","v":0},0,0,0]
[null,{"$f":"SUMPRODUCT(('2a - Wirtschaft'!F36:L36=\"X\")*('2a - Wirtschaft'!$F$8:$L$8))","v":0},{"$f":"SUMPRODUCT(('2a - Wirtschaft'!F37:L37=\"X\")*('2a - Wirtschaft'!$F$8:$L$8))","v":0},0,0,0]
["Ressourcen-effizienz",{"$f":"SUMPRODUCT(('2a - Wirtschaft'!F41:L41=\"X\")*('2a - Wirtschaft'!$F$8:$L$8))","v":0},{"$f":"SUMPRODUCT(('2a - Wirtschaft'!F42:L42=\"X\")*('2a - Wirtschaft'!$F$8:$L$8))","v":0},0,0,0]
["Öffentlicher Haushalt",{"$f":"SUMPRODUCT(('2a - Wirtschaft'!F46:L46=\"X\")*('2a - Wirtschaft'!$F$8:$L$8))","v":0},{"$f":"SUMPRODUCT(('2a - Wirtschaft'!F47:L47=\"X\")*('2a - Wirtschaft'!$F$8:$L$8))","v":0},0,0,0]
["Steuern / Gebühren",{"$f":"SUMPRODUCT(('2a - Wirtschaft'!F51:L51=\"X\")*('2a - Wirtschaft'!$F$8:$L$8))","v":0},{"$f":"SUMPRODUCT(('2a - Wirtschaft'!F52:L52=\"X\")*('2a - Wirtschaft'!$F$8:$L$8))","v":0},0,0,0]
[null,{"$f":"SUMPRODUCT(('2a - Wirtschaft'!F56:L56=\"X\")*('2a - Wirtschaft'!$F$8:$L$8))","v":0},{"$f":"SUMPRODUCT(('2a - Wirtschaft'!F57:L57=\"X\")*('2a - Wirtschaft'!$F$8:$L$8))","v":0},0,0,0]
[]
[{"$f":"'2a - Wirtschaft'!C56","v":"Leistungsfähiger Staat"},{"$f":"B10","v":0},{"$f":"C10","v":0}]
[{"$f":"A9","v":"Steuern / Gebühren"},{"$f":"B9","v":0},{"$f":"C9","v":0}]
[{"$f":"A8","v":"Öffentlicher Haushalt"},{"$f":"B8","v":0},{"$f":"C8","v":0}]
["Ressourceneffizienz",{"$f":"B7","v":0},{"$f":"C7","v":0}]
["Infrastrukturen / Investitionen",{"$f":"B6","v":0},{"$f":"C6","v":0}]
[{"$f":"A5","v":"Arbeitsmarkt"},{"$f":"B5","v":0},{"$f":"C5","v":0}]
["Finanzielle Wohnattraktivität",{"$f":"B4","v":0},{"$f":"C4","v":0}]
[{"$f":"A3","v":"Innovation"},{"$f":"B3","v":0},{"$f":"C3","v":0}]
[{"$f":"'2a - Wirtschaft'!C16","v":"Standortattraktivität"},{"$f":"B2","v":0},{"$f":"C2","v":0}]
[{"$f":"'2a - Wirtschaft'!C11","v":"Wirtschaftliche Leistungsfähigkeit"},{"$f":"B1","v":0},{"$f":"C1","v":0}]

{"sheet":"2b - Gesellschaft","index":9,"n_rows":60,"n_cols":14,"rows_kept":60,"merged":[[10,4,11,4],[10,13,12,13],[11,2,12,2],[15,4,16,4],[15,13,17,13],[20,4,21,4],[20,13,22,13],[21,2,22,2],[25,4,26,4],[25,13,27,13],[26,2,27,2],[30,4,31,4],[30,13,32,13],[31,2,32,2],[35,4,36,4],[35,13,37,13],[36,2,37,2],[40,4,41,4],[40,13,42,13],[41,2,42,2],[45,4,46,4],[45,13,47,13],[46,2,47,2],[50,4,51,4],[50,13,52,13],[51,2,52,2],[55,4,56,4],[55,13,57,13],[56,2,57,2],[60,1,60,13]]}
[]
[null,"Detailabklärungen Dimension Gesellschaft"]
[null,"Frage: Welche Auswirkungen hat das Vorhaben auf die Themenbereiche der Dimension Gesellschaft?"]
[]
[]
[null,"Nr.","Teilfrage",null,"Keine","Kurzfristig",{"$nulls":7},"Bemerkungen"]
[{"$nulls":4},"Relevanz","Langfristig"]
[{"$nulls":5},-3,-2,-1,0,1,2,3]
[]
[]
[null,"1.","Bildung"]
[null,null,"Das Vorhaben fördert die Entfaltung der fachlichen und sozialen Kompetenzen der Bevölkerung und insbesondere eine nachobligatorische Ausbildung."]
[]
[]
[]
[null,"2.","Einkommen, Armut und soziale"]
[null,null,"Unterstützung"]
[null,null,"Das Vorhaben trägt zu einem existenzsichernden Einkommen für alle Bevölkerungsgruppen bei (z.B. durch Arbeitspätze für wenig Qualifizierte) und stabilisiert den Unterstützungsbedarf.\n\n\n\n\n"]
[]
[]
[null,"3.","Integration"]
[null,null,"Das Vorhaben fördert die gleiche Teilnahme am wirtschaftlichen und gesellschaftlichen Leben aller  Bevölkerungsgruppen, insbesondere der ausländischen Bevölkerung."]
[]
[]
[]
[null,"4.","Sozialer Zusammenhalt"]
[null,null,"Das Vorhaben stärkt das gemeinschaftliche Verbundenheitsgefühl in der Bevölkerung."]
[]
[]
[]
[null,"5.","Chancengerechtigkeit"]
[null,null,"Das Vorhaben fördert die Chancengerechtigkeit von Frauen und Männern, Behinderten und Nicht-Behinderten."]
[]
[]
[]
[null,"6.","Gesundheit und Wohlbefinden"]
[null,null,"Das Vorhaben steigert das gesundheitliche Wohlbefinden und den Gesundheitszustand der Bevölkerung."]
[]
[]
[]
[null,"7.","Wohnqualität "]
[null,null,"Das Vorhaben sichert und fördert eine hohe Wohnqualität und vermindert die Lärmemissionen und -immissionen."]
[]
[]
[]
[null,"8.","Sicherheit"]
[null,null,"Das Vorhaben sichert und fördert die subjektive und die objektive Sicherheit."]
[]
[]
[]
[null,"9.","Kultur und Ortsbild"]
[null,null,"Das Vorhaben macht Kultur zugänglich, sichert das kulturelle Erbe und fördert das künstlerische Schaffen."]
[]
[]
[]
[null,"10.","Politische Beteiligung"]
[null,null,"Das Vorhaben ermöglicht und fördert eine direkte und indirekte Partizipation der Bevölkerung an gesellschaftlichen Entscheidungen."]
[]
[]
[null,"Fazit Gesellschaft"]

{"sheet":"2b - Daten","index":10,"n_rows":21,"n_cols":6,"rows_kept":21,"hidden":true}
[{"$f":"'2b - Gesellschaft'!C11","v":"Bildung"},{"$f":"SUMPRODUCT(('2b - Gesellschaft'!F11:L11=\"X\")*('2b - Gesellschaft'!$F$8:$L$8))","v":0},{"$f":"SUMPRODUCT(('2b - Gesellschaft'!F12:L12=\"X\")*('2b - Gesellschaft'!$F$8:$L$8))","v":0},0,{"$f":"IF(B1>=0,IF(B1=0,0,1),-1)","v":0},{"$f":"IF(C1>=0,IF(C1=0,0,1),-1)","v":0}]
[null,{"$f":"SUMPRODUCT(('2b - Gesellschaft'!F16:L16=\"X\")*('2b - Gesellschaft'!$F$8:$L$8))","v":0},{"$f":"SUMPRODUCT(('2b - Gesellschaft'!F17:L17=\"X\")*('2b - Gesellschaft'!$F$8:$L$8))","v":0},0,0,0]
[{"$f":"'2b - Gesellschaft'!C21","v":"Integration"},{"$f":"SUMPRODUCT(('2b - Gesellschaft'!F21:L21=\"X\")*('2b - Gesellschaft'!$F$8:$L$8))","v":0},{"$f":"SUMPRODUCT(('2b - Gesellschaft'!F22:L22=\"X\")*('2b - Gesellschaft'!$F$8:$L$8))","v":0},0,0,0]
[{"$f":"'2b - Gesellschaft'!C26","v":"Sozialer Zusammenhalt"},{"$f":"SUMPRODUCT(('2b - Gesellschaft'!F26:L26=\"X\")*('2b - Gesellschaft'!$F$8:$L$8))","v":0},{"$f":"SUMPRODUCT(('2b - Gesellschaft'!F27:L27=\"X\")*('2b - Gesellschaft'!$F$8:$L$8))","v":0},0,0,0]
["Chancen-gerechtigkeit",{"$f":"SUMPRODUCT(('2b - Gesellschaft'!F31:L31=\"X\")*('2b - Gesellschaft'!$F$8:$L$8))","v":0},{"$f":"SUMPRODUCT(('2b - Gesellschaft'!F32:L32=\"X\")*('2b - Gesellschaft'!$F$8:$L$8))","v":0},0,0,0]
["Gesundheit / Wohlbefinden",{"$f":"SUMPRODUCT(('2b - Gesellschaft'!F36:L36=\"X\")*('2b - Gesellschaft'!$F$8:$L$8))","v":0},{"$f":"SUMPRODUCT(('2b - Gesellschaft'!F37:L37=\"X\")*('2b - Gesellschaft'!$F$8:$L$8))","v":0},0,0,0]
["Wohnqualität",{"$f":"SUMPRODUCT(('2b - Gesellschaft'!F41:L41=\"X\")*('2b - Gesellschaft'!$F$8:$L$8))","v":0},{"$f":"SUMPRODUCT(('2b - Gesellschaft'!F42:L42=\"X\")*('2b - Gesellschaft'!$F$8:$L$8))","v":0},0,0,0]
[{"$f":"'2b - Gesellschaft'!C46","v":"Sicherheit"},{"$f":"SUMPRODUCT(('2b - Gesellschaft'!F46:L46=\"X\")*('2b - Gesellschaft'!$F$8:$L$8))","v":0},{"$f":"SUMPRODUCT(('2b - Gesellschaft'!F47:L47=\"X\")*('2b - Gesellschaft'!$F$8:$L$8))","v":0},0,0,0]
["Kultur",{"$f":"SUMPRODUCT(('2b - Gesellschaft'!F51:L51=\"X\")*('2b - Gesellschaft'!$F$8:$L$8))","v":0},{"$f":"SUMPRODUCT(('2b - Gesellschaft'!F52:L52=\"X\")*('2b - Gesellschaft'!$F$8:$L$8))","v":0},0,0,0]
[{"$f":"'2b - Gesellschaft'!C56","v":"Politische Beteiligung"},{"$f":"SUMPRODUCT(('2b - Gesellschaft'!F56:L56=\"X\")*('2b - Gesellschaft'!$F$8:$L$8))","v":0},{"$f":"SUMPRODUCT(('2b - Gesellschaft'!F57:L57=\"X\")*('2b - Gesellschaft'!$F$8:$L$8))","v":0},0,0,0]
[]
[{"$f":"A10","v":"Politische Beteiligung"},{"$f":"B10","v":0},{"$f":"C10","v":0}]
[{"$f":"A9","v":"Kultur"},{"$f":"B9","v":0},{"$f":"C9","v":0}]
[{"$f":"A8","v":"Sicherheit"},{"$f":"B8","v":0},{"$f":"C8","v":0}]
[{"$f":"A7","v":"Wohnqualität"},{"$f":"B7","v":0},{"$f":"C7","v":0}]
[{"$f":"A6","v":"Gesundheit / Wohlbefinden"},{"$f":"B6","v":0},{"$f":"C6","v":0}]
["Chancengerechtigkeit",{"$f":"B5","v":0},{"$f":"C5","v":0}]
[{"$f":"A4","v":"Sozialer Zusammenhalt"},{"$f":"B4","v":0},{"$f":"C4","v":0}]
[{"$f":"A3","v":"Integration"},{"$f":"B3","v":0},{"$f":"C3","v":0}]
["Armut / soziale Unterstützung",{"$f":"B2","v":0},{"$f":"C2","v":0}]
[{"$f":"A1","v":"Bildung"},{"$f":"B1","v":0},{"$f":"C1","v":0}]

{"sheet":"2c - Umwelt","index":11,"n_rows":60,"n_cols":14,"rows_kept":60,"merged":[[10,4,11,4],[10,13,12,13],[15,4,16,4],[15,13,17,13],[16,2,17,2],[20,4,21,4],[20,13,22,13],[21,2,22,2],[25,4,26,4],[25,13,27,13],[26,2,27,2],[30,4,31,4],[30,13,32,13],[35,4,36,4],[35,13,37,13],[36,2,37,2],[40,4,41,4],[40,13,42,13],[41,2,42,2],[45,4,46,4],[45,13,47,13],[46,2,47,2],[50,4,51,4],[50,13,52,13],[51,2,52,2],[55,4,56,4],[55,13,57,13],[56,2,57,2],[60,1,60,13]]}
[]
[null,"Detailabklärungen Dimension Umwelt"]
[null,"Frage: Welche Auswirkungen hat das Vorhaben auf die Themenbereiche der Dimension Umwelt?"]
[]
[]
[null,"Nr.","Teilfrage",null,"Keine","Kurzfristig",{"$nulls":7},"Bemerkungen"]
[{"$nulls":4},"Relevanz","Langfristig"]
[{"$nulls":5},-3,-2,-1,0,1,2,3]
[]
[]
[null,"1.","Bodenverbrauch durch"]
[null,null,"Siedlungsentwicklung"]
[null,null,"Das Vorhaben fördert den haushälterischen Umgang mit dem Boden (z.B. durch qualitative Siedlungsentwicklung nach Innen) und reduziert die Zersiedlung.\n\n\n"]
[]
[]
[null,"2.","Bodenqualität"]
[null,null,"Das Vorhaben sichert und verbessert die Bodenfruchtbarkeit."]
[]
[]
[]
[null,"3.","Wasserqualität"]
[null,null,"Das Vorhaben sichert und verbessert die Wasserqualität von Grundwasser und Oberflächengewässer."]
[]
[]
[]
[null,"4.","Luftqualität"]
[null,null,"Das Vorhaben sichert und verbessert die Luftqualität."]
[]
[]
[]
[null,"5.","Lebensräume für Tiere und Pflanzen,"]
[null,null,"Artenvielfalt"]
[null,null,"Das Vorhaben sichert und fördert die ökologisch wertvollen Lebensräume für Tiere und Pflanzen (Qualität und Quantität) und die biologische Vielfalt."]
[]
[]
[null,"6.","Landschaft"]
[null,null,"Das Vorhaben fördert vielfältige Landschaften von hoher Qualität und vermindert die Zerschneidung."]
[]
[]
[]
[null,"7.","Landwirtschaft und Wald"]
[null,null,"Das Vorhaben sichert und fördert die landwirtschaftliche Fläche und Waldfläche sowie deren ökologische Qualität."]
[]
[]
[]
[null,"8.","Energie und Klima"]
[null,null,"Das Vorhaben fördert den sparsamen und effizienten Einsatz der Energie, unterstützt neue erneuerbare Energien und reduziert den CO2-Ausstoss.\n"]
[]
[]
[]
[null,"9.","Verkehr"]
[null,null,"Das Vorhaben vermindert die Zuwachsrate der Gesamtverkehrsleistung, insbesondere des Strassenverkehrs. Es fördert den Umstieg auf den öffentlichen Verkehr (z.B. durch Angebotsausbau) und auf den Velo- und Fussverkehr. \n\n"]
[]
[]
[]
[null,"10.","Abfälle und einheimische Rohstoffe"]
[null,null,"Das Vorhaben fördert den haushälterischen Umgang mit Rohstoffen. Es reduziert die Menge Siedlungsabfälle und erhöht den Anteil der Separatsammlungen."]
[]
[]
[null,"Fazit Umwelt"]

{"sheet":"2c - Daten","index":12,"n_rows":21,"n_cols":6,"rows_kept":21,"hidden":true}
[null,{"$f":"SUMPRODUCT(('2c - Umwelt'!F11:L11=\"X\")*('2c - Umwelt'!$F$8:$L$8))","v":0},{"$f":"SUMPRODUCT(('2c - Umwelt'!F12:L12=\"X\")*('2c - Umwelt'!$F$8:$L$8))","v":0},0,{"$f":"IF(B1>=0,IF(B1=0,0,1),-1)","v":0},{"$f":"IF(C1>=0,IF(C1=0,0,1),-1)","v":0}]
[{"$f":"'2c - Umwelt'!C16","v":"Bodenqualität"},{"$f":"SUMPRODUCT(('2c - Umwelt'!F16:L16=\"X\")*('2c - Umwelt'!$F$8:$L$8))","v":0},{"$f":"SUMPRODUCT(('2c - Umwelt'!F17:L17=\"X\")*('2c - Umwelt'!$F$8:$L$8))","v":0},0,0,0]
[{"$f":"'2c - Umwelt'!C21","v":"Wasserqualität"},{"$f":"SUMPRODUCT(('2c - Umwelt'!F21:L21=\"X\")*('2c - Umwelt'!$F$8:$L$8))","v":0},{"$f":"SUMPRODUCT(('2c - Umwelt'!F22:L22=\"X\")*('2c - Umwelt'!$F$8:$L$8))","v":0},0,0,0]
[{"$f":"'2c - Umwelt'!C26","v":"Luftqualität"},{"$f":"SUMPRODUCT(('2c - Umwelt'!F26:L26=\"X\")*('2c - Umwelt'!$F$8:$L$8))","v":0},{"$f":"SUMPRODUCT(('2c - Umwelt'!F27:L27=\"X\")*('2c - Umwelt'!$F$8:$L$8))","v":0},0,0,0]
[null,{"$f":"SUMPRODUCT(('2c - Umwelt'!F31:L31=\"X\")*('2c - Umwelt'!$F$8:$L$8))","v":0},{"$f":"SUMPRODUCT(('2c - Umwelt'!F32:L32=\"X\")*('2c - Umwelt'!$F$8:$L$8))","v":0},0,0,0]
[{"$f":"'2c - Umwelt'!C36","v":"Landschaft"},{"$f":"SUMPRODUCT(('2c - Umwelt'!F36:L36=\"X\")*('2c - Umwelt'!$F$8:$L$8))","v":0},{"$f":"SUMPRODUCT(('2c - Umwelt'!F37:L37=\"X\")*('2c - Umwelt'!$F$8:$L$8))","v":0},0,0,0]
[null,{"$f":"SUMPRODUCT(('2c - Umwelt'!F41:L41=\"X\")*('2c - Umwelt'!$F$8:$L$8))","v":0},{"$f":"SUMPRODUCT(('2c - Umwelt'!F42:L42=\"X\")*('2c - Umwelt'!$F$8:$L$8))","v":0},0,0,0]
["Energie / Klima",{"$f":"SUMPRODUCT(('2c - Umwelt'!F46:L46=\"X\")*('2c - Umwelt'!$F$8:$L$8))","v":0},{"$f":"SUMPRODUCT(('2c - Umwelt'!F47:L47=\"X\")*('2c - Umwelt'!$F$8:$L$8))","v":0},0,0,0]
[{"$f":"'2c - Umwelt'!C51","v":"Verkehr"},{"$f":"SUMPRODUCT(('2c - Umwelt'!F51:L51=\"X\")*('2c - Umwelt'!$F$8:$L$8))","v":0},{"$f":"SUMPRODUCT(('2c - Umwelt'!F52:L52=\"X\")*('2c - Umwelt'!$F$8:$L$8))","v":0},0,0,0]
["Abfälle / Rohstoffe",{"$f":"SUMPRODUCT(('2c - Umwelt'!F56:L56=\"X\")*('2c - Umwelt'!$F$8:$L$8))","v":0},{"$f":"SUMPRODUCT(('2c - Umwelt'!F57:L57=\"X\")*('2c - Umwelt'!$F$8:$L$8))","v":0},0,0,0]
[]
[{"$f":"A10","v":"Abfälle / Rohstoffe"},{"$f":"B10","v":0},{"$f":"C10","v":0}]
[{"$f":"A9","v":"Verkehr"},{"$f":"B9","v":0},{"$f":"C9","v":0}]
[{"$f":"A8","v":"Energie / Klima"},{"$f":"B8","v":0},{"$f":"C8","v":0}]
["Landwirtschaft / Wald",{"$f":"B7","v":0},{"$f":"C7","v":0}]
[{"$f":"A6","v":"Landschaft"},{"$f":"B6","v":0},{"$f":"C6","v":0}]
["Lebensräume / Artenvielfalt",{"$f":"B5","v":0},{"$f":"C5","v":0}]
[{"$f":"A4","v":"Luftqualität"},{"$f":"B4","v":0},{"$f":"C4","v":0}]
[{"$f":"A3","v":"Wasserqualität"},{"$f":"B3","v":0},{"$f":"C3","v":0}]
[{"$f":"A2","v":"Bodenqualität"},{"$f":"B2","v":0},{"$f":"C2","v":0}]
["Bodenverbrauch",{"$f":"B1","v":0},{"$f":"C1","v":0}]

{"sheet":"3a - Leitsaetze","index":13,"n_rows":52,"n_cols":14,"rows_kept":52,"merged":[[12,13,13,13],[16,13,17,13],[20,13,21,13],[24,13,25,13],[32,13,33,13],[40,13,41,13],[44,13,45,13],[52,1,52,13]]}
[]
[null,"Leitsätze Nachhaltigkeit"]
[null,"Frage: Werden die folgenden Leitsätze einer nachhaltigen Entwicklung im Prozess und bei der Umsetzung des Vorhabens berücksichtigt?"]
[null,"Frage:"]
[]
[null,"A. Prozess"]
[]
[]
[null,"Nr.","Teilfrage",null,"Keine","Einschätzung",{"$nulls":7},"Bemerkungen"]
[{"$nulls":4},"Antwort",-3,-2,-1,0,1,2,3]
[]
[]
[null,"1.","Transparenz"]
[null,null,"Ist der Prozess, inkl. alle Verfahrensschritte für alle betroffenen Anspruchsgruppen transparent? "]
[]
[]
[null,"2.","Repräsentativität und Partizipation"]
[null,null,"Haben alle betroffenen Anspruchsgruppen angemessene Möglichkeit zur Mitwirkung? "]
[]
[]
[null,"3.","Optimierungsprinzip"]
[null,null,"Wird die bestmögliche Lösung angestrebt (Einsatz neuster Erkenntnisse, Berücksichtigung von Best Practice-Beispielen, Win-Win-Lösungen etc.)?"]
[]
[]
[null,"4.","Verursacherprinzip"]
[null,null,"Wird das Verursacherprinzip berücksichtigt (Internalisierung externer Kosten)? "]
[]
[]
[]
[null,"B. Umsetzung"]
[]
[]
[null,"5.","Starke Nachhaltigkeit"]
[null,null,"Werden die wirtschaftlichen, gesellschaftlichen und die ökologischen Ressourcen durch die Umsetzung des Vorhabens vollständig erhalten oder vermehrt?"]
[]
[]
[null,"6.","Schwache Nachhaltigkeit plus"]
[null,null,"Werden allfällige Verminderungen von Ressourcen in einer Dimension durch eine Vermehrung der Ressourcen in einer anderen Dimension kompensiert? Werden dabei nicht verhandelbare Mindestanforderungen in allen drei Dimensionen berücksichtigt?\n"]
[]
[]
[null,"7.","Intergenerationelle Gerechtigkeit"]
[null,null,"Werden die Bedürfnisse der heutigen Generation befriedigt, ohne dass künftige Generationen in ihrem Handlungsspielraum eingeschränkt werden?"]
[]
[]
[null,"8.","Risikovorsorge"]
[null,null,"Werden zukünftige Risiken trotz allfälliger Unsicherheiten bspw. bezüglich deren Ausmass und Wahrscheinlichkeit berücksichtigt?"]
[]
[]
[null,"9.","Globalprinzip"]
[null,null,"Werden die Bedürfnisse der hier lebenden Menschen durch das Vorhaben befriedigt, ohne dass Umweltbelastungen, wirtschaftliche oder soziale Probleme ins Ausland verlagert werden?"]
[]
[null,"Fazit Leitsätze"]

{"sheet":"3b - Abwaegung","index":14,"n_rows":51,"n_cols":10,"rows_kept":51,"merged":[[40,2,40,7],[42,2,42,7],[44,2,44,7],[46,2,46,7],[48,2,48,7],[50,2,50,7]]}
[]
[null,"Gesamtinteressenabwägung"]
[null,"Triage",{"$nulls":3},"Dimension Wirtschaft"]
[{"$nulls":9},"Grafik \"Triage\" kopieren"]
[]
[{"$nulls":9},"Grafik \"Wirtschaft\" kopieren"]
[]
[{"$nulls":9},"Grafik \"Gesellschaft\" kopieren"]
[]
[{"$nulls":9},"Grafik \"Umwelt\" kopieren"]
{"$rows_empty":11}
[null,"Dimension Gesellschaft",{"$nulls":3},"Dimension Umwelt"]
{"$rows_empty":18}
[null,"Fazit Wirtschaft",{"$f":"IF('2a - Wirtschaft'!B61<>\"\",'2a - Wirtschaft'!B61,\"\")","v":""}]
[]
[null,"Fazit Gesellschaft",{"$f":"IF('2b - Gesellschaft'!B61<>\"\",'2b - Gesellschaft'!B61,\"\")","v":""}]
[]
[null,"Fazit Umwelt",{"$f":"IF('2c - Umwelt'!B61<>\"\",'2c - Umwelt'!B61,\"\")","v":""}]
[]
[null,"Fazit Leitsätze",{"$f":"IF('3a - Leitsaetze'!B53<>\"\",'3a - Leitsaetze'!B53,\"\")","v":""}]
[]
[null,"Optimierungsmöglichkeiten"]
[]
[null,"Gesamtinteressen-abwägung"]

{"sheet":"D - Abwaegung","index":15,"n_rows":51,"n_cols":6,"rows_kept":51,"hidden":true,"merged":[[40,2,40,7],[42,2,42,7],[44,2,44,7],[46,2,46,7],[48,2,48,7],[50,2,50,7]]}
[]
[null,{"$f":"'3b - Abwaegung'!B2","v":"Gesamtinteressenabwägung"}]
[null,{"$f":"'3b - Abwaegung'!B3","v":"Triage"},{"$nulls":3},{"$f":"'3b - Abwaegung'!F3","v":"Dimension Wirtschaft"}]
{"$rows_empty":18}
[null,{"$f":"'3b - Abwaegung'!B22","v":"Dimension Gesellschaft"},{"$nulls":3},{"$f":"'3b - Abwaegung'!F22","v":"Dimension Umwelt"}]
{"$rows_empty":18}
[null,{"$f":"'3b - Abwaegung'!B41","v":"Fazit Wirtschaft"},{"$f":"IF('3b - Abwaegung'!C41<>\"\",'3b - Abwaegung'!C41,\"\")","v":""}]
[]
[null,{"$f":"'3b - Abwaegung'!B43","v":"Fazit Gesellschaft"},{"$f":"IF('3b - Abwaegung'!C43<>\"\",'3b - Abwaegung'!C43,\"\")","v":""}]
[]
[null,{"$f":"'3b - Abwaegung'!B45","v":"Fazit Umwelt"},{"$f":"IF('3b - Abwaegung'!C45<>\"\",'3b - Abwaegung'!C45,\"\")","v":""}]
[]
[null,{"$f":"'3b - Abwaegung'!B47","v":"Fazit Leitsätze"},{"$f":"IF('3b - Abwaegung'!C47<>\"\",'3b - Abwaegung'!C47,\"\")","v":""}]
[]
[null,{"$f":"'3b - Abwaegung'!B49","v":"Optimierungsmöglichkeiten"},{"$f":"IF('3b - Abwaegung'!C49<>\"\",'3b - Abwaegung'!C49,\"\")","v":""}]
[]
[null,{"$f":"'3b - Abwaegung'!B51","v":"Gesamtinteressen-abwägung"},{"$f":"IF('3b - Abwaegung'!C51<>\"\",'3b - Abwaegung'!C51,\"\")","v":""}]

{"sheet":"D - Triage","index":16,"n_rows":66,"n_cols":12,"rows_kept":66,"hidden":true,"merged":[[11,11,12,11],[13,11,14,11],[15,11,16,11],[20,11,21,11],[22,11,23,11],[27,11,28,11],[29,11,30,11],[34,11,35,11],[36,11,37,11],[38,11,39,11],[43,11,44,11],[45,11,46,11],[47,11,48,11],[49,11,50,11],[54,11,55,11],[56,11,57,11],[60,1,60,11],[63,9,64,11],[65,9,66,11]]}
[]
[null,{"$f":"'1 - Triage'!B2","v":"Triage"}]
[null,"Frage: Kann und muss die Checkliste Nachhaltigkeit auf das Vorhaben überhaupt angewendet werden? - Mit welchem"]
[null,"Frage: Detaillierungsgrad?",null,null,0,null,1,null,2]
[]
[]
[null,{"$f":"'1 - Triage'!B7","v":"Fragenkomplex"},null,null,{"$f":"'1 - Triage'!E7","v":"Nachhaltigkeitsrelevanz"},{"$nulls":6},{"$f":"'1 - Triage'!L7","v":"Bemerkungen"}]
[null,{"$f":"'1 - Triage'!B8","v":"Nr."},{"$f":"'1 - Triage'!C8","v":"Teilfrage"},null,{"$f":"'1 - Triage'!E8","v":"Gering"},null,{"$f":"'1 - Triage'!G8","v":"Mittel"},null,{"$f":"'1 - Triage'!I8","v":"Hoch"}]
[]
[]
[null,{"$f":"'1 - Triage'!B11","v":"Vernetzung, Komplexität (grobe Abschätzung)"}]
[null,{"$f":"'1 - Triage'!B12","v":"1."},{"$f":"'1 - Triage'!C12","v":"Wie stark ist die Dimension Wirtschaft"},null,{"$f":"IF('1 - Triage'!E12<>\"\",'1 - Triage'!E12,\"\")","v":""},{"$f":"'1 - Triage'!F12","v":" Gering"},{"$f":"IF('1 - Triage'!G12<>\"\",'1 - Triage'!G12,\"\")","v":""},{"$f":"'1 - Triage'!H12","v":" Mittel"},{"$f":"IF('1 - Triage'!I12<>\"\",'1 - Triage'!I12,\"\")","v":""},{"$f":"'1 - Triage'!J12","v":" Stark"},null,{"$f":"IF('1 - Triage'!L12<>\"\",'1 - Triage'!L12,\"\")","v":""}]
[null,null,{"$f":"'1 - Triage'!C13","v":"vom Vorhaben betroffen?"}]
[null,{"$f":"'1 - Triage'!B14","v":"2."},{"$f":"'1 - Triage'!C14","v":"Wie stark ist die Dimension "},null,{"$f":"IF('1 - Triage'!E14<>\"\",'1 - Triage'!E14,\"\")","v":""},{"$f":"'1 - Triage'!F14","v":" Gering"},{"$f":"IF('1 - Triage'!G14<>\"\",'1 - Triage'!G14,\"\")","v":""},{"$f":"'1 - Triage'!H14","v":" Mittel"},{"$f":"IF('1 - Triage'!I14<>\"\",'1 - Triage'!I14,\"\")","v":""},{"$f":"'1 - Triage'!J14","v":" Stark"},null,{"$f":"IF('1 - Triage'!L14<>\"\",'1 - Triage'!L14,\"\")","v":""}]
[null,null,{"$f":"'1 - Triage'!C15","v":"Gesellschaft vom Vorhaben betroffen?"}]
[null,{"$f":"'1 - Triage'!B16","v":"3."},{"$f":"'1 - Triage'!C16","v":"Wie stark ist die Dimension Umwelt"},null,{"$f":"IF('1 - Triage'!E16<>\"\",'1 - Triage'!E16,\"\")","v":""},{"$f":"'1 - Triage'!F16","v":" Gering"},{"$f":"IF('1 - Triage'!G16<>\"\",'1 - Triage'!G16,\"\")","v":""},{"$f":"'1 - Triage'!H16","v":" Mittel"},{"$f":"IF('1 - Triage'!I16<>\"\",'1 - Triage'!I16,\"\")","v":""},{"$f":"'1 - Triage'!J16","v":" Stark"},null,{"$f":"IF('1 - Triage'!L16<>\"\",'1 - Triage'!L16,\"\")","v":""}]
[null,null,{"$f":"'1 - Triage'!C17","v":"vom Vorhaben betroffen?"}]
[]
[]
[null,{"$f":"'1 - Triage'!B20","v":"Zielkonflikte"}]
[null,{"$f":"'1 - Triage'!B21","v":"4."},{"$f":"'1 - Triage'!C21","v":"Bestehen innerhalb des Vorhabens"},null,{"$f":"IF('1 - Triage'!E21<>\"\",'1 - Triage'!E21,\"\")","v":""},{"$f":"'1 - Triage'!F21","v":" Nein"},{"$f":"IF('1 - Triage'!G21<>\"\",'1 - Triage'!G21,\"\")","v":""},{"$f":"'1 - Triage'!H21","v":" Schwache"},{"$f":"IF('1 - Triage'!I21<>\"\",'1 - Triage'!I21,\"\")","v":""},{"$f":"'1 - Triage'!J21","v":" Starke"},null,{"$f":"IF('1 - Triage'!L21<>\"\",'1 - Triage'!L21,\"\")","v":""}]
[null,null,{"$f":"'1 - Triage'!C22","v":"Zielkonflikte?"}]
[null,{"$f":"'1 - Triage'!B23","v":"5."},{"$f":"'1 - Triage'!C23","v":"Wird der Umgang mit diesen"},null,{"$f":"IF('1 - Triage'!E23<>\"\",'1 - Triage'!E23,\"\")","v":""},{"$f":"'1 - Triage'!F23","v":" Ja"},{"$f":"IF('1 - Triage'!G23<>\"\",'1 - Triage'!G23,\"\")","v":""},{"$f":"'1 - Triage'!H23","v":" Teilweise"},{"$f":"IF('1 - Triage'!I23<>\"\",'1 - Triage'!I23,\"\")","v":""},{"$f":"'1 - Triage'!J23","v":" Nein"},null,{"$f":"IF('1 - Triage'!L23<>\"\",'1 - Triage'!L23,\"\")","v":""}]
[null,null,{"$f":"'1 - Triage'!C24","v":"Zielkonflikten geregelt?"}]
[]
[]
[null,{"$f":"'1 - Triage'!B27","v":"Systemgrenzen Zeit und Raum"}]
[null,{"$f":"'1 - Triage'!B28","v":"6."},{"$f":"'1 - Triage'!C28","v":"Wie lange wirkt das Vorhaben?"},null,{"$f":"IF('1 - Triage'!E28<>\"\",'1 - Triage'!E28,\"\")","v":""},{"$f":"'1 - Triage'!F28","v":" Kurz"},{"$f":"IF('1 - Triage'!G28<>\"\",'1 - Triage'!G28,\"\")","v":""},{"$f":"'1 - Triage'!H28","v":" Mittel"},{"$f":"IF('1 - Triage'!I28<>\"\",'1 - Triage'!I28,\"\")","v":""},{"$f":"'1 - Triage'!J28","v":" Lang"},null,{"$f":"IF('1 - Triage'!L28<>\"\",'1 - Triage'!L28,\"\")","v":""}]
[{"$nulls":5},{"$f":"'1 - Triage'!F29","v":" (<3 Jahre)"},null,{"$f":"'1 - Triage'!H29","v":" (<10 Jahre)"},null,{"$f":"'1 - Triage'!J29","v":" (>10 Jahre)"}]
[null,{"$f":"'1 - Triage'!B30","v":"7."},{"$f":"'1 - Triage'!C30","v":"Wie gross ist der vom Vorhaben mittel"},null,{"$f":"IF('1 - Triage'!E30<>\"\",'1 - Triage'!E30,\"\")","v":""},{"$f":"'1 - Triage'!F30","v":" Lokal"},{"$f":"IF('1 - Triage'!G30<>\"\",'1 - Triage'!G30,\"\")","v":""},{"$f":"'1 - Triage'!H30","v":" Regional"},{"$f":"IF('1 - Triage'!I30<>\"\",'1 - Triage'!I30,\"\")","v":""},{"$f":"'1 - Triage'!J30","v":" Überregional"},null,{"$f":"IF('1 - Triage'!L30<>\"\",'1 - Triage'!L30,\"\")","v":""}]
[null,null,{"$f":"'1 - Triage'!C31","v":"bis stark betroffene Raum?"},null,null,{"$f":"'1 - Triage'!F31","v":" Kommunal"},null,{"$f":"'1 - Triage'!H31","v":" Kantonal"},null,{"$f":"'1 - Triage'!J31","v":" National"}]
[]
[]
[null,{"$f":"'1 - Triage'!B34","v":"Alternativen"}]
[null,{"$f":"'1 - Triage'!B35","v":"8."},{"$f":"'1 - Triage'!C35","v":"Wie gross sind die direkten"},null,{"$f":"IF('1 - Triage'!E35<>\"\",'1 - Triage'!E35,\"\")","v":""},{"$f":"'1 - Triage'!F35","v":" Gering"},{"$f":"IF('1 - Triage'!G35<>\"\",'1 - Triage'!G35,\"\")","v":""},{"$f":"'1 - Triage'!H35","v":" Mittel"},{"$f":"IF('1 - Triage'!I35<>\"\",'1 - Triage'!I35,\"\")","v":""},{"$f":"'1 - Triage'!J35","v":" Gross"},null,{"$f":"IF('1 - Triage'!L35<>\"\",'1 - Triage'!L35,\"\")","v":""}]
[null,null,{"$f":"'1 - Triage'!C36","v":"Auswirkungen einer Nicht-Realisierung des Vorhabens?"}]
[null,{"$f":"'1 - Triage'!B37","v":"9."},{"$f":"'1 - Triage'!C37","v":"Ist ein Ausstieg aus dem Vorhaben auf"},null,{"$f":"IF('1 - Triage'!E37<>\"\",'1 - Triage'!E37,\"\")","v":""},{"$f":"'1 - Triage'!F37","v":" Ja"},{"$f":"IF('1 - Triage'!G37<>\"\",'1 - Triage'!G37,\"\")","v":""},{"$f":"'1 - Triage'!H37","v":" Erschwert"},{"$f":"IF('1 - Triage'!I37<>\"\",'1 - Triage'!I37,\"\")","v":""},{"$f":"'1 - Triage'!J37","v":" Nein"},null,{"$f":"IF('1 - Triage'!L37<>\"\",'1 - Triage'!L37,\"\")","v":""}]
[null,null,{"$f":"'1 - Triage'!C38","v":"einfache Weise möglich?"}]
[null,{"$f":"'1 - Triage'!B39","v":"10."},{"$f":"'1 - Triage'!C39","v":"Kann das Vorhaben auf Änderungen"},null,{"$f":"IF('1 - Triage'!E39<>\"\",'1 - Triage'!E39,\"\")","v":""},{"$f":"'1 - Triage'!F39","v":" Flexibel"},{"$f":"IF('1 - Triage'!G39<>\"\",'1 - Triage'!G39,\"\")","v":""},{"$f":"'1 - Triage'!H39","v":" Teilweise"},{"$f":"IF('1 - Triage'!I39<>\"\",'1 - Triage'!I39,\"\")","v":""},{"$f":"'1 - Triage'!J39","v":" Sachzwänge"},null,{"$f":"IF('1 - Triage'!L39<>\"\",'1 - Triage'!L39,\"\")","v":""}]
[null,null,{"$f":"'1 - Triage'!C40","v":"flexibel reagieren oder schafft es Sachzwänge (z.B. Bauvorhaben)?"}]
[]
[]
[null,{"$f":"'1 - Triage'!B43","v":"Akteure"}]
[null,{"$f":"'1 - Triage'!B44","v":"11."},{"$f":"'1 - Triage'!C44","v":"Wie viele Personen sind vom Vorhaben"},null,{"$f":"IF('1 - Triage'!E44<>\"\",'1 - Triage'!E44,\"\")","v":""},{"$f":"'1 - Triage'!F44","v":" Wenige"},{"$f":"IF('1 - Triage'!G44<>\"\",'1 - Triage'!G44,\"\")","v":""},{"$f":"'1 - Triage'!H44","v":" Mittel"},{"$f":"IF('1 - Triage'!I44<>\"\",'1 - Triage'!I44,\"\")","v":""},{"$f":"'1 - Triage'!J44","v":" Viele"},null,{"$f":"IF('1 - Triage'!L44<>\"\",'1 - Triage'!L44,\"\")","v":""}]
[null,null,{"$f":"'1 - Triage'!C45","v":"direkt betroffen?"},null,null,{"$f":"'1 - Triage'!F45","v":" (Dutzende)"},null,{"$f":"'1 - Triage'!H45","v":"(Hunderte)"},null,{"$f":"'1 - Triage'!J45","v":" (Tausende)"}]
[null,{"$f":"'1 - Triage'!B46","v":"12."},{"$f":"'1 - Triage'!C46","v":"Wie breit ist die Information / Beteiligung"},null,{"$f":"IF('1 - Triage'!E46<>\"\",'1 - Triage'!E46,\"\")","v":""},{"$f":"'1 - Triage'!F46","v":" Breit"},{"$f":"IF('1 - Triage'!G46<>\"\",'1 - Triage'!G46,\"\")","v":""},{"$f":"'1 - Triage'!H46","v":" Mittel"},{"$f":"IF('1 - Triage'!I46<>\"\",'1 - Triage'!I46,\"\")","v":""},{"$f":"'1 - Triage'!J46","v":" Gering"},null,{"$f":"IF('1 - Triage'!L46<>\"\",'1 - Triage'!L46,\"\")","v":""}]
[null,null,{"$f":"'1 - Triage'!C47","v":"der direkt betroffenen Personen?"}]
[null,{"$f":"'1 - Triage'!B48","v":"13."},{"$f":"'1 - Triage'!C48","v":"Gibt es eine Gegnerschaft gegen"},null,{"$f":"IF('1 - Triage'!E48<>\"\",'1 - Triage'!E48,\"\")","v":""},{"$f":"'1 - Triage'!F48","v":" Nein"},{"$f":"IF('1 - Triage'!G48<>\"\",'1 - Triage'!G48,\"\")","v":""},{"$f":"'1 - Triage'!H48","v":" Möglich"},{"$f":"IF('1 - Triage'!I48<>\"\",'1 - Triage'!I48,\"\")","v":""},{"$f":"'1 - Triage'!J48","v":" Ja"},null,{"$f":"IF('1 - Triage'!L48<>\"\",'1 - Triage'!L48,\"\")","v":""}]
[null,null,{"$f":"'1 - Triage'!C49","v":"das Vorhaben?"}]
[null,{"$f":"'1 - Triage'!B50","v":"14."},{"$f":"'1 - Triage'!C50","v":"Gibt es eine Partnerschaft?"},null,{"$f":"IF('1 - Triage'!E50<>\"\",'1 - Triage'!E50,\"\")","v":""},{"$f":"'1 - Triage'!F50","v":" Ja"},{"$f":"IF('1 - Triage'!G50<>\"\",'1 - Triage'!G50,\"\")","v":""},{"$f":"'1 - Triage'!H50","v":" Möglich"},{"$f":"IF('1 - Triage'!I50<>\"\",'1 - Triage'!I50,\"\")","v":""},{"$f":"'1 - Triage'!J50","v":" Nein"},null,{"$f":"IF('1 - Triage'!L50<>\"\",'1 - Triage'!L50,\"\")","v":""}]
[]
[]
[]
[null,{"$f":"'1 - Triage'!B54","v":"Politik und Finanzen"}]
[null,{"$f":"'1 - Triage'!B55","v":"15."},{"$f":"'1 - Triage'!C55","v":"Wie gross ist das öffentliche oder"},null,{"$f":"IF('1 - Triage'!E55<>\"\",'1 - Triage'!E55,\"\")","v":""},{"$f":"'1 - Triage'!F55","v":" Normal"},{"$f":"IF('1 - Triage'!G55<>\"\",'1 - Triage'!G55,\"\")","v":""},{"$f":"'1 - Triage'!H55","v":" Erhöht"},{"$f":"IF('1 - Triage'!I55<>\"\",'1 - Triage'!I55,\"\")","v":""},{"$f":"'1 - Triage'!J55","v":" Gross"},null,{"$f":"IF('1 - Triage'!L55<>\"\",'1 - Triage'!L55,\"\")","v":""}]
[null,null,{"$f":"'1 - Triage'!C56","v":"politische Interesse am Vorhaben?"}]
[null,{"$f":"'1 - Triage'!B57","v":"16."},{"$f":"'1 - Triage'!C57","v":"Wie gross ist die finanzielle Beteiligung"},null,{"$f":"IF('1 - Triage'!E57<>\"\",'1 - Triage'!E57,\"\")","v":""},{"$f":"'1 - Triage'!F57","v":" Gering"},{"$f":"IF('1 - Triage'!G57<>\"\",'1 - Triage'!G57,\"\")","v":""},{"$f":"'1 - Triage'!H57","v":" Mittel"},{"$f":"IF('1 - Triage'!I57<>\"\",'1 - Triage'!I57,\"\")","v":""},{"$f":"'1 - Triage'!J57","v":" Gross"},null,{"$f":"IF('1 - Triage'!L57<>\"\",'1 - Triage'!L57,\"\")","v":""}]
[null,null,{"$f":"'1 - Triage'!C58","v":"des Kantons?"},null,null,{"$f":"'1 - Triage'!F58","v":" (<2 Mio. Fr.)"},{"$nulls":3},{"$f":"'1 - Triage'!J58","v":" (>10 Mio. Fr.)"}]
[]
[null,{"$f":"'1 - Triage'!B60","v":"Fazit Triage"}]
[null,{"$f":"IF('1 - Triage'!B61<>\"\",'1 - Triage'!B61,\"\")","v":""}]
[]
[null,{"$f":"'1 - Triage'!B63","v":"Nachhaltigkeitsrelevanz"}]
[{"$nulls":9},{"$f":"'1 - Triage'!J64:L65","v":"Keine Themengruppe liegt beim Schwellenwert von 8 Punkten."}]
[]
[{"$nulls":9},{"$f":"'1 - Triage'!J66:L67","v":"Eine detaillierte Nachhaltigkeitsbeurteilung ist nicht notwendig."}]

{"sheet":"D - Wirtschaft","index":17,"n_rows":61,"n_cols":14,"rows_kept":61,"hidden":true,"merged":[[10,4,11,4],[10,13,12,13],[11,2,12,2],[15,4,16,4],[15,13,17,13],[16,2,17,2],[20,4,21,4],[20,13,22,13],[21,2,22,2],[25,4,26,4],[25,13,27,13],[26,2,27,2],[30,4,31,4],[30,13,32,13],[31,2,32,2],[35,4,36,4],[35,13,37,13],[36,2,37,2],[40,4,41,4],[40,13,42,13],[41,2,42,2],[45,4,46,4],[45,13,47,13],[46,2,47,2],[50,4,51,4],[50,13,52,13],[51,2,52,2],[55,4,56,4],[55,13,57,13],[56,2,57,2],[60,1,60,13]]}
[]
[null,{"$f":"'2a - Wirtschaft'!B2","v":"Detailabklärungen Dimension Wirtschaft"}]
[null,"Frage: Welche Auswirkungen hat das Vorhaben auf die Themenbereiche der Dimension Wirtschaft?"]
[]
[]
[null,{"$f":"'2a - Wirtschaft'!B6","v":"Nr."},{"$f":"'2a - Wirtschaft'!C6","v":"Teilfrage"},null,{"$f":"'2a - Wirtschaft'!E6","v":"Keine"},{"$f":"'2a - Wirtschaft'!F6","v":"Kurzfristig"},{"$nulls":7},{"$f":"'2a - Wirtschaft'!N6","v":"Bemerkungen"}]
[{"$nulls":4},{"$f":"'2a - Wirtschaft'!E7","v":"Relevanz"},{"$f":"'2a - Wirtschaft'!F7","v":"Langfristig"}]
[{"$nulls":5},{"$f":"'2a - Wirtschaft'!F8","v":-3},{"$f":"'2a - Wirtschaft'!G8","v":-2},{"$f":"'2a - Wirtschaft'!H8","v":-1},{"$f":"'2a - Wirtschaft'!I8","v":0},{"$f":"'2a - Wirtschaft'!J8","v":1},{"$f":"'2a - Wirtschaft'!K8","v":2},{"$f":"'2a - Wirtschaft'!L8","v":3}]
[]
[]
[null,{"$f":"'2a - Wirtschaft'!B11","v":"1."},{"$f":"'2a - Wirtschaft'!C11","v":"Wirtschaftliche Leistungsfähigkeit"},null,{"$f":"IF('2a - Wirtschaft'!E11<>\"\",'2a - Wirtschaft'!E11,\"\")","v":""},{"$f":"IF('2a - Wirtschaft'!F11<>\"\",'2a - Wirtschaft'!F11,\"\")","v":""},{"$f":"IF('2a - Wirtschaft'!G11<>\"\",'2a - Wirtschaft'!G11,\"\")","v":""},{"$f":"IF('2a - Wirtschaft'!H11<>\"\",'2a - Wirtschaft'!H11,\"\")","v":""},{"$f":"IF('2a - Wirtschaft'!I11<>\"\",'2a - Wirtschaft'!I11,\"\")","v":""},{"$f":"IF('2a - Wirtschaft'!J11<>\"\",'2a - Wirtschaft'!J11,\"\")","v":""},{"$f":"IF('2a - Wirtschaft'!K11<>\"\",'2a - Wirtschaft'!K11,\"\")","v":""},{"$f":"IF('2a - Wirtschaft'!L11<>\"\",'2a - Wirtschaft'!L11,\"\")","v":""},null,{"$f":"IF('2a - Wirtschaft'!N11<>\"\",'2a - Wirtschaft'!N11,\"\")","v":""}]
[null,null,{"$f":"'2a - Wirtschaft'!C12","v":"Das Vorhaben sichert und steigert die ökonomische Leistungsfähigkeit. Dabei fördert das Vorhaben insbesondere das qualitative Wachstum."},null,{"$f":"IF('2a - Wirtschaft'!E12<>\"\",'2a - Wirtschaft'!E12,\"\")","v":""},{"$f":"IF('2a - Wirtschaft'!F12<>\"\",'2a - Wirtschaft'!F12,\"\")","v":""},{"$f":"IF('2a - Wirtschaft'!G12<>\"\",'2a - Wirtschaft'!G12,\"\")","v":""},{"$f":"IF('2a - Wirtschaft'!H12<>\"\",'2a - Wirtschaft'!H12,\"\")","v":""},{"$f":"IF('2a - Wirtschaft'!I12<>\"\",'2a - Wirtschaft'!I12,\"\")","v":""},{"$f":"IF('2a - Wirtschaft'!J12<>\"\",'2a - Wirtschaft'!J12,\"\")","v":""},{"$f":"IF('2a - Wirtschaft'!K12<>\"\",'2a - Wirtschaft'!K12,\"\")","v":""},{"$f":"IF('2a - Wirtschaft'!L12<>\"\",'2a - Wirtschaft'!L12,\"\")","v":""},null,{"$f":"IF('2a - Wirtschaft'!N12<>\"\",'2a - Wirtschaft'!N12,\"\")","v":""}]
[null,null,{"$f":"'2a - Wirtschaft'!C13","v":0},{"$nulls":10},{"$f":"IF('2a - Wirtschaft'!N13<>\"\",'2a - Wirtschaft'!N13,\"\")","v":""}]
[]
[]
[null,{"$f":"'2a - Wirtschaft'!B16","v":"2."},{"$f":"'2a - Wirtschaft'!C16","v":"Standortattraktivität"},null,{"$f":"IF('2a - Wirtschaft'!E16<>\"\",'2a - Wirtschaft'!E16,\"\")","v":""},{"$f":"IF('2a - Wirtschaft'!F16<>\"\",'2a - Wirtschaft'!F16,\"\")","v":""},{"$f":"IF('2a - Wirtschaft'!G16<>\"\",'2a - Wirtschaft'!G16,\"\")","v":""},{"$f":"IF('2a - Wirtschaft'!H16<>\"\",'2a - Wirtschaft'!H16,\"\")","v":""},{"$f":"IF('2a - Wirtschaft'!I16<>\"\",'2a - Wirtschaft'!I16,\"\")","v":""},{"$f":"IF('2a - Wirtschaft'!J16<>\"\",'2a - Wirtschaft'!J16,\"\")","v":""},{"$f":"IF('2a - Wirtschaft'!K16<>\"\",'2a - Wirtschaft'!K16,\"\")","v":""},{"$f":"IF('2a - Wirtschaft'!L16<>\"\",'2a - Wirtschaft'!L16,\"\")","v":""},null,{"$f":"IF('2a - Wirtschaft'!N16<>\"\",'2a - Wirtschaft'!N16,\"\")","v":""}]
[null,null,{"$f":"'2a - Wirtschaft'!C17","v":"Das Vorhaben sichert und steigert die Standortattraktivität (harte und weiche Faktoren) für Unternehmen, insbesondere für wertschöpfungsstarke Unternehmen mit geringem Ressourcenverbrauch."},null,{"$f":"IF('2a - Wirtschaft'!E17<>\"\",'2a - Wirtschaft'!E17,\"\")","v":""},{"$f":"IF('2a - Wirtschaft'!F17<>\"\",'2a - Wirtschaft'!F17,\"\")","v":""},{"$f":"IF('2a - Wirtschaft'!G17<>\"\",'2a - Wirtschaft'!G17,\"\")","v":""},{"$f":"IF('2a - Wirtschaft'!H17<>\"\",'2a - Wirtschaft'!H17,\"\")","v":""},{"$f":"IF('2a - Wirtschaft'!I17<>\"\",'2a - Wirtschaft'!I17,\"\")","v":""},{"$f":"IF('2a - Wirtschaft'!J17<>\"\",'2a - Wirtschaft'!J17,\"\")","v":""},{"$f":"IF('2a - Wirtschaft'!K17<>\"\",'2a - Wirtschaft'!K17,\"\")","v":""},{"$f":"IF('2a - Wirtschaft'!L17<>\"\",'2a - Wirtschaft'!L17,\"\")","v":""},null,{"$f":"IF('2a - Wirtschaft'!N17<>\"\",'2a - Wirtschaft'!N17,\"\")","v":""}]
[null,null,{"$f":"'2a - Wirtschaft'!C18","v":0},{"$nulls":10},{"$f":"IF('2a - Wirtschaft'!N18<>\"\",'2a - Wirtschaft'!N18,\"\")","v":""}]
[]
[]
[null,{"$f":"'2a - Wirtschaft'!B21","v":"3."},{"$f":"'2a - Wirtschaft'!C21","v":"Innovation"},null,{"$f":"IF('2a - Wirtschaft'!E21<>\"\",'2a - Wirtschaft'!E21,\"\")","v":""},{"$f":"IF('2a - Wirtschaft'!F21<>\"\",'2a - Wirtschaft'!F21,\"\")","v":""},{"$f":"IF('2a - Wirtschaft'!G21<>\"\",'2a - Wirtschaft'!G21,\"\")","v":""},{"$f":"IF('2a - Wirtschaft'!H21<>\"\",'2a - Wirtschaft'!H21,\"\")","v":""},{"$f":"IF('2a - Wirtschaft'!I21<>\"\",'2a - Wirtschaft'!I21,\"\")","v":""},{"$f":"IF('2a - Wirtschaft'!J21<>\"\",'2a - Wirtschaft'!J21,\"\")","v":""},{"$f":"IF('2a - Wirtschaft'!K21<>\"\",'2a - Wirtschaft'!K21,\"\")","v":""},{"$f":"IF('2a - Wirtschaft'!L21<>\"\",'2a - Wirtschaft'!L21,\"\")","v":""},null,{"$f":"IF('2a - Wirtschaft'!N21<>\"\",'2a - Wirtschaft'!N21,\"\")","v":""}]
[null,null,{"$f":"'2a - Wirtschaft'!C22","v":"Das Vorhaben sichert und steigert die Innovationskraft der Wirtschaft (z.B. Patente, Beschäftigte in innovativen Branchen, Entwicklung der Exporte, zukunftsweisende Wirtschaftsmodelle).\n\n"},null,{"$f":"IF('2a - Wirtschaft'!E22<>\"\",'2a - Wirtschaft'!E22,\"\")","v":""},{"$f":"IF('2a - Wirtschaft'!F22<>\"\",'2a - Wirtschaft'!F22,\"\")","v":""},{"$f":"IF('2a - Wirtschaft'!G22<>\"\",'2a - Wirtschaft'!G22,\"\")","v":""},{"$f":"IF('2a - Wirtschaft'!H22<>\"\",'2a - Wirtschaft'!H22,\"\")","v":""},{"$f":"IF('2a - Wirtschaft'!I22<>\"\",'2a - Wirtschaft'!I22,\"\")","v":""},{"$f":"IF('2a - Wirtschaft'!J22<>\"\",'2a - Wirtschaft'!J22,\"\")","v":""},{"$f":"IF('2a - Wirtschaft'!K22<>\"\",'2a - Wirtschaft'!K22,\"\")","v":""},{"$f":"IF('2a - Wirtschaft'!L22<>\"\",'2a - Wirtschaft'!L22,\"\")","v":""},null,{"$f":"IF('2a - Wirtschaft'!N22<>\"\",'2a - Wirtschaft'!N22,\"\")","v":""}]
[null,null,{"$f":"'2a - Wirtschaft'!C23","v":0},{"$nulls":10},{"$f":"IF('2a - Wirtschaft'!N23<>\"\",'2a - Wirtschaft'!N23,\"\")","v":""}]
[]
[]
[null,{"$f":"'2a - Wirtschaft'!B26","v":"4."},{"$f":"'2a - Wirtschaft'!C26","v":"Finanzielle Wohnattraktivität"},null,{"$f":"IF('2a - Wirtschaft'!E26<>\"\",'2a - Wirtschaft'!E26,\"\")","v":""},{"$f":"IF('2a - Wirtschaft'!F26<>\"\",'2a - Wirtschaft'!F26,\"\")","v":""},{"$f":"IF('2a - Wirtschaft'!G26<>\"\",'2a - Wirtschaft'!G26,\"\")","v":""},{"$f":"IF('2a - Wirtschaft'!H26<>\"\",'2a - Wirtschaft'!H26,\"\")","v":""},{"$f":"IF('2a - Wirtschaft'!I26<>\"\",'2a - Wirtschaft'!I26,\"\")","v":""},{"$f":"IF('2a - Wirtschaft'!J26<>\"\",'2a - Wirtschaft'!J26,\"\")","v":""},{"$f":"IF('2a - Wirtschaft'!K26<>\"\",'2a - Wirtschaft'!K26,\"\")","v":""},{"$f":"IF('2a - Wirtschaft'!L26<>\"\",'2a - Wirtschaft'!L26,\"\")","v":""},null,{"$f":"IF('2a - Wirtschaft'!N26<>\"\",'2a - Wirtschaft'!N26,\"\")","v":""}]
[null,null,{"$f":"'2a - Wirtschaft'!C27","v":"Das Vorhaben sichert und steigert die finanzielle Wohnattraktivität (z.B. durch günstigen Wohnraum) und fördert insbesondere ein überdurchschnittliches frei verfügbares Einkommen.\n"},null,{"$f":"IF('2a - Wirtschaft'!E27<>\"\",'2a - Wirtschaft'!E27,\"\")","v":""},{"$f":"IF('2a - Wirtschaft'!F27<>\"\",'2a - Wirtschaft'!F27,\"\")","v":""},{"$f":"IF('2a - Wirtschaft'!G27<>\"\",'2a - Wirtschaft'!G27,\"\")","v":""},{"$f":"IF('2a - Wirtschaft'!H27<>\"\",'2a - Wirtschaft'!H27,\"\")","v":""},{"$f":"IF('2a - Wirtschaft'!I27<>\"\",'2a - Wirtschaft'!I27,\"\")","v":""},{"$f":"IF('2a - Wirtschaft'!J27<>\"\",'2a - Wirtschaft'!J27,\"\")","v":""},{"$f":"IF('2a - Wirtschaft'!K27<>\"\",'2a - Wirtschaft'!K27,\"\")","v":""},{"$f":"IF('2a - Wirtschaft'!L27<>\"\",'2a - Wirtschaft'!L27,\"\")","v":""},null,{"$f":"IF('2a - Wirtschaft'!N27<>\"\",'2a - Wirtschaft'!N27,\"\")","v":""}]
[null,null,{"$f":"'2a - Wirtschaft'!C28","v":0},{"$nulls":10},{"$f":"IF('2a - Wirtschaft'!N28<>\"\",'2a - Wirtschaft'!N28,\"\")","v":""}]
[]
[]
[null,{"$f":"'2a - Wirtschaft'!B31","v":"5."},{"$f":"'2a - Wirtschaft'!C31","v":"Arbeitsmarkt"},null,{"$f":"IF('2a - Wirtschaft'!E31<>\"\",'2a - Wirtschaft'!E31,\"\")","v":""},{"$f":"IF('2a - Wirtschaft'!F31<>\"\",'2a - Wirtschaft'!F31,\"\")","v":""},{"$f":"IF('2a - Wirtschaft'!G31<>\"\",'2a - Wirtschaft'!G31,\"\")","v":""},{"$f":"IF('2a - Wirtschaft'!H31<>\"\",'2a - Wirtschaft'!H31,\"\")","v":""},{"$f":"IF('2a - Wirtschaft'!I31<>\"\",'2a - Wirtschaft'!I31,\"\")","v":""},{"$f":"IF('2a - Wirtschaft'!J31<>\"\",'2a - Wirtschaft'!J31,\"\")","v":""},{"$f":"IF('2a - Wirtschaft'!K31<>\"\",'2a - Wirtschaft'!K31,\"\")","v":""},{"$f":"IF('2a - Wirtschaft'!L31<>\"\",'2a - Wirtschaft'!L31,\"\")","v":""},null,{"$f":"IF('2a - Wirtschaft'!N31<>\"\",'2a - Wirtschaft'!N31,\"\")","v":""}]
[null,null,{"$f":"'2a - Wirtschaft'!C32","v":"Das Vorhaben erhält und schafft Arbeitsplätze, vermindert die Arbeitslosigkeit, fördert eine hohe Erwerbsquote und ermöglicht eine sinnstiftende Beschäftigung."},null,{"$f":"IF('2a - Wirtschaft'!E32<>\"\",'2a - Wirtschaft'!E32,\"\")","v":""},{"$f":"IF('2a - Wirtschaft'!F32<>\"\",'2a - Wirtschaft'!F32,\"\")","v":""},{"$f":"IF('2a - Wirtschaft'!G32<>\"\",'2a - Wirtschaft'!G32,\"\")","v":""},{"$f":"IF('2a - Wirtschaft'!H32<>\"\",'2a - Wirtschaft'!H32,\"\")","v":""},{"$f":"IF('2a - Wirtschaft'!I32<>\"\",'2a - Wirtschaft'!I32,\"\")","v":""},{"$f":"IF('2a - Wirtschaft'!J32<>\"\",'2a - Wirtschaft'!J32,\"\")","v":""},{"$f":"IF('2a - Wirtschaft'!K32<>\"\",'2a - Wirtschaft'!K32,\"\")","v":""},{"$f":"IF('2a - Wirtschaft'!L32<>\"\",'2a - Wirtschaft'!L32,\"\")","v":""},null,{"$f":"IF('2a - Wirtschaft'!N32<>\"\",'2a - Wirtschaft'!N32,\"\")","v":""}]
[null,null,{"$f":"'2a - Wirtschaft'!C33","v":0},{"$nulls":10},{"$f":"IF('2a - Wirtschaft'!N33<>\"\",'2a - Wirtschaft'!N33,\"\")","v":""}]
[]
[]
[null,{"$f":"'2a - Wirtschaft'!B36","v":"6."},{"$f":"'2a - Wirtschaft'!C36","v":"Infrastrukturen und Investitionen"},null,{"$f":"IF('2a - Wirtschaft'!E36<>\"\",'2a - Wirtschaft'!E36,\"\")","v":""},{"$f":"IF('2a - Wirtschaft'!F36<>\"\",'2a - Wirtschaft'!F36,\"\")","v":""},{"$f":"IF('2a - Wirtschaft'!G36<>\"\",'2a - Wirtschaft'!G36,\"\")","v":""},{"$f":"IF('2a - Wirtschaft'!H36<>\"\",'2a - Wirtschaft'!H36,\"\")","v":""},{"$f":"IF('2a - Wirtschaft'!I36<>\"\",'2a - Wirtschaft'!I36,\"\")","v":""},{"$f":"IF('2a - Wirtschaft'!J36<>\"\",'2a - Wirtschaft'!J36,\"\")","v":""},{"$f":"IF('2a - Wirtschaft'!K36<>\"\",'2a - Wirtschaft'!K36,\"\")","v":""},{"$f":"IF('2a - Wirtschaft'!L36<>\"\",'2a - Wirtschaft'!L36,\"\")","v":""},null,{"$f":"IF('2a - Wirtschaft'!N36<>\"\",'2a - Wirtschaft'!N36,\"\")","v":""}]
[null,null,{"$f":"'2a - Wirtschaft'!C37","v":"Das Vorhaben sichert die Infrastrukturen für kommende Generationen und fördert ihre optimale Bewirtschaftung."},null,{"$f":"IF('2a - Wirtschaft'!E37<>\"\",'2a - Wirtschaft'!E37,\"\")","v":""},{"$f":"IF('2a - Wirtschaft'!F37<>\"\",'2a - Wirtschaft'!F37,\"\")","v":""},{"$f":"IF('2a - Wirtschaft'!G37<>\"\",'2a - Wirtschaft'!G37,\"\")","v":""},{"$f":"IF('2a - Wirtschaft'!H37<>\"\",'2a - Wirtschaft'!H37,\"\")","v":""},{"$f":"IF('2a - Wirtschaft'!I37<>\"\",'2a - Wirtschaft'!I37,\"\")","v":""},{"$f":"IF('2a - Wirtschaft'!J37<>\"\",'2a - Wirtschaft'!J37,\"\")","v":""},{"$f":"IF('2a - Wirtschaft'!K37<>\"\",'2a - Wirtschaft'!K37,\"\")","v":""},{"$f":"IF('2a - Wirtschaft'!L37<>\"\",'2a - Wirtschaft'!L37,\"\")","v":""},null,{"$f":"IF('2a - Wirtschaft'!N37<>\"\",'2a - Wirtschaft'!N37,\"\")","v":""}]
[null,null,{"$f":"'2a - Wirtschaft'!C38","v":0},{"$nulls":10},{"$f":"IF('2a - Wirtschaft'!N38<>\"\",'2a - Wirtschaft'!N38,\"\")","v":""}]
[]
[]
[null,{"$f":"'2a - Wirtschaft'!B41","v":"7."},{"$f":"'2a - Wirtschaft'!C41","v":"Effizienter Einsatz natürlicher Ressourcen"},null,{"$f":"IF('2a - Wirtschaft'!E41<>\"\",'2a - Wirtschaft'!E41,\"\")","v":""},{"$f":"IF('2a - Wirtschaft'!F41<>\"\",'2a - Wirtschaft'!F41,\"\")","v":""},{"$f":"IF('2a - Wirtschaft'!G41<>\"\",'2a - Wirtschaft'!G41,\"\")","v":""},{"$f":"IF('2a - Wirtschaft'!H41<>\"\",'2a - Wirtschaft'!H41,\"\")","v":""},{"$f":"IF('2a - Wirtschaft'!I41<>\"\",'2a - Wirtschaft'!I41,\"\")","v":""},{"$f":"IF('2a - Wirtschaft'!J41<>\"\",'2a - Wirtschaft'!J41,\"\")","v":""},{"$f":"IF('2a - Wirtschaft'!K41<>\"\",'2a - Wirtschaft'!K41,\"\")","v":""},{"$f":"IF('2a - Wirtschaft'!L41<>\"\",'2a - Wirtschaft'!L41,\"\")","v":""},null,{"$f":"IF('2a - Wirtschaft'!N41<>\"\",'2a - Wirtschaft'!N41,\"\")","v":""}]
[null,null,{"$f":"'2a - Wirtschaft'!C42","v":"Das Vorhaben vermindert den Energie- und Materialaufwand bezogen auf die wirtschaftliche Leistung (Energie- und Materialeffizienz).\n\n"},null,{"$f":"IF('2a - Wirtschaft'!E42<>\"\",'2a - Wirtschaft'!E42,\"\")","v":""},{"$f":"IF('2a - Wirtschaft'!F42<>\"\",'2a - Wirtschaft'!F42,\"\")","v":""},{"$f":"IF('2a - Wirtschaft'!G42<>\"\",'2a - Wirtschaft'!G42,\"\")","v":""},{"$f":"IF('2a - Wirtschaft'!H42<>\"\",'2a - Wirtschaft'!H42,\"\")","v":""},{"$f":"IF('2a - Wirtschaft'!I42<>\"\",'2a - Wirtschaft'!I42,\"\")","v":""},{"$f":"IF('2a - Wirtschaft'!J42<>\"\",'2a - Wirtschaft'!J42,\"\")","v":""},{"$f":"IF('2a - Wirtschaft'!K42<>\"\",'2a - Wirtschaft'!K42,\"\")","v":""},{"$f":"IF('2a - Wirtschaft'!L42<>\"\",'2a - Wirtschaft'!L42,\"\")","v":""},null,{"$f":"IF('2a - Wirtschaft'!N42<>\"\",'2a - Wirtschaft'!N42,\"\")","v":""}]
[null,null,{"$f":"'2a - Wirtschaft'!C43","v":0},{"$nulls":10},{"$f":"IF('2a - Wirtschaft'!N43<>\"\",'2a - Wirtschaft'!N43,\"\")","v":""}]
[]
[]
[null,{"$f":"'2a - Wirtschaft'!B46","v":"8."},{"$f":"'2a - Wirtschaft'!C46","v":"Öffentlicher Haushalt Kanton und Gemeinden"},null,{"$f":"IF('2a - Wirtschaft'!E46<>\"\",'2a - Wirtschaft'!E46,\"\")","v":""},{"$f":"IF('2a - Wirtschaft'!F46<>\"\",'2a - Wirtschaft'!F46,\"\")","v":""},{"$f":"IF('2a - Wirtschaft'!G46<>\"\",'2a - Wirtschaft'!G46,\"\")","v":""},{"$f":"IF('2a - Wirtschaft'!H46<>\"\",'2a - Wirtschaft'!H46,\"\")","v":""},{"$f":"IF('2a - Wirtschaft'!I46<>\"\",'2a - Wirtschaft'!I46,\"\")","v":""},{"$f":"IF('2a - Wirtschaft'!J46<>\"\",'2a - Wirtschaft'!J46,\"\")","v":""},{"$f":"IF('2a - Wirtschaft'!K46<>\"\",'2a - Wirtschaft'!K46,\"\")","v":""},{"$f":"IF('2a - Wirtschaft'!L46<>\"\",'2a - Wirtschaft'!L46,\"\")","v":""},null,{"$f":"IF('2a - Wirtschaft'!N46<>\"\",'2a - Wirtschaft'!N46,\"\")","v":""}]
[null,null,{"$f":"'2a - Wirtschaft'!C47","v":"Das Vorhaben trägt zum Ausgleich des öffentlichen Haushaltes bei und reduziert die Schulden (z.B. durch Erhöhung des Steuersubstrates oder der Ausgabenminderung).\n\n\n\n"},null,{"$f":"IF('2a - Wirtschaft'!E47<>\"\",'2a - Wirtschaft'!E47,\"\")","v":""},{"$f":"IF('2a - Wirtschaft'!F47<>\"\",'2a - Wirtschaft'!F47,\"\")","v":""},{"$f":"IF('2a - Wirtschaft'!G47<>\"\",'2a - Wirtschaft'!G47,\"\")","v":""},{"$f":"IF('2a - Wirtschaft'!H47<>\"\",'2a - Wirtschaft'!H47,\"\")","v":""},{"$f":"IF('2a - Wirtschaft'!I47<>\"\",'2a - Wirtschaft'!I47,\"\")","v":""},{"$f":"IF('2a - Wirtschaft'!J47<>\"\",'2a - Wirtschaft'!J47,\"\")","v":""},{"$f":"IF('2a - Wirtschaft'!K47<>\"\",'2a - Wirtschaft'!K47,\"\")","v":""},{"$f":"IF('2a - Wirtschaft'!L47<>\"\",'2a - Wirtschaft'!L47,\"\")","v":""},null,{"$f":"IF('2a - Wirtschaft'!N47<>\"\",'2a - Wirtschaft'!N47,\"\")","v":""}]
[null,null,{"$f":"'2a - Wirtschaft'!C48","v":0},{"$nulls":10},{"$f":"IF('2a - Wirtschaft'!N48<>\"\",'2a - Wirtschaft'!N48,\"\")","v":""}]
[]
[]
[null,{"$f":"'2a - Wirtschaft'!B51","v":"9."},{"$f":"'2a - Wirtschaft'!C51","v":"Steuern und Gebühren"},null,{"$f":"IF('2a - Wirtschaft'!E51<>\"\",'2a - Wirtschaft'!E51,\"\")","v":""},{"$f":"IF('2a - Wirtschaft'!F51<>\"\",'2a - Wirtschaft'!F51,\"\")","v":""},{"$f":"IF('2a - Wirtschaft'!G51<>\"\",'2a - Wirtschaft'!G51,\"\")","v":""},{"$f":"IF('2a - Wirtschaft'!H51<>\"\",'2a - Wirtschaft'!H51,\"\")","v":""},{"$f":"IF('2a - Wirtschaft'!I51<>\"\",'2a - Wirtschaft'!I51,\"\")","v":""},{"$f":"IF('2a - Wirtschaft'!J51<>\"\",'2a - Wirtschaft'!J51,\"\")","v":""},{"$f":"IF('2a - Wirtschaft'!K51<>\"\",'2a - Wirtschaft'!K51,\"\")","v":""},{"$f":"IF('2a - Wirtschaft'!L51<>\"\",'2a - Wirtschaft'!L51,\"\")","v":""},null,{"$f":"IF('2a - Wirtschaft'!N51<>\"\",'2a - Wirtschaft'!N51,\"\")","v":""}]
[null,null,{"$f":"'2a - Wirtschaft'!C52","v":"Das Vorhaben optimiert die Steuerbelastung für natürliche und juristische Personen im Spannungsfeld Ertrag-Attraktivität und fördert verursachergerechte Gebühren. \n\n\n\n\n\n\n"},null,{"$f":"IF('2a - Wirtschaft'!E52<>\"\",'2a - Wirtschaft'!E52,\"\")","v":""},{"$f":"IF('2a - Wirtschaft'!F52<>\"\",'2a - Wirtschaft'!F52,\"\")","v":""},{"$f":"IF('2a - Wirtschaft'!G52<>\"\",'2a - Wirtschaft'!G52,\"\")","v":""},{"$f":"IF('2a - Wirtschaft'!H52<>\"\",'2a - Wirtschaft'!H52,\"\")","v":""},{"$f":"IF('2a - Wirtschaft'!I52<>\"\",'2a - Wirtschaft'!I52,\"\")","v":""},{"$f":"IF('2a - Wirtschaft'!J52<>\"\",'2a - Wirtschaft'!J52,\"\")","v":""},{"$f":"IF('2a - Wirtschaft'!K52<>\"\",'2a - Wirtschaft'!K52,\"\")","v":""},{"$f":"IF('2a - Wirtschaft'!L52<>\"\",'2a - Wirtschaft'!L52,\"\")","v":""},null,{"$f":"IF('2a - Wirtschaft'!N52<>\"\",'2a - Wirtschaft'!N52,\"\")","v":""}]
[null,null,{"$f":"'2a - Wirtschaft'!C53","v":0},{"$nulls":10},{"$f":"IF('2a - Wirtschaft'!N53<>\"\",'2a - Wirtschaft'!N53,\"\")","v":""}]
[]
[]
[null,{"$f":"'2a - Wirtschaft'!B56","v":"10."},{"$f":"'2a - Wirtschaft'!C56","v":"Leistungsfähiger Staat"},null,{"$f":"IF('2a - Wirtschaft'!E56<>\"\",'2a - Wirtschaft'!E56,\"\")","v":""},{"$f":"IF('2a - Wirtschaft'!F56<>\"\",'2a - Wirtschaft'!F56,\"\")","v":""},{"$f":"IF('2a - Wirtschaft'!G56<>\"\",'2a - Wirtschaft'!G56,\"\")","v":""},{"$f":"IF('2a - Wirtschaft'!H56<>\"\",'2a - Wirtschaft'!H56,\"\")","v":""},{"$f":"IF('2a - Wirtschaft'!I56<>\"\",'2a - Wirtschaft'!I56,\"\")","v":""},{"$f":"IF('2a - Wirtschaft'!J56<>\"\",'2a - Wirtschaft'!J56,\"\")","v":""},{"$f":"IF('2a - Wirtschaft'!K56<>\"\",'2a - Wirtschaft'!K56,\"\")","v":""},{"$f":"IF('2a - Wirtschaft'!L56<>\"\",'2a - Wirtschaft'!L56,\"\")","v":""},null,{"$f":"IF('2a - Wirtschaft'!N56<>\"\",'2a - Wirtschaft'!N56,\"\")","v":""}]
[null,null,{"$f":"'2a - Wirtschaft'!C57","v":"Das Vorhaben sichert und steigert die Leistungsfähigkeit (Wirtschaftlichkeit und Wirksamkeit) des Staats."},null,{"$f":"IF('2a - Wirtschaft'!E57<>\"\",'2a - Wirtschaft'!E57,\"\")","v":""},{"$f":"IF('2a - Wirtschaft'!F57<>\"\",'2a - Wirtschaft'!F57,\"\")","v":""},{"$f":"IF('2a - Wirtschaft'!G57<>\"\",'2a - Wirtschaft'!G57,\"\")","v":""},{"$f":"IF('2a - Wirtschaft'!H57<>\"\",'2a - Wirtschaft'!H57,\"\")","v":""},{"$f":"IF('2a - Wirtschaft'!I57<>\"\",'2a - Wirtschaft'!I57,\"\")","v":""},{"$f":"IF('2a - Wirtschaft'!J57<>\"\",'2a - Wirtschaft'!J57,\"\")","v":""},{"$f":"IF('2a - Wirtschaft'!K57<>\"\",'2a - Wirtschaft'!K57,\"\")","v":""},{"$f":"IF('2a - Wirtschaft'!L57<>\"\",'2a - Wirtschaft'!L57,\"\")","v":""},null,{"$f":"IF('2a - Wirtschaft'!N57<>\"\",'2a - Wirtschaft'!N57,\"\")","v":""}]
[null,null,{"$f":"'2a - Wirtschaft'!C58","v":0},{"$nulls":10},{"$f":"IF('2a - Wirtschaft'!N58<>\"\",'2a - Wirtschaft'!N58,\"\")","v":""}]
[]
[null,{"$f":"'2a - Wirtschaft'!B60","v":"Fazit Wirtschaft"}]
[null,{"$f":"IF('2a - Wirtschaft'!B61<>\"\",'2a - Wirtschaft'!B61,\"\")","v":""},{"$f":"IF('2a - Wirtschaft'!C61<>\"\",'2a - Wirtschaft'!C61,\"\")","v":""},{"$f":"IF('2a - Wirtschaft'!D61<>\"\",'2a - Wirtschaft'!D61,\"\")","v":""},{"$f":"IF('2a - Wirtschaft'!E61<>\"\",'2a - Wirtschaft'!E61,\"\")","v":""},{"$f":"IF('2a - Wirtschaft'!F61<>\"\",'2a - Wirtschaft'!F61,\"\")","v":""},{"$f":"IF('2a - Wirtschaft'!G61<>\"\",'2a - Wirtschaft'!G61,\"\")","v":""},{"$f":"IF('2a - Wirtschaft'!H61<>\"\",'2a - Wirtschaft'!H61,\"\")","v":""},{"$f":"IF('2a - Wirtschaft'!I61<>\"\",'2a - Wirtschaft'!I61,\"\")","v":""},{"$f":"IF('2a - Wirtschaft'!J61<>\"\",'2a - Wirtschaft'!J61,\"\")","v":""},{"$f":"IF('2a - Wirtschaft'!K61<>\"\",'2a - Wirtschaft'!K61,\"\")","v":""},{"$f":"IF('2a - Wirtschaft'!L61<>\"\",'2a - Wirtschaft'!L61,\"\")","v":""},{"$f":"IF('2a - Wirtschaft'!M61<>\"\",'2a - Wirtschaft'!M61,\"\")","v":""},{"$f":"IF('2a - Wirtschaft'!N61<>\"\",'2a - Wirtschaft'!N61,\"\")","v":""}]

{"sheet":"D - Gesellschaft","index":18,"n_rows":61,"n_cols":14,"rows_kept":61,"hidden":true,"merged":[[10,4,11,4],[10,13,12,13],[11,2,12,2],[15,4,16,4],[15,13,17,13],[20,4,21,4],[20,13,22,13],[21,2,22,2],[25,4,26,4],[25,13,27,13],[26,2,27,2],[30,4,31,4],[30,13,32,13],[31,2,32,2],[35,4,36,4],[35,13,37,13],[36,2,37,2],[40,4,41,4],[40,13,42,13],[41,2,42,2],[45,4,46,4],[45,13,47,13],[46,2,47,2],[50,4,51,4],[50,13,52,13],[51,2,52,2],[55,4,56,4],[55,13,57,13],[56,2,57,2],[60,1,60,13]]}
[]
[null,{"$f":"'2b - Gesellschaft'!B2","v":"Detailabklärungen Dimension Gesellschaft"}]
[null,"Frage: Welche Auswirkungen hat das Vorhaben auf die Themenbereiche der Dimension Gesellschaft?"]
[]
[]
[null,{"$f":"'2b - Gesellschaft'!B6","v":"Nr."},{"$f":"'2b - Gesellschaft'!C6","v":"Teilfrage"},null,{"$f":"'2b - Gesellschaft'!E6","v":"Keine"},{"$f":"'2b - Gesellschaft'!F6","v":"Kurzfristig"},{"$nulls":7},{"$f":"'2b - Gesellschaft'!N6","v":"Bemerkungen"}]
[{"$nulls":4},{"$f":"'2b - Gesellschaft'!E7","v":"Relevanz"},{"$f":"'2b - Gesellschaft'!F7","v":"Langfristig"}]
[{"$nulls":5},{"$f":"'2b - Gesellschaft'!F8","v":-3},{"$f":"'2b - Gesellschaft'!G8","v":-2},{"$f":"'2b - Gesellschaft'!H8","v":-1},{"$f":"'2b - Gesellschaft'!I8","v":0},{"$f":"'2b - Gesellschaft'!J8","v":1},{"$f":"'2b - Gesellschaft'!K8","v":2},{"$f":"'2b - Gesellschaft'!L8","v":3}]
[]
[]
[null,{"$f":"'2b - Gesellschaft'!B11","v":"1."},{"$f":"'2b - Gesellschaft'!C11","v":"Bildung"},null,{"$f":"IF('2b - Gesellschaft'!E11<>\"\",'2b - Gesellschaft'!E11,\"\")","v":""},{"$f":"IF('2b - Gesellschaft'!F11<>\"\",'2b - Gesellschaft'!F11,\"\")","v":""},{"$f":"IF('2b - Gesellschaft'!G11<>\"\",'2b - Gesellschaft'!G11,\"\")","v":""},{"$f":"IF('2b - Gesellschaft'!H11<>\"\",'2b - Gesellschaft'!H11,\"\")","v":""},{"$f":"IF('2b - Gesellschaft'!I11<>\"\",'2b - Gesellschaft'!I11,\"\")","v":""},{"$f":"IF('2b - Gesellschaft'!J11<>\"\",'2b - Gesellschaft'!J11,\"\")","v":""},{"$f":"IF('2b - Gesellschaft'!K11<>\"\",'2b - Gesellschaft'!K11,\"\")","v":""},{"$f":"IF('2b - Gesellschaft'!L11<>\"\",'2b - Gesellschaft'!L11,\"\")","v":""},null,{"$f":"IF('2b - Gesellschaft'!N11<>\"\",'2b - Gesellschaft'!N11,\"\")","v":""}]
[null,null,{"$f":"'2b - Gesellschaft'!C12","v":"Das Vorhaben fördert die Entfaltung der fachlichen und sozialen Kompetenzen der Bevölkerung und insbesondere eine nachobligatorische Ausbildung."},null,{"$f":"IF('2b - Gesellschaft'!E12<>\"\",'2b - Gesellschaft'!E12,\"\")","v":""},{"$f":"IF('2b - Gesellschaft'!F12<>\"\",'2b - Gesellschaft'!F12,\"\")","v":""},{"$f":"IF('2b - Gesellschaft'!G12<>\"\",'2b - Gesellschaft'!G12,\"\")","v":""},{"$f":"IF('2b - Gesellschaft'!H12<>\"\",'2b - Gesellschaft'!H12,\"\")","v":""},{"$f":"IF('2b - Gesellschaft'!I12<>\"\",'2b - Gesellschaft'!I12,\"\")","v":""},{"$f":"IF('2b - Gesellschaft'!J12<>\"\",'2b - Gesellschaft'!J12,\"\")","v":""},{"$f":"IF('2b - Gesellschaft'!K12<>\"\",'2b - Gesellschaft'!K12,\"\")","v":""},{"$f":"IF('2b - Gesellschaft'!L12<>\"\",'2b - Gesellschaft'!L12,\"\")","v":""},null,{"$f":"IF('2b - Gesellschaft'!N12<>\"\",'2b - Gesellschaft'!N12,\"\")","v":""}]
[null,null,{"$f":"'2b - Gesellschaft'!C13","v":0},{"$nulls":10},{"$f":"IF('2b - Gesellschaft'!N13<>\"\",'2b - Gesellschaft'!N13,\"\")","v":""}]
[]
[]
[null,{"$f":"'2b - Gesellschaft'!B16","v":"2."},{"$f":"'2b - Gesellschaft'!C16","v":"Einkommen, Armut und soziale"},null,{"$f":"IF('2b - Gesellschaft'!E16<>\"\",'2b - Gesellschaft'!E16,\"\")","v":""},{"$f":"IF('2b - Gesellschaft'!F16<>\"\",'2b - Gesellschaft'!F16,\"\")","v":""},{"$f":"IF('2b - Gesellschaft'!G16<>\"\",'2b - Gesellschaft'!G16,\"\")","v":""},{"$f":"IF('2b - Gesellschaft'!H16<>\"\",'2b - Gesellschaft'!H16,\"\")","v":""},{"$f":"IF('2b - Gesellschaft'!I16<>\"\",'2b - Gesellschaft'!I16,\"\")","v":""},{"$f":"IF('2b - Gesellschaft'!J16<>\"\",'2b - Gesellschaft'!J16,\"\")","v":""},{"$f":"IF('2b - Gesellschaft'!K16<>\"\",'2b - Gesellschaft'!K16,\"\")","v":""},{"$f":"IF('2b - Gesellschaft'!L16<>\"\",'2b - Gesellschaft'!L16,\"\")","v":""},null,{"$f":"IF('2b - Gesellschaft'!N16<>\"\",'2b - Gesellschaft'!N16,\"\")","v":""}]
[null,null,{"$f":"'2b - Gesellschaft'!C17","v":"Unterstützung"},null,{"$f":"IF('2b - Gesellschaft'!E17<>\"\",'2b - Gesellschaft'!E17,\"\")","v":""},{"$f":"IF('2b - Gesellschaft'!F17<>\"\",'2b - Gesellschaft'!F17,\"\")","v":""},{"$f":"IF('2b - Gesellschaft'!G17<>\"\",'2b - Gesellschaft'!G17,\"\")","v":""},{"$f":"IF('2b - Gesellschaft'!H17<>\"\",'2b - Gesellschaft'!H17,\"\")","v":""},{"$f":"IF('2b - Gesellschaft'!I17<>\"\",'2b - Gesellschaft'!I17,\"\")","v":""},{"$f":"IF('2b - Gesellschaft'!J17<>\"\",'2b - Gesellschaft'!J17,\"\")","v":""},{"$f":"IF('2b - Gesellschaft'!K17<>\"\",'2b - Gesellschaft'!K17,\"\")","v":""},{"$f":"IF('2b - Gesellschaft'!L17<>\"\",'2b - Gesellschaft'!L17,\"\")","v":""},null,{"$f":"IF('2b - Gesellschaft'!N17<>\"\",'2b - Gesellschaft'!N17,\"\")","v":""}]
[null,null,{"$f":"'2b - Gesellschaft'!C18","v":"Das Vorhaben trägt zu einem existenzsichernden Einkommen für alle Bevölkerungsgruppen bei (z.B. durch Arbeitspätze für wenig Qualifizierte) und stabilisiert den Unterstützungsbedarf.\n\n\n\n\n"},{"$nulls":10},{"$f":"IF('2b - Gesellschaft'!N18<>\"\",'2b - Gesellschaft'!N18,\"\")","v":""}]
[]
[]
[null,{"$f":"'2b - Gesellschaft'!B21","v":"3."},{"$f":"'2b - Gesellschaft'!C21","v":"Integration"},null,{"$f":"IF('2b - Gesellschaft'!E21<>\"\",'2b - Gesellschaft'!E21,\"\")","v":""},{"$f":"IF('2b - Gesellschaft'!F21<>\"\",'2b - Gesellschaft'!F21,\"\")","v":""},{"$f":"IF('2b - Gesellschaft'!G21<>\"\",'2b - Gesellschaft'!G21,\"\")","v":""},{"$f":"IF('2b - Gesellschaft'!H21<>\"\",'2b - Gesellschaft'!H21,\"\")","v":""},{"$f":"IF('2b - Gesellschaft'!I21<>\"\",'2b - Gesellschaft'!I21,\"\")","v":""},{"$f":"IF('2b - Gesellschaft'!J21<>\"\",'2b - Gesellschaft'!J21,\"\")","v":""},{"$f":"IF('2b - Gesellschaft'!K21<>\"\",'2b - Gesellschaft'!K21,\"\")","v":""},{"$f":"IF('2b - Gesellschaft'!L21<>\"\",'2b - Gesellschaft'!L21,\"\")","v":""},null,{"$f":"IF('2b - Gesellschaft'!N21<>\"\",'2b - Gesellschaft'!N21,\"\")","v":""}]
[null,null,{"$f":"'2b - Gesellschaft'!C22","v":"Das Vorhaben fördert die gleiche Teilnahme am wirtschaftlichen und gesellschaftlichen Leben aller  Bevölkerungsgruppen, insbesondere der ausländischen Bevölkerung."},null,{"$f":"IF('2b - Gesellschaft'!E22<>\"\",'2b - Gesellschaft'!E22,\"\")","v":""},{"$f":"IF('2b - Gesellschaft'!F22<>\"\",'2b - Gesellschaft'!F22,\"\")","v":""},{"$f":"IF('2b - Gesellschaft'!G22<>\"\",'2b - Gesellschaft'!G22,\"\")","v":""},{"$f":"IF('2b - Gesellschaft'!H22<>\"\",'2b - Gesellschaft'!H22,\"\")","v":""},{"$f":"IF('2b - Gesellschaft'!I22<>\"\",'2b - Gesellschaft'!I22,\"\")","v":""},{"$f":"IF('2b - Gesellschaft'!J22<>\"\",'2b - Gesellschaft'!J22,\"\")","v":""},{"$f":"IF('2b - Gesellschaft'!K22<>\"\",'2b - Gesellschaft'!K22,\"\")","v":""},{"$f":"IF('2b - Gesellschaft'!L22<>\"\",'2b - Gesellschaft'!L22,\"\")","v":""},null,{"$f":"IF('2b - Gesellschaft'!N22<>\"\",'2b - Gesellschaft'!N22,\"\")","v":""}]
[null,null,{"$f":"'2b - Gesellschaft'!C23","v":0},{"$nulls":10},{"$f":"IF('2b - Gesellschaft'!N23<>\"\",'2b - Gesellschaft'!N23,\"\")","v":""}]
[]
[]
[null,{"$f":"'2b - Gesellschaft'!B26","v":"4."},{"$f":"'2b - Gesellschaft'!C26","v":"Sozialer Zusammenhalt"},null,{"$f":"IF('2b - Gesellschaft'!E26<>\"\",'2b - Gesellschaft'!E26,\"\")","v":""},{"$f":"IF('2b - Gesellschaft'!F26<>\"\",'2b - Gesellschaft'!F26,\"\")","v":""},{"$f":"IF('2b - Gesellschaft'!G26<>\"\",'2b - Gesellschaft'!G26,\"\")","v":""},{"$f":"IF('2b - Gesellschaft'!H26<>\"\",'2b - Gesellschaft'!H26,\"\")","v":""},{"$f":"IF('2b - Gesellschaft'!I26<>\"\",'2b - Gesellschaft'!I26,\"\")","v":""},{"$f":"IF('2b - Gesellschaft'!J26<>\"\",'2b - Gesellschaft'!J26,\"\")","v":""},{"$f":"IF('2b - Gesellschaft'!K26<>\"\",'2b - Gesellschaft'!K26,\"\")","v":""},{"$f":"IF('2b - Gesellschaft'!L26<>\"\",'2b - Gesellschaft'!L26,\"\")","v":""},null,{"$f":"IF('2b - Gesellschaft'!N26<>\"\",'2b - Gesellschaft'!N26,\"\")","v":""}]
[null,null,{"$f":"'2b - Gesellschaft'!C27","v":"Das Vorhaben stärkt das gemeinschaftliche Verbundenheitsgefühl in der Bevölkerung."},null,{"$f":"IF('2b - Gesellschaft'!E27<>\"\",'2b - Gesellschaft'!E27,\"\")","v":""},{"$f":"IF('2b - Gesellschaft'!F27<>\"\",'2b - Gesellschaft'!F27,\"\")","v":""},{"$f":"IF('2b - Gesellschaft'!G27<>\"\",'2b - Gesellschaft'!G27,\"\")","v":""},{"$f":"IF('2b - Gesellschaft'!H27<>\"\",'2b - Gesellschaft'!H27,\"\")","v":""},{"$f":"IF('2b - Gesellschaft'!I27<>\"\",'2b - Gesellschaft'!I27,\"\")","v":""},{"$f":"IF('2b - Gesellschaft'!J27<>\"\",'2b - Gesellschaft'!J27,\"\")","v":""},{"$f":"IF('2b - Gesellschaft'!K27<>\"\",'2b - Gesellschaft'!K27,\"\")","v":""},{"$f":"IF('2b - Gesellschaft'!L27<>\"\",'2b - Gesellschaft'!L27,\"\")","v":""},null,{"$f":"IF('2b - Gesellschaft'!N27<>\"\",'2b - Gesellschaft'!N27,\"\")","v":""}]
[null,null,{"$f":"'2b - Gesellschaft'!C28","v":0},{"$nulls":10},{"$f":"IF('2b - Gesellschaft'!N28<>\"\",'2b - Gesellschaft'!N28,\"\")","v":""}]
[]
[]
[null,{"$f":"'2b - Gesellschaft'!B31","v":"5."},{"$f":"'2b - Gesellschaft'!C31","v":"Chancengerechtigkeit"},null,{"$f":"IF('2b - Gesellschaft'!E31<>\"\",'2b - Gesellschaft'!E31,\"\")","v":""},{"$f":"IF('2b - Gesellschaft'!F31<>\"\",'2b - Gesellschaft'!F31,\"\")","v":""},{"$f":"IF('2b - Gesellschaft'!G31<>\"\",'2b - Gesellschaft'!G31,\"\")","v":""},{"$f":"IF('2b - Gesellschaft'!H31<>\"\",'2b - Gesellschaft'!H31,\"\")","v":""},{"$f":"IF('2b - Gesellschaft'!I31<>\"\",'2b - Gesellschaft'!I31,\"\")","v":""},{"$f":"IF('2b - Gesellschaft'!J31<>\"\",'2b - Gesellschaft'!J31,\"\")","v":""},{"$f":"IF('2b - Gesellschaft'!K31<>\"\",'2b - Gesellschaft'!K31,\"\")","v":""},{"$f":"IF('2b - Gesellschaft'!L31<>\"\",'2b - Gesellschaft'!L31,\"\")","v":""},null,{"$f":"IF('2b - Gesellschaft'!N31<>\"\",'2b - Gesellschaft'!N31,\"\")","v":""}]
[null,null,{"$f":"'2b - Gesellschaft'!C32","v":"Das Vorhaben fördert die Chancengerechtigkeit von Frauen und Männern, Behinderten und Nicht-Behinderten."},null,{"$f":"IF('2b - Gesellschaft'!E32<>\"\",'2b - Gesellschaft'!E32,\"\")","v":""},{"$f":"IF('2b - Gesellschaft'!F32<>\"\",'2b - Gesellschaft'!F32,\"\")","v":""},{"$f":"IF('2b - Gesellschaft'!G32<>\"\",'2b - Gesellschaft'!G32,\"\")","v":""},{"$f":"IF('2b - Gesellschaft'!H32<>\"\",'2b - Gesellschaft'!H32,\"\")","v":""},{"$f":"IF('2b - Gesellschaft'!I32<>\"\",'2b - Gesellschaft'!I32,\"\")","v":""},{"$f":"IF('2b - Gesellschaft'!J32<>\"\",'2b - Gesellschaft'!J32,\"\")","v":""},{"$f":"IF('2b - Gesellschaft'!K32<>\"\",'2b - Gesellschaft'!K32,\"\")","v":""},{"$f":"IF('2b - Gesellschaft'!L32<>\"\",'2b - Gesellschaft'!L32,\"\")","v":""},null,{"$f":"IF('2b - Gesellschaft'!N32<>\"\",'2b - Gesellschaft'!N32,\"\")","v":""}]
[null,null,{"$f":"'2b - Gesellschaft'!C33","v":0},{"$nulls":10},{"$f":"IF('2b - Gesellschaft'!N33<>\"\",'2b - Gesellschaft'!N33,\"\")","v":""}]
[]
[]
[null,{"$f":"'2b - Gesellschaft'!B36","v":"6."},{"$f":"'2b - Gesellschaft'!C36","v":"Gesundheit und Wohlbefinden"},null,{"$f":"IF('2b - Gesellschaft'!E36<>\"\",'2b - Gesellschaft'!E36,\"\")","v":""},{"$f":"IF('2b - Gesellschaft'!F36<>\"\",'2b - Gesellschaft'!F36,\"\")","v":""},{"$f":"IF('2b - Gesellschaft'!G36<>\"\",'2b - Gesellschaft'!G36,\"\")","v":""},{"$f":"IF('2b - Gesellschaft'!H36<>\"\",'2b - Gesellschaft'!H36,\"\")","v":""},{"$f":"IF('2b - Gesellschaft'!I36<>\"\",'2b - Gesellschaft'!I36,\"\")","v":""},{"$f":"IF('2b - Gesellschaft'!J36<>\"\",'2b - Gesellschaft'!J36,\"\")","v":""},{"$f":"IF('2b - Gesellschaft'!K36<>\"\",'2b - Gesellschaft'!K36,\"\")","v":""},{"$f":"IF('2b - Gesellschaft'!L36<>\"\",'2b - Gesellschaft'!L36,\"\")","v":""},null,{"$f":"IF('2b - Gesellschaft'!N36<>\"\",'2b - Gesellschaft'!N36,\"\")","v":""}]
[null,null,{"$f":"'2b - Gesellschaft'!C37","v":"Das Vorhaben steigert das gesundheitliche Wohlbefinden und den Gesundheitszustand der Bevölkerung."},null,{"$f":"IF('2b - Gesellschaft'!E37<>\"\",'2b - Gesellschaft'!E37,\"\")","v":""},{"$f":"IF('2b - Gesellschaft'!F37<>\"\",'2b - Gesellschaft'!F37,\"\")","v":""},{"$f":"IF('2b - Gesellschaft'!G37<>\"\",'2b - Gesellschaft'!G37,\"\")","v":""},{"$f":"IF('2b - Gesellschaft'!H37<>\"\",'2b - Gesellschaft'!H37,\"\")","v":""},{"$f":"IF('2b - Gesellschaft'!I37<>\"\",'2b - Gesellschaft'!I37,\"\")","v":""},{"$f":"IF('2b - Gesellschaft'!J37<>\"\",'2b - Gesellschaft'!J37,\"\")","v":""},{"$f":"IF('2b - Gesellschaft'!K37<>\"\",'2b - Gesellschaft'!K37,\"\")","v":""},{"$f":"IF('2b - Gesellschaft'!L37<>\"\",'2b - Gesellschaft'!L37,\"\")","v":""},null,{"$f":"IF('2b - Gesellschaft'!N37<>\"\",'2b - Gesellschaft'!N37,\"\")","v":""}]
[null,null,{"$f":"'2b - Gesellschaft'!C38","v":0},{"$nulls":10},{"$f":"IF('2b - Gesellschaft'!N38<>\"\",'2b - Gesellschaft'!N38,\"\")","v":""}]
[]
[]
[null,{"$f":"'2b - Gesellschaft'!B41","v":"7."},{"$f":"'2b - Gesellschaft'!C41","v":"Wohnqualität "},null,{"$f":"IF('2b - Gesellschaft'!E41<>\"\",'2b - Gesellschaft'!E41,\"\")","v":""},{"$f":"IF('2b - Gesellschaft'!F41<>\"\",'2b - Gesellschaft'!F41,\"\")","v":""},{"$f":"IF('2b - Gesellschaft'!G41<>\"\",'2b - Gesellschaft'!G41,\"\")","v":""},{"$f":"IF('2b - Gesellschaft'!H41<>\"\",'2b - Gesellschaft'!H41,\"\")","v":""},{"$f":"IF('2b - Gesellschaft'!I41<>\"\",'2b - Gesellschaft'!I41,\"\")","v":""},{"$f":"IF('2b - Gesellschaft'!J41<>\"\",'2b - Gesellschaft'!J41,\"\")","v":""},{"$f":"IF('2b - Gesellschaft'!K41<>\"\",'2b - Gesellschaft'!K41,\"\")","v":""},{"$f":"IF('2b - Gesellschaft'!L41<>\"\",'2b - Gesellschaft'!L41,\"\")","v":""},null,{"$f":"IF('2b - Gesellschaft'!N41<>\"\",'2b - Gesellschaft'!N41,\"\")","v":""}]
[null,null,{"$f":"'2b - Gesellschaft'!C42","v":"Das Vorhaben sichert und fördert eine hohe Wohnqualität und vermindert die Lärmemissionen und -immissionen."},null,{"$f":"IF('2b - Gesellschaft'!E42<>\"\",'2b - Gesellschaft'!E42,\"\")","v":""},{"$f":"IF('2b - Gesellschaft'!F42<>\"\",'2b - Gesellschaft'!F42,\"\")","v":""},{"$f":"IF('2b - Gesellschaft'!G42<>\"\",'2b - Gesellschaft'!G42,\"\")","v":""},{"$f":"IF('2b - Gesellschaft'!H42<>\"\",'2b - Gesellschaft'!H42,\"\")","v":""},{"$f":"IF('2b - Gesellschaft'!I42<>\"\",'2b - Gesellschaft'!I42,\"\")","v":""},{"$f":"IF('2b - Gesellschaft'!J42<>\"\",'2b - Gesellschaft'!J42,\"\")","v":""},{"$f":"IF('2b - Gesellschaft'!K42<>\"\",'2b - Gesellschaft'!K42,\"\")","v":""},{"$f":"IF('2b - Gesellschaft'!L42<>\"\",'2b - Gesellschaft'!L42,\"\")","v":""},null,{"$f":"IF('2b - Gesellschaft'!N42<>\"\",'2b - Gesellschaft'!N42,\"\")","v":""}]
[null,null,{"$f":"'2b - Gesellschaft'!C43","v":0},{"$nulls":10},{"$f":"IF('2b - Gesellschaft'!N43<>\"\",'2b - Gesellschaft'!N43,\"\")","v":""}]
[]
[]
[null,{"$f":"'2b - Gesellschaft'!B46","v":"8."},{"$f":"'2b - Gesellschaft'!C46","v":"Sicherheit"},null,{"$f":"IF('2b - Gesellschaft'!E46<>\"\",'2b - Gesellschaft'!E46,\"\")","v":""},{"$f":"IF('2b - Gesellschaft'!F46<>\"\",'2b - Gesellschaft'!F46,\"\")","v":""},{"$f":"IF('2b - Gesellschaft'!G46<>\"\",'2b - Gesellschaft'!G46,\"\")","v":""},{"$f":"IF('2b - Gesellschaft'!H46<>\"\",'2b - Gesellschaft'!H46,\"\")","v":""},{"$f":"IF('2b - Gesellschaft'!I46<>\"\",'2b - Gesellschaft'!I46,\"\")","v":""},{"$f":"IF('2b - Gesellschaft'!J46<>\"\",'2b - Gesellschaft'!J46,\"\")","v":""},{"$f":"IF('2b - Gesellschaft'!K46<>\"\",'2b - Gesellschaft'!K46,\"\")","v":""},{"$f":"IF('2b - Gesellschaft'!L46<>\"\",'2b - Gesellschaft'!L46,\"\")","v":""},null,{"$f":"IF('2b - Gesellschaft'!N46<>\"\",'2b - Gesellschaft'!N46,\"\")","v":""}]
[null,null,{"$f":"'2b - Gesellschaft'!C47","v":"Das Vorhaben sichert und fördert die subjektive und die objektive Sicherheit."},null,{"$f":"IF('2b - Gesellschaft'!E47<>\"\",'2b - Gesellschaft'!E47,\"\")","v":""},{"$f":"IF('2b - Gesellschaft'!F47<>\"\",'2b - Gesellschaft'!F47,\"\")","v":""},{"$f":"IF('2b - Gesellschaft'!G47<>\"\",'2b - Gesellschaft'!G47,\"\")","v":""},{"$f":"IF('2b - Gesellschaft'!H47<>\"\",'2b - Gesellschaft'!H47,\"\")","v":""},{"$f":"IF('2b - Gesellschaft'!I47<>\"\",'2b - Gesellschaft'!I47,\"\")","v":""},{"$f":"IF('2b - Gesellschaft'!J47<>\"\",'2b - Gesellschaft'!J47,\"\")","v":""},{"$f":"IF('2b - Gesellschaft'!K47<>\"\",'2b - Gesellschaft'!K47,\"\")","v":""},{"$f":"IF('2b - Gesellschaft'!L47<>\"\",'2b - Gesellschaft'!L47,\"\")","v":""},null,{"$f":"IF('2b - Gesellschaft'!N47<>\"\",'2b - Gesellschaft'!N47,\"\")","v":""}]
[null,null,{"$f":"'2b - Gesellschaft'!C48","v":0},{"$nulls":10},{"$f":"IF('2b - Gesellschaft'!N48<>\"\",'2b - Gesellschaft'!N48,\"\")","v":""}]
[]
[]
[null,{"$f":"'2b - Gesellschaft'!B51","v":"9."},{"$f":"'2b - Gesellschaft'!C51","v":"Kultur und Ortsbild"},null,{"$f":"IF('2b - Gesellschaft'!E51<>\"\",'2b - Gesellschaft'!E51,\"\")","v":""},{"$f":"IF('2b - Gesellschaft'!F51<>\"\",'2b - Gesellschaft'!F51,\"\")","v":""},{"$f":"IF('2b - Gesellschaft'!G51<>\"\",'2b - Gesellschaft'!G51,\"\")","v":""},{"$f":"IF('2b - Gesellschaft'!H51<>\"\",'2b - Gesellschaft'!H51,\"\")","v":""},{"$f":"IF('2b - Gesellschaft'!I51<>\"\",'2b - Gesellschaft'!I51,\"\")","v":""},{"$f":"IF('2b - Gesellschaft'!J51<>\"\",'2b - Gesellschaft'!J51,\"\")","v":""},{"$f":"IF('2b - Gesellschaft'!K51<>\"\",'2b - Gesellschaft'!K51,\"\")","v":""},{"$f":"IF('2b - Gesellschaft'!L51<>\"\",'2b - Gesellschaft'!L51,\"\")","v":""},null,{"$f":"IF('2b - Gesellschaft'!N51<>\"\",'2b - Gesellschaft'!N51,\"\")","v":""}]
[null,null,{"$f":"'2b - Gesellschaft'!C52","v":"Das Vorhaben macht Kultur zugänglich, sichert das kulturelle Erbe und fördert das künstlerische Schaffen."},null,{"$f":"IF('2b - Gesellschaft'!E52<>\"\",'2b - Gesellschaft'!E52,\"\")","v":""},{"$f":"IF('2b - Gesellschaft'!F52<>\"\",'2b - Gesellschaft'!F52,\"\")","v":""},{"$f":"IF('2b - Gesellschaft'!G52<>\"\",'2b - Gesellschaft'!G52,\"\")","v":""},{"$f":"IF('2b - Gesellschaft'!H52<>\"\",'2b - Gesellschaft'!H52,\"\")","v":""},{"$f":"IF('2b - Gesellschaft'!I52<>\"\",'2b - Gesellschaft'!I52,\"\")","v":""},{"$f":"IF('2b - Gesellschaft'!J52<>\"\",'2b - Gesellschaft'!J52,\"\")","v":""},{"$f":"IF('2b - Gesellschaft'!K52<>\"\",'2b - Gesellschaft'!K52,\"\")","v":""},{"$f":"IF('2b - Gesellschaft'!L52<>\"\",'2b - Gesellschaft'!L52,\"\")","v":""},null,{"$f":"IF('2b - Gesellschaft'!N52<>\"\",'2b - Gesellschaft'!N52,\"\")","v":""}]
[null,null,{"$f":"'2b - Gesellschaft'!C53","v":0},{"$nulls":10},{"$f":"IF('2b - Gesellschaft'!N53<>\"\",'2b - Gesellschaft'!N53,\"\")","v":""}]
[]
[]
[null,{"$f":"'2b - Gesellschaft'!B56","v":"10."},{"$f":"'2b - Gesellschaft'!C56","v":"Politische Beteiligung"},null,{"$f":"IF('2b - Gesellschaft'!E56<>\"\",'2b - Gesellschaft'!E56,\"\")","v":""},{"$f":"IF('2b - Gesellschaft'!F56<>\"\",'2b - Gesellschaft'!F56,\"\")","v":""},{"$f":"IF('2b - Gesellschaft'!G56<>\"\",'2b - Gesellschaft'!G56,\"\")","v":""},{"$f":"IF('2b - Gesellschaft'!H56<>\"\",'2b - Gesellschaft'!H56,\"\")","v":""},{"$f":"IF('2b - Gesellschaft'!I56<>\"\",'2b - Gesellschaft'!I56,\"\")","v":""},{"$f":"IF('2b - Gesellschaft'!J56<>\"\",'2b - Gesellschaft'!J56,\"\")","v":""},{"$f":"IF('2b - Gesellschaft'!K56<>\"\",'2b - Gesellschaft'!K56,\"\")","v":""},{"$f":"IF('2b - Gesellschaft'!L56<>\"\",'2b - Gesellschaft'!L56,\"\")","v":""},null,{"$f":"IF('2b - Gesellschaft'!N56<>\"\",'2b - Gesellschaft'!N56,\"\")","v":""}]
[null,null,{"$f":"'2b - Gesellschaft'!C57","v":"Das Vorhaben ermöglicht und fördert eine direkte und indirekte Partizipation der Bevölkerung an gesellschaftlichen Entscheidungen."},null,{"$f":"IF('2b - Gesellschaft'!E57<>\"\",'2b - Gesellschaft'!E57,\"\")","v":""},{"$f":"IF('2b - Gesellschaft'!F57<>\"\",'2b - Gesellschaft'!F57,\"\")","v":""},{"$f":"IF('2b - Gesellschaft'!G57<>\"\",'2b - Gesellschaft'!G57,\"\")","v":""},{"$f":"IF('2b - Gesellschaft'!H57<>\"\",'2b - Gesellschaft'!H57,\"\")","v":""},{"$f":"IF('2b - Gesellschaft'!I57<>\"\",'2b - Gesellschaft'!I57,\"\")","v":""},{"$f":"IF('2b - Gesellschaft'!J57<>\"\",'2b - Gesellschaft'!J57,\"\")","v":""},{"$f":"IF('2b - Gesellschaft'!K57<>\"\",'2b - Gesellschaft'!K57,\"\")","v":""},{"$f":"IF('2b - Gesellschaft'!L57<>\"\",'2b - Gesellschaft'!L57,\"\")","v":""},null,{"$f":"IF('2b - Gesellschaft'!N57<>\"\",'2b - Gesellschaft'!N57,\"\")","v":""}]
[null,null,{"$f":"'2b - Gesellschaft'!C58","v":0},{"$nulls":10},{"$f":"IF('2b - Gesellschaft'!N58<>\"\",'2b - Gesellschaft'!N58,\"\")","v":""}]
[]
[null,{"$f":"'2b - Gesellschaft'!B60","v":"Fazit Gesellschaft"}]
[null,{"$f":"IF('2b - Gesellschaft'!B61<>\"\",'2b - Gesellschaft'!B61,\"\")","v":""},{"$f":"IF('2b - Gesellschaft'!C61<>\"\",'2b - Gesellschaft'!C61,\"\")","v":""},{"$f":"IF('2b - Gesellschaft'!D61<>\"\",'2b - Gesellschaft'!D61,\"\")","v":""},{"$f":"IF('2b - Gesellschaft'!E61<>\"\",'2b - Gesellschaft'!E61,\"\")","v":""},{"$f":"IF('2b - Gesellschaft'!F61<>\"\",'2b - Gesellschaft'!F61,\"\")","v":""},{"$f":"IF('2b - Gesellschaft'!G61<>\"\",'2b - Gesellschaft'!G61,\"\")","v":""},{"$f":"IF('2b - Gesellschaft'!H61<>\"\",'2b - Gesellschaft'!H61,\"\")","v":""},{"$f":"IF('2b - Gesellschaft'!I61<>\"\",'2b - Gesellschaft'!I61,\"\")","v":""},{"$f":"IF('2b - Gesellschaft'!J61<>\"\",'2b - Gesellschaft'!J61,\"\")","v":""},{"$f":"IF('2b - Gesellschaft'!K61<>\"\",'2b - Gesellschaft'!K61,\"\")","v":""},{"$f":"IF('2b - Gesellschaft'!L61<>\"\",'2b - Gesellschaft'!L61,\"\")","v":""},{"$f":"IF('2b - Gesellschaft'!M61<>\"\",'2b - Gesellschaft'!M61,\"\")","v":""},{"$f":"IF('2b - Gesellschaft'!N61<>\"\",'2b - Gesellschaft'!N61,\"\")","v":""}]

{"sheet":"D - Umwelt","index":19,"n_rows":61,"n_cols":14,"rows_kept":61,"hidden":true,"merged":[[10,4,11,4],[10,13,12,13],[15,4,16,4],[15,13,17,13],[16,2,17,2],[20,4,21,4],[20,13,22,13],[21,2,22,2],[25,4,26,4],[25,13,27,13],[26,2,27,2],[30,4,31,4],[30,13,32,13],[35,4,36,4],[35,13,37,13],[36,2,37,2],[40,4,41,4],[40,13,42,13],[41,2,42,2],[45,4,46,4],[45,13,47,13],[46,2,47,2],[50,4,51,4],[50,13,52,13],[51,2,52,2],[55,4,56,4],[55,13,57,13],[56,2,57,2],[60,1,60,13]]}
[]
[null,{"$f":"'2c - Umwelt'!B2","v":"Detailabklärungen Dimension Umwelt"}]
[null,"Frage: Welche Auswirkungen hat das Vorhaben auf die Themenbereiche der Dimension Umwelt?"]
[]
[]
[null,{"$f":"'2c - Umwelt'!B6","v":"Nr."},{"$f":"'2c - Umwelt'!C6","v":"Teilfrage"},null,{"$f":"'2c - Umwelt'!E6","v":"Keine"},{"$f":"'2c - Umwelt'!F6","v":"Kurzfristig"},{"$nulls":7},{"$f":"'2c - Umwelt'!N6","v":"Bemerkungen"}]
[{"$nulls":4},{"$f":"'2c - Umwelt'!E7","v":"Relevanz"},{"$f":"'2c - Umwelt'!F7","v":"Langfristig"}]
[{"$nulls":5},{"$f":"'2c - Umwelt'!F8","v":-3},{"$f":"'2c - Umwelt'!G8","v":-2},{"$f":"'2c - Umwelt'!H8","v":-1},{"$f":"'2c - Umwelt'!I8","v":0},{"$f":"'2c - Umwelt'!J8","v":1},{"$f":"'2c - Umwelt'!K8","v":2},{"$f":"'2c - Umwelt'!L8","v":3}]
[]
[]
[null,{"$f":"'2c - Umwelt'!B11","v":"1."},{"$f":"'2c - Umwelt'!C11","v":"Bodenverbrauch durch"},null,{"$f":"IF('2c - Umwelt'!E11<>\"\",'2c - Umwelt'!E11,\"\")","v":""},{"$f":"IF('2c - Umwelt'!F11<>\"\",'2c - Umwelt'!F11,\"\")","v":""},{"$f":"IF('2c - Umwelt'!G11<>\"\",'2c - Umwelt'!G11,\"\")","v":""},{"$f":"IF('2c - Umwelt'!H11<>\"\",'2c - Umwelt'!H11,\"\")","v":""},{"$f":"IF('2c - Umwelt'!I11<>\"\",'2c - Umwelt'!I11,\"\")","v":""},{"$f":"IF('2c - Umwelt'!J11<>\"\",'2c - Umwelt'!J11,\"\")","v":""},{"$f":"IF('2c - Umwelt'!K11<>\"\",'2c - Umwelt'!K11,\"\")","v":""},{"$f":"IF('2c - Umwelt'!L11<>\"\",'2c - Umwelt'!L11,\"\")","v":""},null,{"$f":"IF('2c - Umwelt'!N11<>\"\",'2c - Umwelt'!N11,\"\")","v":""}]
[null,null,{"$f":"'2c - Umwelt'!C12","v":"Siedlungsentwicklung"},null,{"$f":"IF('2c - Umwelt'!E12<>\"\",'2c - Umwelt'!E12,\"\")","v":""},{"$f":"IF('2c - Umwelt'!F12<>\"\",'2c - Umwelt'!F12,\"\")","v":""},{"$f":"IF('2c - Umwelt'!G12<>\"\",'2c - Umwelt'!G12,\"\")","v":""},{"$f":"IF('2c - Umwelt'!H12<>\"\",'2c - Umwelt'!H12,\"\")","v":""},{"$f":"IF('2c - Umwelt'!I12<>\"\",'2c - Umwelt'!I12,\"\")","v":""},{"$f":"IF('2c - Umwelt'!J12<>\"\",'2c - Umwelt'!J12,\"\")","v":""},{"$f":"IF('2c - Umwelt'!K12<>\"\",'2c - Umwelt'!K12,\"\")","v":""},{"$f":"IF('2c - Umwelt'!L12<>\"\",'2c - Umwelt'!L12,\"\")","v":""},null,{"$f":"IF('2c - Umwelt'!N12<>\"\",'2c - Umwelt'!N12,\"\")","v":""}]
[null,null,{"$f":"'2c - Umwelt'!C13","v":"Das Vorhaben fördert den haushälterischen Umgang mit dem Boden (z.B. durch qualitative Siedlungsentwicklung nach Innen) und reduziert die Zersiedlung.\n\n\n"},{"$nulls":10},{"$f":"IF('2c - Umwelt'!N13<>\"\",'2c - Umwelt'!N13,\"\")","v":""}]
[]
[]
[null,{"$f":"'2c - Umwelt'!B16","v":"2."},{"$f":"'2c - Umwelt'!C16","v":"Bodenqualität"},null,{"$f":"IF('2c - Umwelt'!E16<>\"\",'2c - Umwelt'!E16,\"\")","v":""},{"$f":"IF('2c - Umwelt'!F16<>\"\",'2c - Umwelt'!F16,\"\")","v":""},{"$f":"IF('2c - Umwelt'!G16<>\"\",'2c - Umwelt'!G16,\"\")","v":""},{"$f":"IF('2c - Umwelt'!H16<>\"\",'2c - Umwelt'!H16,\"\")","v":""},{"$f":"IF('2c - Umwelt'!I16<>\"\",'2c - Umwelt'!I16,\"\")","v":""},{"$f":"IF('2c - Umwelt'!J16<>\"\",'2c - Umwelt'!J16,\"\")","v":""},{"$f":"IF('2c - Umwelt'!K16<>\"\",'2c - Umwelt'!K16,\"\")","v":""},{"$f":"IF('2c - Umwelt'!L16<>\"\",'2c - Umwelt'!L16,\"\")","v":""},null,{"$f":"IF('2c - Umwelt'!N16<>\"\",'2c - Umwelt'!N16,\"\")","v":""}]
[null,null,{"$f":"'2c - Umwelt'!C17","v":"Das Vorhaben sichert und verbessert die Bodenfruchtbarkeit."},null,{"$f":"IF('2c - Umwelt'!E17<>\"\",'2c - Umwelt'!E17,\"\")","v":""},{"$f":"IF('2c - Umwelt'!F17<>\"\",'2c - Umwelt'!F17,\"\")","v":""},{"$f":"IF('2c - Umwelt'!G17<>\"\",'2c - Umwelt'!G17,\"\")","v":""},{"$f":"IF('2c - Umwelt'!H17<>\"\",'2c - Umwelt'!H17,\"\")","v":""},{"$f":"IF('2c - Umwelt'!I17<>\"\",'2c - Umwelt'!I17,\"\")","v":""},{"$f":"IF('2c - Umwelt'!J17<>\"\",'2c - Umwelt'!J17,\"\")","v":""},{"$f":"IF('2c - Umwelt'!K17<>\"\",'2c - Umwelt'!K17,\"\")","v":""},{"$f":"IF('2c - Umwelt'!L17<>\"\",'2c - Umwelt'!L17,\"\")","v":""},null,{"$f":"IF('2c - Umwelt'!N17<>\"\",'2c - Umwelt'!N17,\"\")","v":""}]
[null,null,{"$f":"'2c - Umwelt'!C18","v":0},{"$nulls":10},{"$f":"IF('2c - Umwelt'!N18<>\"\",'2c - Umwelt'!N18,\"\")","v":""}]
[]
[]
[null,{"$f":"'2c - Umwelt'!B21","v":"3."},{"$f":"'2c - Umwelt'!C21","v":"Wasserqualität"},null,{"$f":"IF('2c - Umwelt'!E21<>\"\",'2c - Umwelt'!E21,\"\")","v":""},{"$f":"IF('2c - Umwelt'!F21<>\"\",'2c - Umwelt'!F21,\"\")","v":""},{"$f":"IF('2c - Umwelt'!G21<>\"\",'2c - Umwelt'!G21,\"\")","v":""},{"$f":"IF('2c - Umwelt'!H21<>\"\",'2c - Umwelt'!H21,\"\")","v":""},{"$f":"IF('2c - Umwelt'!I21<>\"\",'2c - Umwelt'!I21,\"\")","v":""},{"$f":"IF('2c - Umwelt'!J21<>\"\",'2c - Umwelt'!J21,\"\")","v":""},{"$f":"IF('2c - Umwelt'!K21<>\"\",'2c - Umwelt'!K21,\"\")","v":""},{"$f":"IF('2c - Umwelt'!L21<>\"\",'2c - Umwelt'!L21,\"\")","v":""},null,{"$f":"IF('2c - Umwelt'!N21<>\"\",'2c - Umwelt'!N21,\"\")","v":""}]
[null,null,{"$f":"'2c - Umwelt'!C22","v":"Das Vorhaben sichert und verbessert die Wasserqualität von Grundwasser und Oberflächengewässer."},null,{"$f":"IF('2c - Umwelt'!E22<>\"\",'2c - Umwelt'!E22,\"\")","v":""},{"$f":"IF('2c - Umwelt'!F22<>\"\",'2c - Umwelt'!F22,\"\")","v":""},{"$f":"IF('2c - Umwelt'!G22<>\"\",'2c - Umwelt'!G22,\"\")","v":""},{"$f":"IF('2c - Umwelt'!H22<>\"\",'2c - Umwelt'!H22,\"\")","v":""},{"$f":"IF('2c - Umwelt'!I22<>\"\",'2c - Umwelt'!I22,\"\")","v":""},{"$f":"IF('2c - Umwelt'!J22<>\"\",'2c - Umwelt'!J22,\"\")","v":""},{"$f":"IF('2c - Umwelt'!K22<>\"\",'2c - Umwelt'!K22,\"\")","v":""},{"$f":"IF('2c - Umwelt'!L22<>\"\",'2c - Umwelt'!L22,\"\")","v":""},null,{"$f":"IF('2c - Umwelt'!N22<>\"\",'2c - Umwelt'!N22,\"\")","v":""}]
[null,null,{"$f":"'2c - Umwelt'!C23","v":0},{"$nulls":10},{"$f":"IF('2c - Umwelt'!N23<>\"\",'2c - Umwelt'!N23,\"\")","v":""}]
[]
[]
[null,{"$f":"'2c - Umwelt'!B26","v":"4."},{"$f":"'2c - Umwelt'!C26","v":"Luftqualität"},null,{"$f":"IF('2c - Umwelt'!E26<>\"\",'2c - Umwelt'!E26,\"\")","v":""},{"$f":"IF('2c - Umwelt'!F26<>\"\",'2c - Umwelt'!F26,\"\")","v":""},{"$f":"IF('2c - Umwelt'!G26<>\"\",'2c - Umwelt'!G26,\"\")","v":""},{"$f":"IF('2c - Umwelt'!H26<>\"\",'2c - Umwelt'!H26,\"\")","v":""},{"$f":"IF('2c - Umwelt'!I26<>\"\",'2c - Umwelt'!I26,\"\")","v":""},{"$f":"IF('2c - Umwelt'!J26<>\"\",'2c - Umwelt'!J26,\"\")","v":""},{"$f":"IF('2c - Umwelt'!K26<>\"\",'2c - Umwelt'!K26,\"\")","v":""},{"$f":"IF('2c - Umwelt'!L26<>\"\",'2c - Umwelt'!L26,\"\")","v":""},null,{"$f":"IF('2c - Umwelt'!N26<>\"\",'2c - Umwelt'!N26,\"\")","v":""}]
[null,null,{"$f":"'2c - Umwelt'!C27","v":"Das Vorhaben sichert und verbessert die Luftqualität."},null,{"$f":"IF('2c - Umwelt'!E27<>\"\",'2c - Umwelt'!E27,\"\")","v":""},{"$f":"IF('2c - Umwelt'!F27<>\"\",'2c - Umwelt'!F27,\"\")","v":""},{"$f":"IF('2c - Umwelt'!G27<>\"\",'2c - Umwelt'!G27,\"\")","v":""},{"$f":"IF('2c - Umwelt'!H27<>\"\",'2c - Umwelt'!H27,\"\")","v":""},{"$f":"IF('2c - Umwelt'!I27<>\"\",'2c - Umwelt'!I27,\"\")","v":""},{"$f":"IF('2c - Umwelt'!J27<>\"\",'2c - Umwelt'!J27,\"\")","v":""},{"$f":"IF('2c - Umwelt'!K27<>\"\",'2c - Umwelt'!K27,\"\")","v":""},{"$f":"IF('2c - Umwelt'!L27<>\"\",'2c - Umwelt'!L27,\"\")","v":""},null,{"$f":"IF('2c - Umwelt'!N27<>\"\",'2c - Umwelt'!N27,\"\")","v":""}]
[null,null,{"$f":"'2c - Umwelt'!C28","v":0},{"$nulls":10},{"$f":"IF('2c - Umwelt'!N28<>\"\",'2c - Umwelt'!N28,\"\")","v":""}]
[]
[]
[null,{"$f":"'2c - Umwelt'!B31","v":"5."},{"$f":"'2c - Umwelt'!C31","v":"Lebensräume für Tiere und Pflanzen,"},null,{"$f":"IF('2c - Umwelt'!E31<>\"\",'2c - Umwelt'!E31,\"\")","v":""},{"$f":"IF('2c - Umwelt'!F31<>\"\",'2c - Umwelt'!F31,\"\")","v":""},{"$f":"IF('2c - Umwelt'!G31<>\"\",'2c - Umwelt'!G31,\"\")","v":""},{"$f":"IF('2c - Umwelt'!H31<>\"\",'2c - Umwelt'!H31,\"\")","v":""},{"$f":"IF('2c - Umwelt'!I31<>\"\",'2c - Umwelt'!I31,\"\")","v":""},{"$f":"IF('2c - Umwelt'!J31<>\"\",'2c - Umwelt'!J31,\"\")","v":""},{"$f":"IF('2c - Umwelt'!K31<>\"\",'2c - Umwelt'!K31,\"\")","v":""},{"$f":"IF('2c - Umwelt'!L31<>\"\",'2c - Umwelt'!L31,\"\")","v":""},null,{"$f":"IF('2c - Umwelt'!N31<>\"\",'2c - Umwelt'!N31,\"\")","v":""}]
[null,null,{"$f":"'2c - Umwelt'!C32","v":"Artenvielfalt"},null,{"$f":"IF('2c - Umwelt'!E32<>\"\",'2c - Umwelt'!E32,\"\")","v":""},{"$f":"IF('2c - Umwelt'!F32<>\"\",'2c - Umwelt'!F32,\"\")","v":""},{"$f":"IF('2c - Umwelt'!G32<>\"\",'2c - Umwelt'!G32,\"\")","v":""},{"$f":"IF('2c - Umwelt'!H32<>\"\",'2c - Umwelt'!H32,\"\")","v":""},{"$f":"IF('2c - Umwelt'!I32<>\"\",'2c - Umwelt'!I32,\"\")","v":""},{"$f":"IF('2c - Umwelt'!J32<>\"\",'2c - Umwelt'!J32,\"\")","v":""},{"$f":"IF('2c - Umwelt'!K32<>\"\",'2c - Umwelt'!K32,\"\")","v":""},{"$f":"IF('2c - Umwelt'!L32<>\"\",'2c - Umwelt'!L32,\"\")","v":""},null,{"$f":"IF('2c - Umwelt'!N32<>\"\",'2c - Umwelt'!N32,\"\")","v":""}]
[null,null,{"$f":"'2c - Umwelt'!C33","v":"Das Vorhaben sichert und fördert die ökologisch wertvollen Lebensräume für Tiere und Pflanzen (Qualität und Quantität) und die biologische Vielfalt."},{"$nulls":10},{"$f":"IF('2c - Umwelt'!N33<>\"\",'2c - Umwelt'!N33,\"\")","v":""}]
[]
[]
[null,{"$f":"'2c - Umwelt'!B36","v":"6."},{"$f":"'2c - Umwelt'!C36","v":"Landschaft"},null,{"$f":"IF('2c - Umwelt'!E36<>\"\",'2c - Umwelt'!E36,\"\")","v":""},{"$f":"IF('2c - Umwelt'!F36<>\"\",'2c - Umwelt'!F36,\"\")","v":""},{"$f":"IF('2c - Umwelt'!G36<>\"\",'2c - Umwelt'!G36,\"\")","v":""},{"$f":"IF('2c - Umwelt'!H36<>\"\",'2c - Umwelt'!H36,\"\")","v":""},{"$f":"IF('2c - Umwelt'!I36<>\"\",'2c - Umwelt'!I36,\"\")","v":""},{"$f":"IF('2c - Umwelt'!J36<>\"\",'2c - Umwelt'!J36,\"\")","v":""},{"$f":"IF('2c - Umwelt'!K36<>\"\",'2c - Umwelt'!K36,\"\")","v":""},{"$f":"IF('2c - Umwelt'!L36<>\"\",'2c - Umwelt'!L36,\"\")","v":""},null,{"$f":"IF('2c - Umwelt'!N36<>\"\",'2c - Umwelt'!N36,\"\")","v":""}]
[null,null,{"$f":"'2c - Umwelt'!C37","v":"Das Vorhaben fördert vielfältige Landschaften von hoher Qualität und vermindert die Zerschneidung."},null,{"$f":"IF('2c - Umwelt'!E37<>\"\",'2c - Umwelt'!E37,\"\")","v":""},{"$f":"IF('2c - Umwelt'!F37<>\"\",'2c - Umwelt'!F37,\"\")","v":""},{"$f":"IF('2c - Umwelt'!G37<>\"\",'2c - Umwelt'!G37,\"\")","v":""},{"$f":"IF('2c - Umwelt'!H37<>\"\",'2c - Umwelt'!H37,\"\")","v":""},{"$f":"IF('2c - Umwelt'!I37<>\"\",'2c - Umwelt'!I37,\"\")","v":""},{"$f":"IF('2c - Umwelt'!J37<>\"\",'2c - Umwelt'!J37,\"\")","v":""},{"$f":"IF('2c - Umwelt'!K37<>\"\",'2c - Umwelt'!K37,\"\")","v":""},{"$f":"IF('2c - Umwelt'!L37<>\"\",'2c - Umwelt'!L37,\"\")","v":""},null,{"$f":"IF('2c - Umwelt'!N37<>\"\",'2c - Umwelt'!N37,\"\")","v":""}]
[null,null,{"$f":"'2c - Umwelt'!C38","v":0},{"$nulls":10},{"$f":"IF('2c - Umwelt'!N38<>\"\",'2c - Umwelt'!N38,\"\")","v":""}]
[]
[]
[null,{"$f":"'2c - Umwelt'!B41","v":"7."},{"$f":"'2c - Umwelt'!C41","v":"Landwirtschaft und Wald"},null,{"$f":"IF('2c - Umwelt'!E41<>\"\",'2c - Umwelt'!E41,\"\")","v":""},{"$f":"IF('2c - Umwelt'!F41<>\"\",'2c - Umwelt'!F41,\"\")","v":""},{"$f":"IF('2c - Umwelt'!G41<>\"\",'2c - Umwelt'!G41,\"\")","v":""},{"$f":"IF('2c - Umwelt'!H41<>\"\",'2c - Umwelt'!H41,\"\")","v":""},{"$f":"IF('2c - Umwelt'!I41<>\"\",'2c - Umwelt'!I41,\"\")","v":""},{"$f":"IF('2c - Umwelt'!J41<>\"\",'2c - Umwelt'!J41,\"\")","v":""},{"$f":"IF('2c - Umwelt'!K41<>\"\",'2c - Umwelt'!K41,\"\")","v":""},{"$f":"IF('2c - Umwelt'!L41<>\"\",'2c - Umwelt'!L41,\"\")","v":""},null,{"$f":"IF('2c - Umwelt'!N41<>\"\",'2c - Umwelt'!N41,\"\")","v":""}]
[null,null,{"$f":"'2c - Umwelt'!C42","v":"Das Vorhaben sichert und fördert die landwirtschaftliche Fläche und Waldfläche sowie deren ökologische Qualität."},null,{"$f":"IF('2c - Umwelt'!E42<>\"\",'2c - Umwelt'!E42,\"\")","v":""},{"$f":"IF('2c - Umwelt'!F42<>\"\",'2c - Umwelt'!F42,\"\")","v":""},{"$f":"IF('2c - Umwelt'!G42<>\"\",'2c - Umwelt'!G42,\"\")","v":""},{"$f":"IF('2c - Umwelt'!H42<>\"\",'2c - Umwelt'!H42,\"\")","v":""},{"$f":"IF('2c - Umwelt'!I42<>\"\",'2c - Umwelt'!I42,\"\")","v":""},{"$f":"IF('2c - Umwelt'!J42<>\"\",'2c - Umwelt'!J42,\"\")","v":""},{"$f":"IF('2c - Umwelt'!K42<>\"\",'2c - Umwelt'!K42,\"\")","v":""},{"$f":"IF('2c - Umwelt'!L42<>\"\",'2c - Umwelt'!L42,\"\")","v":""},null,{"$f":"IF('2c - Umwelt'!N42<>\"\",'2c - Umwelt'!N42,\"\")","v":""}]
[null,null,{"$f":"'2c - Umwelt'!C43","v":0},{"$nulls":10},{"$f":"IF('2c - Umwelt'!N43<>\"\",'2c - Umwelt'!N43,\"\")","v":""}]
[]
[]
[null,{"$f":"'2c - Umwelt'!B46","v":"8."},{"$f":"'2c - Umwelt'!C46","v":"Energie und Klima"},null,{"$f":"IF('2c - Umwelt'!E46<>\"\",'2c - Umwelt'!E46,\"\")","v":""},{"$f":"IF('2c - Umwelt'!F46<>\"\",'2c - Umwelt'!F46,\"\")","v":""},{"$f":"IF('2c - Umwelt'!G46<>\"\",'2c - Umwelt'!G46,\"\")","v":""},{"$f":"IF('2c - Umwelt'!H46<>\"\",'2c - Umwelt'!H46,\"\")","v":""},{"$f":"IF('2c - Umwelt'!I46<>\"\",'2c - Umwelt'!I46,\"\")","v":""},{"$f":"IF('2c - Umwelt'!J46<>\"\",'2c - Umwelt'!J46,\"\")","v":""},{"$f":"IF('2c - Umwelt'!K46<>\"\",'2c - Umwelt'!K46,\"\")","v":""},{"$f":"IF('2c - Umwelt'!L46<>\"\",'2c - Umwelt'!L46,\"\")","v":""},null,{"$f":"IF('2c - Umwelt'!N46<>\"\",'2c - Umwelt'!N46,\"\")","v":""}]
[null,null,{"$f":"'2c - Umwelt'!C47","v":"Das Vorhaben fördert den sparsamen und effizienten Einsatz der Energie, unterstützt neue erneuerbare Energien und reduziert den CO2-Ausstoss.\n"},null,{"$f":"IF('2c - Umwelt'!E47<>\"\",'2c - Umwelt'!E47,\"\")","v":""},{"$f":"IF('2c - Umwelt'!F47<>\"\",'2c - Umwelt'!F47,\"\")","v":""},{"$f":"IF('2c - Umwelt'!G47<>\"\",'2c - Umwelt'!G47,\"\")","v":""},{"$f":"IF('2c - Umwelt'!H47<>\"\",'2c - Umwelt'!H47,\"\")","v":""},{"$f":"IF('2c - Umwelt'!I47<>\"\",'2c - Umwelt'!I47,\"\")","v":""},{"$f":"IF('2c - Umwelt'!J47<>\"\",'2c - Umwelt'!J47,\"\")","v":""},{"$f":"IF('2c - Umwelt'!K47<>\"\",'2c - Umwelt'!K47,\"\")","v":""},{"$f":"IF('2c - Umwelt'!L47<>\"\",'2c - Umwelt'!L47,\"\")","v":""},null,{"$f":"IF('2c - Umwelt'!N47<>\"\",'2c - Umwelt'!N47,\"\")","v":""}]
[null,null,{"$f":"'2c - Umwelt'!C48","v":0},{"$nulls":10},{"$f":"IF('2c - Umwelt'!N48<>\"\",'2c - Umwelt'!N48,\"\")","v":""}]
[]
[]
[null,{"$f":"'2c - Umwelt'!B51","v":"9."},{"$f":"'2c - Umwelt'!C51","v":"Verkehr"},null,{"$f":"IF('2c - Umwelt'!E51<>\"\",'2c - Umwelt'!E51,\"\")","v":""},{"$f":"IF('2c - Umwelt'!F51<>\"\",'2c - Umwelt'!F51,\"\")","v":""},{"$f":"IF('2c - Umwelt'!G51<>\"\",'2c - Umwelt'!G51,\"\")","v":""},{"$f":"IF('2c - Umwelt'!H51<>\"\",'2c - Umwelt'!H51,\"\")","v":""},{"$f":"IF('2c - Umwelt'!I51<>\"\",'2c - Umwelt'!I51,\"\")","v":""},{"$f":"IF('2c - Umwelt'!J51<>\"\",'2c - Umwelt'!J51,\"\")","v":""},{"$f":"IF('2c - Umwelt'!K51<>\"\",'2c - Umwelt'!K51,\"\")","v":""},{"$f":"IF('2c - Umwelt'!L51<>\"\",'2c - Umwelt'!L51,\"\")","v":""},null,{"$f":"IF('2c - Umwelt'!N51<>\"\",'2c - Umwelt'!N51,\"\")","v":""}]
[null,null,{"$f":"'2c - Umwelt'!C52","v":"Das Vorhaben vermindert die Zuwachsrate der Gesamtverkehrsleistung, insbesondere des Strassenverkehrs. Es fördert den Umstieg auf den öffentlichen Verkehr (z.B. durch Angebotsausbau) und auf den Velo- und Fussverkehr. \n\n"},null,{"$f":"IF('2c - Umwelt'!E52<>\"\",'2c - Umwelt'!E52,\"\")","v":""},{"$f":"IF('2c - Umwelt'!F52<>\"\",'2c - Umwelt'!F52,\"\")","v":""},{"$f":"IF('2c - Umwelt'!G52<>\"\",'2c - Umwelt'!G52,\"\")","v":""},{"$f":"IF('2c - Umwelt'!H52<>\"\",'2c - Umwelt'!H52,\"\")","v":""},{"$f":"IF('2c - Umwelt'!I52<>\"\",'2c - Umwelt'!I52,\"\")","v":""},{"$f":"IF('2c - Umwelt'!J52<>\"\",'2c - Umwelt'!J52,\"\")","v":""},{"$f":"IF('2c - Umwelt'!K52<>\"\",'2c - Umwelt'!K52,\"\")","v":""},{"$f":"IF('2c - Umwelt'!L52<>\"\",'2c - Umwelt'!L52,\"\")","v":""},null,{"$f":"IF('2c - Umwelt'!N52<>\"\",'2c - Umwelt'!N52,\"\")","v":""}]
[null,null,{"$f":"'2c - Umwelt'!C53","v":0},{"$nulls":10},{"$f":"IF('2c - Umwelt'!N53<>\"\",'2c - Umwelt'!N53,\"\")","v":""}]
[]
[]
[null,{"$f":"'2c - Umwelt'!B56","v":"10."},{"$f":"'2c - Umwelt'!C56","v":"Abfälle und einheimische Rohstoffe"},null,{"$f":"IF('2c - Umwelt'!E56<>\"\",'2c - Umwelt'!E56,\"\")","v":""},{"$f":"IF('2c - Umwelt'!F56<>\"\",'2c - Umwelt'!F56,\"\")","v":""},{"$f":"IF('2c - Umwelt'!G56<>\"\",'2c - Umwelt'!G56,\"\")","v":""},{"$f":"IF('2c - Umwelt'!H56<>\"\",'2c - Umwelt'!H56,\"\")","v":""},{"$f":"IF('2c - Umwelt'!I56<>\"\",'2c - Umwelt'!I56,\"\")","v":""},{"$f":"IF('2c - Umwelt'!J56<>\"\",'2c - Umwelt'!J56,\"\")","v":""},{"$f":"IF('2c - Umwelt'!K56<>\"\",'2c - Umwelt'!K56,\"\")","v":""},{"$f":"IF('2c - Umwelt'!L56<>\"\",'2c - Umwelt'!L56,\"\")","v":""},null,{"$f":"IF('2c - Umwelt'!N56<>\"\",'2c - Umwelt'!N56,\"\")","v":""}]
[null,null,{"$f":"'2c - Umwelt'!C57","v":"Das Vorhaben fördert den haushälterischen Umgang mit Rohstoffen. Es reduziert die Menge Siedlungsabfälle und erhöht den Anteil der Separatsammlungen."},null,{"$f":"IF('2c - Umwelt'!E57<>\"\",'2c - Umwelt'!E57,\"\")","v":""},{"$f":"IF('2c - Umwelt'!F57<>\"\",'2c - Umwelt'!F57,\"\")","v":""},{"$f":"IF('2c - Umwelt'!G57<>\"\",'2c - Umwelt'!G57,\"\")","v":""},{"$f":"IF('2c - Umwelt'!H57<>\"\",'2c - Umwelt'!H57,\"\")","v":""},{"$f":"IF('2c - Umwelt'!I57<>\"\",'2c - Umwelt'!I57,\"\")","v":""},{"$f":"IF('2c - Umwelt'!J57<>\"\",'2c - Umwelt'!J57,\"\")","v":""},{"$f":"IF('2c - Umwelt'!K57<>\"\",'2c - Umwelt'!K57,\"\")","v":""},{"$f":"IF('2c - Umwelt'!L57<>\"\",'2c - Umwelt'!L57,\"\")","v":""},null,{"$f":"IF('2c - Umwelt'!N57<>\"\",'2c - Umwelt'!N57,\"\")","v":""}]
[null,null,{"$f":"'2c - Umwelt'!C58","v":0},{"$nulls":10},{"$f":"IF('2c - Umwelt'!N58<>\"\",'2c - Umwelt'!N58,\"\")","v":""}]
[]
[null,{"$f":"'2c - Umwelt'!B60","v":"Fazit Umwelt"}]
[null,{"$f":"IF('2c - Umwelt'!B61<>\"\",'2c - Umwelt'!B61,\"\")","v":""},{"$f":"IF('2c - Umwelt'!C61<>\"\",'2c - Umwelt'!C61,\"\")","v":""},{"$f":"IF('2c - Umwelt'!D61<>\"\",'2c - Umwelt'!D61,\"\")","v":""},{"$f":"IF('2c - Umwelt'!E61<>\"\",'2c - Umwelt'!E61,\"\")","v":""},{"$f":"IF('2c - Umwelt'!F61<>\"\",'2c - Umwelt'!F61,\"\")","v":""},{"$f":"IF('2c - Umwelt'!G61<>\"\",'2c - Umwelt'!G61,\"\")","v":""},{"$f":"IF('2c - Umwelt'!H61<>\"\",'2c - Umwelt'!H61,\"\")","v":""},{"$f":"IF('2c - Umwelt'!I61<>\"\",'2c - Umwelt'!I61,\"\")","v":""},{"$f":"IF('2c - Umwelt'!J61<>\"\",'2c - Umwelt'!J61,\"\")","v":""},{"$f":"IF('2c - Umwelt'!K61<>\"\",'2c - Umwelt'!K61,\"\")","v":""},{"$f":"IF('2c - Umwelt'!L61<>\"\",'2c - Umwelt'!L61,\"\")","v":""},{"$f":"IF('2c - Umwelt'!M61<>\"\",'2c - Umwelt'!M61,\"\")","v":""},{"$f":"IF('2c - Umwelt'!N61<>\"\",'2c - Umwelt'!N61,\"\")","v":""}]

{"sheet":"D - Leitsaetze","index":20,"n_rows":53,"n_cols":14,"rows_kept":53,"hidden":true,"merged":[[12,13,13,13],[16,13,17,13],[20,13,21,13],[24,13,25,13],[40,13,41,13],[52,1,52,13]]}
[]
[null,{"$f":"'3a - Leitsaetze'!B2","v":"Leitsätze Nachhaltigkeit"}]
[null,"Frage: Werden die folgenden Leitsätze einer nachhaltigen Entwicklung im Prozess und bei der Umsetzung des Vorhabens "]
[null,"Frage: berücksichtigt?"]
[]
[null,{"$f":"'3a - Leitsaetze'!B6","v":"A. Prozess"}]
[]
[]
[null,{"$f":"'3a - Leitsaetze'!B9","v":"Nr."},{"$f":"'3a - Leitsaetze'!C9","v":"Teilfrage"},null,{"$f":"'3a - Leitsaetze'!E9","v":"Keine"},{"$f":"'3a - Leitsaetze'!F9","v":"Einschätzung"},{"$nulls":7},{"$f":"'3a - Leitsaetze'!N9","v":"Bemerkungen"}]
[{"$nulls":4},{"$f":"'3a - Leitsaetze'!E10","v":"Antwort"},{"$f":"'3a - Leitsaetze'!F10","v":-3},{"$f":"'3a - Leitsaetze'!G10","v":-2},{"$f":"'3a - Leitsaetze'!H10","v":-1},{"$f":"'3a - Leitsaetze'!I10","v":0},{"$f":"'3a - Leitsaetze'!J10","v":1},{"$f":"'3a - Leitsaetze'!K10","v":2},{"$f":"'3a - Leitsaetze'!L10","v":3}]
[]
[]
[null,{"$f":"'3a - Leitsaetze'!B13","v":"1."},{"$f":"'3a - Leitsaetze'!C13","v":"Transparenz"},null,{"$f":"IF('3a - Leitsaetze'!E13<>\"\",'3a - Leitsaetze'!E13,\"\")","v":""},{"$f":"IF('3a - Leitsaetze'!F13<>\"\",'3a - Leitsaetze'!F13,\"\")","v":""},{"$f":"IF('3a - Leitsaetze'!G13<>\"\",'3a - Leitsaetze'!G13,\"\")","v":""},{"$f":"IF('3a - Leitsaetze'!H13<>\"\",'3a - Leitsaetze'!H13,\"\")","v":""},{"$f":"IF('3a - Leitsaetze'!I13<>\"\",'3a - Leitsaetze'!I13,\"\")","v":""},{"$f":"IF('3a - Leitsaetze'!J13<>\"\",'3a - Leitsaetze'!J13,\"\")","v":""},{"$f":"IF('3a - Leitsaetze'!K13<>\"\",'3a - Leitsaetze'!K13,\"\")","v":""},{"$f":"IF('3a - Leitsaetze'!L13<>\"\",'3a - Leitsaetze'!L13,\"\")","v":""},null,{"$f":"IF('3a - Leitsaetze'!N13<>\"\",'3a - Leitsaetze'!N13,\"\")","v":""}]
[null,null,{"$f":"'3a - Leitsaetze'!C14","v":"Ist der Prozess, inkl. alle Verfahrensschritte für alle betroffenen Anspruchsgruppen transparent? "},{"$nulls":10},{"$f":"IF('3a - Leitsaetze'!N14<>\"\",'3a - Leitsaetze'!N14,\"\")","v":""}]
[]
[]
[null,{"$f":"'3a - Leitsaetze'!B17","v":"2."},{"$f":"'3a - Leitsaetze'!C17","v":"Repräsentativität und Partizipation"},null,{"$f":"IF('3a - Leitsaetze'!E17<>\"\",'3a - Leitsaetze'!E17,\"\")","v":""},{"$f":"IF('3a - Leitsaetze'!F17<>\"\",'3a - Leitsaetze'!F17,\"\")","v":""},{"$f":"IF('3a - Leitsaetze'!G17<>\"\",'3a - Leitsaetze'!G17,\"\")","v":""},{"$f":"IF('3a - Leitsaetze'!H17<>\"\",'3a - Leitsaetze'!H17,\"\")","v":""},{"$f":"IF('3a - Leitsaetze'!I17<>\"\",'3a - Leitsaetze'!I17,\"\")","v":""},{"$f":"IF('3a - Leitsaetze'!J17<>\"\",'3a - Leitsaetze'!J17,\"\")","v":""},{"$f":"IF('3a - Leitsaetze'!K17<>\"\",'3a - Leitsaetze'!K17,\"\")","v":""},{"$f":"IF('3a - Leitsaetze'!L17<>\"\",'3a - Leitsaetze'!L17,\"\")","v":""},null,{"$f":"IF('3a - Leitsaetze'!N17<>\"\",'3a - Leitsaetze'!N17,\"\")","v":""}]
[null,null,{"$f":"'3a - Leitsaetze'!C18","v":"Haben alle betroffenen Anspruchsgruppen angemessene Möglichkeit zur Mitwirkung? "},{"$nulls":10},{"$f":"IF('3a - Leitsaetze'!N18<>\"\",'3a - Leitsaetze'!N18,\"\")","v":""}]
[]
[]
[null,{"$f":"'3a - Leitsaetze'!B21","v":"3."},{"$f":"'3a - Leitsaetze'!C21","v":"Optimierungsprinzip"},null,{"$f":"IF('3a - Leitsaetze'!E21<>\"\",'3a - Leitsaetze'!E21,\"\")","v":""},{"$f":"IF('3a - Leitsaetze'!F21<>\"\",'3a - Leitsaetze'!F21,\"\")","v":""},{"$f":"IF('3a - Leitsaetze'!G21<>\"\",'3a - Leitsaetze'!G21,\"\")","v":""},{"$f":"IF('3a - Leitsaetze'!H21<>\"\",'3a - Leitsaetze'!H21,\"\")","v":""},{"$f":"IF('3a - Leitsaetze'!I21<>\"\",'3a - Leitsaetze'!I21,\"\")","v":""},{"$f":"IF('3a - Leitsaetze'!J21<>\"\",'3a - Leitsaetze'!J21,\"\")","v":""},{"$f":"IF('3a - Leitsaetze'!K21<>\"\",'3a - Leitsaetze'!K21,\"\")","v":""},{"$f":"IF('3a - Leitsaetze'!L21<>\"\",'3a - Leitsaetze'!L21,\"\")","v":""},null,{"$f":"IF('3a - Leitsaetze'!N21<>\"\",'3a - Leitsaetze'!N21,\"\")","v":""}]
[null,null,{"$f":"'3a - Leitsaetze'!C22","v":"Wird die bestmögliche Lösung angestrebt (Einsatz neuster Erkenntnisse, Berücksichtigung von Best Practice-Beispielen, Win-Win-Lösungen etc.)?"},{"$nulls":10},{"$f":"IF('3a - Leitsaetze'!N22<>\"\",'3a - Leitsaetze'!N22,\"\")","v":""}]
[]
[]
[null,{"$f":"'3a - Leitsaetze'!B25","v":"4."},{"$f":"'3a - Leitsaetze'!C25","v":"Verursacherprinzip"},null,{"$f":"IF('3a - Leitsaetze'!E25<>\"\",'3a - Leitsaetze'!E25,\"\")","v":""},{"$f":"IF('3a - Leitsaetze'!F25<>\"\",'3a - Leitsaetze'!F25,\"\")","v":""},{"$f":"IF('3a - Leitsaetze'!G25<>\"\",'3a - Leitsaetze'!G25,\"\")","v":""},{"$f":"IF('3a - Leitsaetze'!H25<>\"\",'3a - Leitsaetze'!H25,\"\")","v":""},{"$f":"IF('3a - Leitsaetze'!I25<>\"\",'3a - Leitsaetze'!I25,\"\")","v":""},{"$f":"IF('3a - Leitsaetze'!J25<>\"\",'3a - Leitsaetze'!J25,\"\")","v":""},{"$f":"IF('3a - Leitsaetze'!K25<>\"\",'3a - Leitsaetze'!K25,\"\")","v":""},{"$f":"IF('3a - Leitsaetze'!L25<>\"\",'3a - Leitsaetze'!L25,\"\")","v":""},null,{"$f":"IF('3a - Leitsaetze'!N25<>\"\",'3a - Leitsaetze'!N25,\"\")","v":""}]
[null,null,{"$f":"'3a - Leitsaetze'!C26","v":"Wird das Verursacherprinzip berücksichtigt (Internalisierung externer Kosten)? "},{"$nulls":10},{"$f":"IF('3a - Leitsaetze'!N26<>\"\",'3a - Leitsaetze'!N26,\"\")","v":""}]
[]
[]
[]
[null,{"$f":"'3a - Leitsaetze'!B30","v":"B. Umsetzung"}]
[]
[]
[null,{"$f":"'3a - Leitsaetze'!B33","v":"5."},{"$f":"'3a - Leitsaetze'!C33","v":"Starke Nachhaltigkeit"},null,{"$f":"IF('3a - Leitsaetze'!E33<>\"\",'3a - Leitsaetze'!E33,\"\")","v":""},{"$f":"IF('3a - Leitsaetze'!F33<>\"\",'3a - Leitsaetze'!F33,\"\")","v":""},{"$f":"IF('3a - Leitsaetze'!G33<>\"\",'3a - Leitsaetze'!G33,\"\")","v":""},{"$f":"IF('3a - Leitsaetze'!H33<>\"\",'3a - Leitsaetze'!H33,\"\")","v":""},{"$f":"IF('3a - Leitsaetze'!I33<>\"\",'3a - Leitsaetze'!I33,\"\")","v":""},{"$f":"IF('3a - Leitsaetze'!J33<>\"\",'3a - Leitsaetze'!J33,\"\")","v":""},{"$f":"IF('3a - Leitsaetze'!K33<>\"\",'3a - Leitsaetze'!K33,\"\")","v":""},{"$f":"IF('3a - Leitsaetze'!L33<>\"\",'3a - Leitsaetze'!L33,\"\")","v":""},null,{"$f":"IF('3a - Leitsaetze'!N33<>\"\",'3a - Leitsaetze'!N33,\"\")","v":""}]
[null,null,{"$f":"'3a - Leitsaetze'!C34","v":"Werden die wirtschaftlichen, gesellschaftlichen und die ökologischen Ressourcen durch die Umsetzung des Vorhabens vollständig erhalten oder vermehrt?"},{"$nulls":10},{"$f":"IF('3a - Leitsaetze'!N34<>\"\",'3a - Leitsaetze'!N34,\"\")","v":""}]
[]
[]
[null,{"$f":"'3a - Leitsaetze'!B37","v":"6."},{"$f":"'3a - Leitsaetze'!C37","v":"Schwache Nachhaltigkeit plus"},null,{"$f":"IF('3a - Leitsaetze'!E37<>\"\",'3a - Leitsaetze'!E37,\"\")","v":""},{"$f":"IF('3a - Leitsaetze'!F37<>\"\",'3a - Leitsaetze'!F37,\"\")","v":""},{"$f":"IF('3a - Leitsaetze'!G37<>\"\",'3a - Leitsaetze'!G37,\"\")","v":""},{"$f":"IF('3a - Leitsaetze'!H37<>\"\",'3a - Leitsaetze'!H37,\"\")","v":""},{"$f":"IF('3a - Leitsaetze'!I37<>\"\",'3a - Leitsaetze'!I37,\"\")","v":""},{"$f":"IF('3a - Leitsaetze'!J37<>\"\",'3a - Leitsaetze'!J37,\"\")","v":""},{"$f":"IF('3a - Leitsaetze'!K37<>\"\",'3a - Leitsaetze'!K37,\"\")","v":""},{"$f":"IF('3a - Leitsaetze'!L37<>\"\",'3a - Leitsaetze'!L37,\"\")","v":""},null,{"$f":"IF('3a - Leitsaetze'!N37<>\"\",'3a - Leitsaetze'!N37,\"\")","v":""}]
[null,null,{"$f":"'3a - Leitsaetze'!C38","v":"Werden allfällige Verminderungen von Ressourcen in einer Dimension durch eine Vermehrung der Ressourcen in einer anderen Dimension kompensiert? Werden dabei nicht verhandelbare Mindestanforderungen in allen drei Dimensionen berücksichtigt?\n"},{"$nulls":10},{"$f":"IF('3a - Leitsaetze'!N38<>\"\",'3a - Leitsaetze'!N38,\"\")","v":""}]
[]
[]
[null,{"$f":"'3a - Leitsaetze'!B41","v":"7."},{"$f":"'3a - Leitsaetze'!C41","v":"Intergenerationelle Gerechtigkeit"},null,{"$f":"IF('3a - Leitsaetze'!E41<>\"\",'3a - Leitsaetze'!E41,\"\")","v":""},{"$f":"IF('3a - Leitsaetze'!F41<>\"\",'3a - Leitsaetze'!F41,\"\")","v":""},{"$f":"IF('3a - Leitsaetze'!G41<>\"\",'3a - Leitsaetze'!G41,\"\")","v":""},{"$f":"IF('3a - Leitsaetze'!H41<>\"\",'3a - Leitsaetze'!H41,\"\")","v":""},{"$f":"IF('3a - Leitsaetze'!I41<>\"\",'3a - Leitsaetze'!I41,\"\")","v":""},{"$f":"IF('3a - Leitsaetze'!J41<>\"\",'3a - Leitsaetze'!J41,\"\")","v":""},{"$f":"IF('3a - Leitsaetze'!K41<>\"\",'3a - Leitsaetze'!K41,\"\")","v":""},{"$f":"IF('3a - Leitsaetze'!L41<>\"\",'3a - Leitsaetze'!L41,\"\")","v":""},null,{"$f":"IF('3a - Leitsaetze'!N41<>\"\",'3a - Leitsaetze'!N41,\"\")","v":""}]
[null,null,{"$f":"'3a - Leitsaetze'!C42","v":"Werden die Bedürfnisse der heutigen Generation befriedigt, ohne dass künftige Generationen in ihrem Handlungsspielraum eingeschränkt werden?"},{"$nulls":10},{"$f":"IF('3a - Leitsaetze'!N42<>\"\",'3a - Leitsaetze'!N42,\"\")","v":""}]
[]
[]
[null,{"$f":"'3a - Leitsaetze'!B45","v":"8."},{"$f":"'3a - Leitsaetze'!C45","v":"Risikovorsorge"},null,{"$f":"IF('3a - Leitsaetze'!E45<>\"\",'3a - Leitsaetze'!E45,\"\")","v":""},{"$f":"IF('3a - Leitsaetze'!F45<>\"\",'3a - Leitsaetze'!F45,\"\")","v":""},{"$f":"IF('3a - Leitsaetze'!G45<>\"\",'3a - Leitsaetze'!G45,\"\")","v":""},{"$f":"IF('3a - Leitsaetze'!H45<>\"\",'3a - Leitsaetze'!H45,\"\")","v":""},{"$f":"IF('3a - Leitsaetze'!I45<>\"\",'3a - Leitsaetze'!I45,\"\")","v":""},{"$f":"IF('3a - Leitsaetze'!J45<>\"\",'3a - Leitsaetze'!J45,\"\")","v":""},{"$f":"IF('3a - Leitsaetze'!K45<>\"\",'3a - Leitsaetze'!K45,\"\")","v":""},{"$f":"IF('3a - Leitsaetze'!L45<>\"\",'3a - Leitsaetze'!L45,\"\")","v":""},null,{"$f":"IF('3a - Leitsaetze'!N45<>\"\",'3a - Leitsaetze'!N45,\"\")","v":""}]
[null,null,{"$f":"'3a - Leitsaetze'!C46","v":"Werden zukünftige Risiken trotz allfälliger Unsicherheiten bspw. bezüglich deren Ausmass und Wahrscheinlichkeit berücksichtigt?"},{"$nulls":10},{"$f":"IF('3a - Leitsaetze'!N46<>\"\",'3a - Leitsaetze'!N46,\"\")","v":""}]
[]
[]
[null,{"$f":"'3a - Leitsaetze'!B49","v":"9."},{"$f":"'3a - Leitsaetze'!C49","v":"Globalprinzip"},null,{"$f":"IF('3a - Leitsaetze'!E49<>\"\",'3a - Leitsaetze'!E49,\"\")","v":""},{"$f":"IF('3a - Leitsaetze'!F49<>\"\",'3a - Leitsaetze'!F49,\"\")","v":""},{"$f":"IF('3a - Leitsaetze'!G49<>\"\",'3a - Leitsaetze'!G49,\"\")","v":""},{"$f":"IF('3a - Leitsaetze'!H49<>\"\",'3a - Leitsaetze'!H49,\"\")","v":""},{"$f":"IF('3a - Leitsaetze'!I49<>\"\",'3a - Leitsaetze'!I49,\"\")","v":""},{"$f":"IF('3a - Leitsaetze'!J49<>\"\",'3a - Leitsaetze'!J49,\"\")","v":""},{"$f":"IF('3a - Leitsaetze'!K49<>\"\",'3a - Leitsaetze'!K49,\"\")","v":""},{"$f":"IF('3a - Leitsaetze'!L49<>\"\",'3a - Leitsaetze'!L49,\"\")","v":""},null,{"$f":"IF('3a - Leitsaetze'!N49<>\"\",'3a - Leitsaetze'!N49,\"\")","v":""}]
[null,null,{"$f":"'3a - Leitsaetze'!C50","v":"Werden die Bedürfnisse der hier lebenden Menschen durch das Vorhaben befriedigt, ohne dass Umweltbelastungen, wirtschaftliche oder soziale Probleme ins Ausland verlagert werden?"},{"$nulls":10},{"$f":"IF('3a - Leitsaetze'!N50<>\"\",'3a - Leitsaetze'!N50,\"\")","v":""}]
[]
[null,{"$f":"'3a - Leitsaetze'!B52","v":"Fazit Leitsätze"}]
[null,{"$f":"IF('3a - Leitsaetze'!B53<>\"\",'3a - Leitsaetze'!B53,\"\")","v":""},{"$f":"IF('3a - Leitsaetze'!C53<>\"\",'3a - Leitsaetze'!C53,\"\")","v":""},{"$f":"IF('3a - Leitsaetze'!D53<>\"\",'3a - Leitsaetze'!D53,\"\")","v":""},{"$f":"IF('3a - Leitsaetze'!E53<>\"\",'3a - Leitsaetze'!E53,\"\")","v":""},{"$f":"IF('3a - Leitsaetze'!F53<>\"\",'3a - Leitsaetze'!F53,\"\")","v":""},{"$f":"IF('3a - Leitsaetze'!G53<>\"\",'3a - Leitsaetze'!G53,\"\")","v":""},{"$f":"IF('3a - Leitsaetze'!H53<>\"\",'3a - Leitsaetze'!H53,\"\")","v":""},{"$f":"IF('3a - Leitsaetze'!I53<>\"\",'3a - Leitsaetze'!I53,\"\")","v":""},{"$f":"IF('3a - Leitsaetze'!J53<>\"\",'3a - Leitsaetze'!J53,\"\")","v":""},{"$f":"IF('3a - Leitsaetze'!K53<>\"\",'3a - Leitsaetze'!K53,\"\")","v":""},{"$f":"IF('3a - Leitsaetze'!L53<>\"\",'3a - Leitsaetze'!L53,\"\")","v":""},{"$f":"IF('3a - Leitsaetze'!M53<>\"\",'3a - Leitsaetze'!M53,\"\")","v":""},{"$f":"IF('3a - Leitsaetze'!N53<>\"\",'3a - Leitsaetze'!N53,\"\")","v":""}]